BEGIN:VCALENDAR
VERSION:2.0
PRODID:-//Wien für Senior:innen - ECPv6.15.17.1//NONSGML v1.0//EN
CALSCALE:GREGORIAN
METHOD:PUBLISH
X-WR-CALNAME:Wien für Senior:innen
X-ORIGINAL-URL:https://kalender.seniorinnen.wien
X-WR-CALDESC:Veranstaltungen für Wien für Senior:innen
REFRESH-INTERVAL;VALUE=DURATION:PT1H
X-Robots-Tag:noindex
X-PUBLISHED-TTL:PT1H
BEGIN:VTIMEZONE
TZID:Europe/Berlin
BEGIN:DAYLIGHT
TZOFFSETFROM:+0100
TZOFFSETTO:+0200
TZNAME:CEST
DTSTART:20240331T010000
END:DAYLIGHT
BEGIN:STANDARD
TZOFFSETFROM:+0200
TZOFFSETTO:+0100
TZNAME:CET
DTSTART:20241027T010000
END:STANDARD
BEGIN:DAYLIGHT
TZOFFSETFROM:+0100
TZOFFSETTO:+0200
TZNAME:CEST
DTSTART:20250330T010000
END:DAYLIGHT
BEGIN:STANDARD
TZOFFSETFROM:+0200
TZOFFSETTO:+0100
TZNAME:CET
DTSTART:20251026T010000
END:STANDARD
BEGIN:DAYLIGHT
TZOFFSETFROM:+0100
TZOFFSETTO:+0200
TZNAME:CEST
DTSTART:20260329T010000
END:DAYLIGHT
BEGIN:STANDARD
TZOFFSETFROM:+0200
TZOFFSETTO:+0100
TZNAME:CET
DTSTART:20261025T010000
END:STANDARD
END:VTIMEZONE
BEGIN:VEVENT
DTSTART;TZID=Europe/Berlin:20251017T090000
DTEND;TZID=Europe/Berlin:20251017T110000
DTSTAMP:20260420T224221
CREATED:20250831T230057Z
LAST-MODIFIED:20250827T095049Z
UID:8303-1760691600-1760698800@kalender.seniorinnen.wien
SUMMARY:Stolperfalle Mensch? Vermeiden Sie Stürze im Wohnraum
DESCRIPTION:Sie erhalten Tipps und Anregungen\, wie Sie Stolperfallen zu Hause erkennen und richtig einschätzen können. Lernen Sie praktische Übungen für die Verbesserung des Gleichgewichtes kennen sowie Hilfsmittel\, welche den Alltag erleichtern. Der Workshop wird in Kooperation mit Wiener Wohnen\, wohnpartner und dem Kuratorium für Verkehrssicherheit durchgeführt. \nAnmeldung bis 3.10. \nTel.: 05 75 75 75 \nE-Mail: zielgruppen@wrw.wien.gv.at \nFoto: pixabay/PetrPodlesak
URL:https://kalender.seniorinnen.wien/event/stolperfalle-mensch-vermeiden-sie-stuerze-im-wohnraum/
LOCATION:Wohnpartner Grätzl-Zentrum Bassena 10\, Ada Christen-Gasse 2\, Wien\, Wien\, 1100\, Austria
CATEGORIES:Information,Monat der Senior:innen,Sicherheit
ATTACH;FMTTYPE=image/jpeg:https://kalender.seniorinnen.wien/wp-content/uploads/2025/08/living-room-527646_1280-e1756288230192.jpg
END:VEVENT
END:VCALENDAR