BEGIN:VCALENDAR
VERSION:2.0
PRODID:-//Wien für Senior:innen - ECPv6.15.17.1//NONSGML v1.0//EN
CALSCALE:GREGORIAN
METHOD:PUBLISH
X-ORIGINAL-URL:https://kalender.seniorinnen.wien
X-WR-CALDESC:Veranstaltungen für Wien für Senior:innen
REFRESH-INTERVAL;VALUE=DURATION:PT1H
X-Robots-Tag:noindex
X-PUBLISHED-TTL:PT1H
BEGIN:VTIMEZONE
TZID:Europe/Berlin
BEGIN:DAYLIGHT
TZOFFSETFROM:+0100
TZOFFSETTO:+0200
TZNAME:CEST
DTSTART:20230326T010000
END:DAYLIGHT
BEGIN:STANDARD
TZOFFSETFROM:+0200
TZOFFSETTO:+0100
TZNAME:CET
DTSTART:20231029T010000
END:STANDARD
BEGIN:DAYLIGHT
TZOFFSETFROM:+0100
TZOFFSETTO:+0200
TZNAME:CEST
DTSTART:20240331T010000
END:DAYLIGHT
BEGIN:STANDARD
TZOFFSETFROM:+0200
TZOFFSETTO:+0100
TZNAME:CET
DTSTART:20241027T010000
END:STANDARD
BEGIN:DAYLIGHT
TZOFFSETFROM:+0100
TZOFFSETTO:+0200
TZNAME:CEST
DTSTART:20250330T010000
END:DAYLIGHT
BEGIN:STANDARD
TZOFFSETFROM:+0200
TZOFFSETTO:+0100
TZNAME:CET
DTSTART:20251026T010000
END:STANDARD
BEGIN:DAYLIGHT
TZOFFSETFROM:+0100
TZOFFSETTO:+0200
TZNAME:CEST
DTSTART:20260329T010000
END:DAYLIGHT
BEGIN:STANDARD
TZOFFSETFROM:+0200
TZOFFSETTO:+0100
TZNAME:CET
DTSTART:20261025T010000
END:STANDARD
END:VTIMEZONE
BEGIN:VEVENT
DTSTART;TZID=Europe/Berlin:20251027T103000
DTEND;TZID=Europe/Berlin:20251027T123000
DTSTAMP:20260420T223519
CREATED:20250831T230045Z
LAST-MODIFIED:20250829T094437Z
UID:8107-1761561000-1761568200@kalender.seniorinnen.wien
SUMMARY:Filmbrunch im WienZimmer Gartenstadt
DESCRIPTION:Jeden Montag genießen wir im Grätzlzentrum WienZimmer gemeinsam ausgewählte Filme\, begleitet von einem regional-saisonalen Brunch mit Kaffee\, Tee und kleinen Köstlichkeiten. \nMax. 16 Teilnehmer:innen pro Termin \nAnmeldung bis 26.9. \nTel.: 0676 828 940 055\nE – Mail: wienzimmer@fsw.at \nAchtung: Der Raum befindet sich im Obergeschoss und ist nur per Stiege zugänglich. Die Filmauswahl finden Sie ab September auf der Website: http://wienzimmer.fsw.at \nAdresse ist leichter zu finden unter: Jedleseerstr./Ecke Dunantgasse; Eingang schräg vis a vis der Henry Dunant Volksschule \nFoto: Freepik
URL:https://kalender.seniorinnen.wien/event/filmbrunch-im-wienzimmer-gartenstadt/2025-10-27/
LOCATION:WienZimmer Gartenstadt\, Jedleseerstraße 66-94/36/2\, Wien\, Wien\, 1210\, Austria
CATEGORIES:Monat der Senior:innen
ATTACH;FMTTYPE=image/jpeg:https://kalender.seniorinnen.wien/wp-content/uploads/2025/09/view-comical-scene-with-old-person-scaled-e1756460635317.jpg
ORGANIZER;CN="WienZimmer":MAILTO:wienzimmer@fsw.at
END:VEVENT
BEGIN:VEVENT
DTSTART;TZID=Europe/Berlin:20251020T103000
DTEND;TZID=Europe/Berlin:20251020T123000
DTSTAMP:20260420T223519
CREATED:20250831T230045Z
LAST-MODIFIED:20250829T094437Z
UID:8106-1760956200-1760963400@kalender.seniorinnen.wien
SUMMARY:Filmbrunch im WienZimmer Gartenstadt
DESCRIPTION:Jeden Montag genießen wir im Grätzlzentrum WienZimmer gemeinsam ausgewählte Filme\, begleitet von einem regional-saisonalen Brunch mit Kaffee\, Tee und kleinen Köstlichkeiten. \nMax. 16 Teilnehmer:innen pro Termin \nAnmeldung bis 26.9. \nTel.: 0676 828 940 055\nE – Mail: wienzimmer@fsw.at \nAchtung: Der Raum befindet sich im Obergeschoss und ist nur per Stiege zugänglich. Die Filmauswahl finden Sie ab September auf der Website: http://wienzimmer.fsw.at \nAdresse ist leichter zu finden unter: Jedleseerstr./Ecke Dunantgasse; Eingang schräg vis a vis der Henry Dunant Volksschule \nFoto: Freepik
URL:https://kalender.seniorinnen.wien/event/filmbrunch-im-wienzimmer-gartenstadt/2025-10-20/
LOCATION:WienZimmer Gartenstadt\, Jedleseerstraße 66-94/36/2\, Wien\, Wien\, 1210\, Austria
CATEGORIES:Monat der Senior:innen
ATTACH;FMTTYPE=image/jpeg:https://kalender.seniorinnen.wien/wp-content/uploads/2025/09/view-comical-scene-with-old-person-scaled-e1756460635317.jpg
ORGANIZER;CN="WienZimmer":MAILTO:wienzimmer@fsw.at
END:VEVENT
BEGIN:VEVENT
DTSTART;TZID=Europe/Berlin:20251013T103000
DTEND;TZID=Europe/Berlin:20251013T123000
DTSTAMP:20260420T223519
CREATED:20250831T230045Z
LAST-MODIFIED:20250829T094437Z
UID:8105-1760351400-1760358600@kalender.seniorinnen.wien
SUMMARY:Filmbrunch im WienZimmer Gartenstadt
DESCRIPTION:Jeden Montag genießen wir im Grätzlzentrum WienZimmer gemeinsam ausgewählte Filme\, begleitet von einem regional-saisonalen Brunch mit Kaffee\, Tee und kleinen Köstlichkeiten. \nMax. 16 Teilnehmer:innen pro Termin \nAnmeldung bis 26.9. \nTel.: 0676 828 940 055\nE – Mail: wienzimmer@fsw.at \nAchtung: Der Raum befindet sich im Obergeschoss und ist nur per Stiege zugänglich. Die Filmauswahl finden Sie ab September auf der Website: http://wienzimmer.fsw.at \nAdresse ist leichter zu finden unter: Jedleseerstr./Ecke Dunantgasse; Eingang schräg vis a vis der Henry Dunant Volksschule \nFoto: Freepik
URL:https://kalender.seniorinnen.wien/event/filmbrunch-im-wienzimmer-gartenstadt/2025-10-13/
LOCATION:WienZimmer Gartenstadt\, Jedleseerstraße 66-94/36/2\, Wien\, Wien\, 1210\, Austria
CATEGORIES:Monat der Senior:innen
ATTACH;FMTTYPE=image/jpeg:https://kalender.seniorinnen.wien/wp-content/uploads/2025/09/view-comical-scene-with-old-person-scaled-e1756460635317.jpg
ORGANIZER;CN="WienZimmer":MAILTO:wienzimmer@fsw.at
END:VEVENT
BEGIN:VEVENT
DTSTART;TZID=Europe/Berlin:20251006T103000
DTEND;TZID=Europe/Berlin:20251006T123000
DTSTAMP:20260420T223519
CREATED:20250831T230045Z
LAST-MODIFIED:20250829T094437Z
UID:8101-1759746600-1759753800@kalender.seniorinnen.wien
SUMMARY:Filmbrunch im WienZimmer Gartenstadt
DESCRIPTION:Jeden Montag genießen wir im Grätzlzentrum WienZimmer gemeinsam ausgewählte Filme\, begleitet von einem regional-saisonalen Brunch mit Kaffee\, Tee und kleinen Köstlichkeiten. \nMax. 16 Teilnehmer:innen pro Termin \nAnmeldung bis 26.9. \nTel.: 0676 828 940 055\nE – Mail: wienzimmer@fsw.at \nAchtung: Der Raum befindet sich im Obergeschoss und ist nur per Stiege zugänglich. Die Filmauswahl finden Sie ab September auf der Website: http://wienzimmer.fsw.at \nAdresse ist leichter zu finden unter: Jedleseerstr./Ecke Dunantgasse; Eingang schräg vis a vis der Henry Dunant Volksschule \nFoto: Freepik
URL:https://kalender.seniorinnen.wien/event/filmbrunch-im-wienzimmer-gartenstadt/2025-10-06/
LOCATION:WienZimmer Gartenstadt\, Jedleseerstraße 66-94/36/2\, Wien\, Wien\, 1210\, Austria
CATEGORIES:Monat der Senior:innen
ATTACH;FMTTYPE=image/jpeg:https://kalender.seniorinnen.wien/wp-content/uploads/2025/09/view-comical-scene-with-old-person-scaled-e1756460635317.jpg
ORGANIZER;CN="WienZimmer":MAILTO:wienzimmer@fsw.at
END:VEVENT
BEGIN:VEVENT
DTSTART;TZID=Europe/Berlin:20240703T100000
DTEND;TZID=Europe/Berlin:20240703T120000
DTSTAMP:20260420T223519
CREATED:20240607T092425Z
LAST-MODIFIED:20250116T083843Z
UID:5731-1720000800-1720008000@kalender.seniorinnen.wien
SUMMARY:Kontaktbesuchsdienst: Kostenloses Angebot für Menschen ab 60 Jahren
DESCRIPTION:Der Kontaktbesuchsdienst bietet Menschen ab 60 Jahren jeden 1. Mittwoch im Monat eine kostenlose Sprechstunde mit Informationen rund um Themen wie Freizeitaktivitäten\, Vorsorge\, Unterstützung für pflegende Angehörige und mehr. \nDer Kontaktbesuchsdienst ist auch telefonisch und per E-Mail erreichbar: \nTelefon: 001 98121 DW 1730 oder 1740\n(Montag bis Freitag von 9:00 – 15:00 Uhr) \nE-Mail: kontaktbesuchsdienst@wiso.or.at \nFoto: (c) pixabay
URL:https://kalender.seniorinnen.wien/event/kontakt-besuchsdienst-sozial-%e2%80%92-kostenloses-angebot-fuer-menschen-ab-60-jahren/
LOCATION:WienZimmer Gartenstadt\, Jedleseerstraße 66-94/36/2\, Wien\, Wien\, 1210\, Austria
CATEGORIES:Information
ATTACH;FMTTYPE=image/jpeg:https://kalender.seniorinnen.wien/wp-content/uploads/2024/06/mobile-4515151_1920-e1722503583649.jpg
END:VEVENT
END:VCALENDAR