BEGIN:VCALENDAR
VERSION:2.0
PRODID:-//Wien für Senior:innen - ECPv6.15.17.1//NONSGML v1.0//EN
CALSCALE:GREGORIAN
METHOD:PUBLISH
X-WR-CALNAME:Wien für Senior:innen
X-ORIGINAL-URL:https://kalender.seniorinnen.wien
X-WR-CALDESC:Veranstaltungen für Wien für Senior:innen
REFRESH-INTERVAL;VALUE=DURATION:PT1H
X-Robots-Tag:noindex
X-PUBLISHED-TTL:PT1H
BEGIN:VTIMEZONE
TZID:Europe/Berlin
BEGIN:DAYLIGHT
TZOFFSETFROM:+0100
TZOFFSETTO:+0200
TZNAME:CEST
DTSTART:20210328T010000
END:DAYLIGHT
BEGIN:STANDARD
TZOFFSETFROM:+0200
TZOFFSETTO:+0100
TZNAME:CET
DTSTART:20211031T010000
END:STANDARD
BEGIN:DAYLIGHT
TZOFFSETFROM:+0100
TZOFFSETTO:+0200
TZNAME:CEST
DTSTART:20220327T010000
END:DAYLIGHT
BEGIN:STANDARD
TZOFFSETFROM:+0200
TZOFFSETTO:+0100
TZNAME:CET
DTSTART:20221030T010000
END:STANDARD
BEGIN:DAYLIGHT
TZOFFSETFROM:+0100
TZOFFSETTO:+0200
TZNAME:CEST
DTSTART:20230326T010000
END:DAYLIGHT
BEGIN:STANDARD
TZOFFSETFROM:+0200
TZOFFSETTO:+0100
TZNAME:CET
DTSTART:20231029T010000
END:STANDARD
END:VTIMEZONE
BEGIN:VEVENT
DTSTART;TZID=Europe/Berlin:20221014T130000
DTEND;TZID=Europe/Berlin:20221014T150000
DTSTAMP:20260421T084748
CREATED:20220726T074030Z
LAST-MODIFIED:20220822T084355Z
UID:2916-1665752400-1665759600@kalender.seniorinnen.wien
SUMMARY:Monat der Senior:innen: Queere Stadtführung
DESCRIPTION:Wegen des großen Andrangs lädt Landtagsabgeordneter Thomas Weber erneut ein\, Wien von einer anderen Seite kennen zu lernen. Im Rahmen eines Stadtspaziergangs erkunden Sie gemeinsam mit Andreas Brunner von QWIEN\, dem Zentrum für queere Geschichte\, das historische Wien zur Zeit der Habsburger. Sie erhalten dabei Einblick in die Geschichten von Menschen dieser Zeit und erfahren\, wie sie ihre Liebe\, Sexualität oder ihr Geschlecht entgegen gesellschaftlicher Erwartungen leben konnten. \nDie Teilnehmer:innenanzahl ist auf 30 Personen beschränkt. Melden Sie sich ab 1.9.2022 bis 13.10.2022 telefonisch über 01/ 24 5 24 – FSW-Kund:innentelefon für die Veranstaltung an. \nSollten Sie trotz Anmeldung nicht an der Veranstaltung teilnehmen können\, sagen Sie bitte ab. So haben weitere Interessierte die Möglichkeit Ihren Platz einzunehmen. \nBitte beachten Sie: Aufgrund COVID-19 sind kurzfristige Änderungen oder auch Absagen möglich. Das Team der Senior:innenbeauftragten und die Veranstalter:innen bitten um Verständnis. \n(c) David Bohmann/ Wien für Senior:innen
URL:https://kalender.seniorinnen.wien/event/monat-der-seniorinnen-queere-stadtfuehrung-2/
LOCATION:Wiener Staatsoper (Rechte Seite)\, Kärtner Straße 40\, Wien\, 1010
CATEGORIES:Monat der Senior:innen
ATTACH;FMTTYPE=image/jpeg:https://kalender.seniorinnen.wien/wp-content/uploads/2022/07/QueereStadtfuehrung_c_David_Bohmann_075_web.jpg
END:VEVENT
END:VCALENDAR