BEGIN:VCALENDAR
VERSION:2.0
PRODID:-//Wien für Senior:innen - ECPv6.15.17.1//NONSGML v1.0//EN
CALSCALE:GREGORIAN
METHOD:PUBLISH
X-WR-CALNAME:Wien für Senior:innen
X-ORIGINAL-URL:https://kalender.seniorinnen.wien
X-WR-CALDESC:Veranstaltungen für Wien für Senior:innen
REFRESH-INTERVAL;VALUE=DURATION:PT1H
X-Robots-Tag:noindex
X-PUBLISHED-TTL:PT1H
BEGIN:VTIMEZONE
TZID:Europe/Berlin
BEGIN:DAYLIGHT
TZOFFSETFROM:+0100
TZOFFSETTO:+0200
TZNAME:CEST
DTSTART:20230326T010000
END:DAYLIGHT
BEGIN:STANDARD
TZOFFSETFROM:+0200
TZOFFSETTO:+0100
TZNAME:CET
DTSTART:20231029T010000
END:STANDARD
BEGIN:DAYLIGHT
TZOFFSETFROM:+0100
TZOFFSETTO:+0200
TZNAME:CEST
DTSTART:20240331T010000
END:DAYLIGHT
BEGIN:STANDARD
TZOFFSETFROM:+0200
TZOFFSETTO:+0100
TZNAME:CET
DTSTART:20241027T010000
END:STANDARD
BEGIN:DAYLIGHT
TZOFFSETFROM:+0100
TZOFFSETTO:+0200
TZNAME:CEST
DTSTART:20250330T010000
END:DAYLIGHT
BEGIN:STANDARD
TZOFFSETFROM:+0200
TZOFFSETTO:+0100
TZNAME:CET
DTSTART:20251026T010000
END:STANDARD
BEGIN:DAYLIGHT
TZOFFSETFROM:+0100
TZOFFSETTO:+0200
TZNAME:CEST
DTSTART:20260329T010000
END:DAYLIGHT
BEGIN:STANDARD
TZOFFSETFROM:+0200
TZOFFSETTO:+0100
TZNAME:CET
DTSTART:20261025T010000
END:STANDARD
END:VTIMEZONE
BEGIN:VEVENT
DTSTART;TZID=Europe/Berlin:20251020T143000
DTEND;TZID=Europe/Berlin:20251020T163000
DTSTAMP:20260420T153024
CREATED:20250831T230039Z
LAST-MODIFIED:20250827T101612Z
UID:8383-1760970600-1760977800@kalender.seniorinnen.wien
SUMMARY:Gemeinsam lachen\, erleben & genießen!
DESCRIPTION:In der Senior:innenrunde des Wiener Roten Kreuzes plaudern wir bei einer guten Jause\, toben uns kreativ aus und halten uns körperlich und geistig fit. Hauptsache es macht Spaß! \nKeine Anmeldung erforderlich! \nWebsite: https://www.roteskreuz.at/wien/senior-innenrunden \nFoto: Markus Hechenberger
URL:https://kalender.seniorinnen.wien/event/gemeinsam-lachen-erleben-geniessen/
LOCATION:Wiener Rotes Kreuz\, Bezirksstelle „Bertha von Suttner“\, Negerlegasse 4\, Stiege 3\, Untergeschoß\, Wien\, 1020
CATEGORIES:Begegnung,Monat der Senior:innen,Unterhaltung
ATTACH;FMTTYPE=image/jpeg:https://kalender.seniorinnen.wien/wp-content/uploads/2025/08/IMG_4524_b-scaled-e1756289845581.jpg
ORGANIZER;CN="Wiener Rotes Kreuz":MAILTO:teresa.hofstaetter@w.roteskreuz.at
END:VEVENT
BEGIN:VEVENT
DTSTART;TZID=Europe/Berlin:20241029T130000
DTEND;TZID=Europe/Berlin:20241029T140000
DTSTAMP:20260420T153024
CREATED:20240822T151541Z
LAST-MODIFIED:20240911T121942Z
UID:6245-1730206800-1730210400@kalender.seniorinnen.wien
SUMMARY:Fit und aktiv in geselliger Runde
DESCRIPTION:Die gesellige Bewegungsrunde bringt Schwung in Ihren Alltag! Einfache Übungen mit Musik werden auf Ihre körperlichen Möglichkeiten abgestimmt. \nKeine Anmeldung erforderlich. \nKommen Sie einfach am 29.10.2024 von 13 bis 14 Uhr in die Bezirksstelle Bertha von Suttner des Wiener Roten Kreuzes. Der Eingang ist an der Ecke Schöllerhofgasse / Gredlerstraße in der Negerlegasse 4 / 3\, 1020 Wien. \n  \nWeitere Informationen: http://www.roteskreuz.at/wien/ich-brauche-hilfe/bewegungskurse
URL:https://kalender.seniorinnen.wien/event/fit-und-aktiv-in-geselliger-runde/
LOCATION:Wiener Rotes Kreuz\, Bezirksstelle „Bertha von Suttner“\, Negerlegasse 4\, Stiege 3\, Untergeschoß\, Wien\, 1020
CATEGORIES:Fit und Gesund,Monat der Senior:innen
ATTACH;FMTTYPE=image/jpeg:https://kalender.seniorinnen.wien/wp-content/uploads/2023/08/Bewegungsrunde_WRK-e1754036877740.jpg
ORGANIZER;CN="Wiener Rotes Kreuz":MAILTO:teresa.hofstaetter@w.roteskreuz.at
END:VEVENT
END:VCALENDAR