BEGIN:VCALENDAR
VERSION:2.0
PRODID:-//Wien für Senior:innen - ECPv6.15.17.1//NONSGML v1.0//EN
CALSCALE:GREGORIAN
METHOD:PUBLISH
X-ORIGINAL-URL:https://kalender.seniorinnen.wien
X-WR-CALDESC:Veranstaltungen für Wien für Senior:innen
REFRESH-INTERVAL;VALUE=DURATION:PT1H
X-Robots-Tag:noindex
X-PUBLISHED-TTL:PT1H
BEGIN:VTIMEZONE
TZID:Europe/Berlin
BEGIN:DAYLIGHT
TZOFFSETFROM:+0100
TZOFFSETTO:+0200
TZNAME:CEST
DTSTART:20220327T010000
END:DAYLIGHT
BEGIN:STANDARD
TZOFFSETFROM:+0200
TZOFFSETTO:+0100
TZNAME:CET
DTSTART:20221030T010000
END:STANDARD
BEGIN:DAYLIGHT
TZOFFSETFROM:+0100
TZOFFSETTO:+0200
TZNAME:CEST
DTSTART:20230326T010000
END:DAYLIGHT
BEGIN:STANDARD
TZOFFSETFROM:+0200
TZOFFSETTO:+0100
TZNAME:CET
DTSTART:20231029T010000
END:STANDARD
BEGIN:DAYLIGHT
TZOFFSETFROM:+0100
TZOFFSETTO:+0200
TZNAME:CEST
DTSTART:20240331T010000
END:DAYLIGHT
BEGIN:STANDARD
TZOFFSETFROM:+0200
TZOFFSETTO:+0100
TZNAME:CET
DTSTART:20241027T010000
END:STANDARD
BEGIN:DAYLIGHT
TZOFFSETFROM:+0100
TZOFFSETTO:+0200
TZNAME:CEST
DTSTART:20250330T010000
END:DAYLIGHT
BEGIN:STANDARD
TZOFFSETFROM:+0200
TZOFFSETTO:+0100
TZNAME:CET
DTSTART:20251026T010000
END:STANDARD
BEGIN:DAYLIGHT
TZOFFSETFROM:+0100
TZOFFSETTO:+0200
TZNAME:CEST
DTSTART:20260329T010000
END:DAYLIGHT
BEGIN:STANDARD
TZOFFSETFROM:+0200
TZOFFSETTO:+0100
TZNAME:CET
DTSTART:20261025T010000
END:STANDARD
END:VTIMEZONE
BEGIN:VEVENT
DTSTART;TZID=Europe/Berlin:20250128T080000
DTEND;TZID=Europe/Berlin:20250128T170000
DTSTAMP:20260420T204325
CREATED:20250128T151203Z
LAST-MODIFIED:20250128T151203Z
UID:7299-1738051200-1738083600@kalender.seniorinnen.wien
SUMMARY:Sing Along „L.O.V.E” – Mitsingkonzert im Wiener Konzerthaus
DESCRIPTION:Die Klubs laden zum exklusiven Mitsingkonzert im Wiener Konzerthaus ein. Unter dem Motto „Sing Along L.O.V.E“ präsentiert die Wiener Singakademie die schönsten Liebeslieder aus Klassik bis Moderne. Alle Konzertbesucher*innen erhalten ein Liederheft und sind zum Mitsingen eingeladen. Unsere Besucher*innen werden vor und im Konzerthaus herzlich von unseren Kolleg*innen in den orangen T-Shirts empfangen. \n  \nWann: Samstag\, 22. März 2025\, 14:00 – 15:30 Uhr (Einlass ab 13:30 Uhr) \nWo: Wiener Konzerthaus\, 1030 Wien\, Lothringerstraße 20 \nTickets: EUR 15\,-/Person. ​​Jetzt hier Tickets sichern. \nAlle Infos und Link zur Buchung hier. \n  \nFoto-Credit: Julia Wesely
URL:https://kalender.seniorinnen.wien/event/sing-along-l-o-v-e-mitsingkonzert-im-wiener-konzerthaus/
LOCATION:Wiener Konzerthaus\, Lothringerstraße 20\, Wien\, 1030
CATEGORIES:Kunst und Kultur
ATTACH;FMTTYPE=image/jpeg:https://kalender.seniorinnen.wien/wp-content/uploads/2025/01/Konzerthaus-c-Julia-Wesely-e1738076950425.jpg
END:VEVENT
BEGIN:VEVENT
DTSTART;TZID=Europe/Berlin:20230314T183000
DTEND;TZID=Europe/Berlin:20230314T203000
DTSTAMP:20260420T204325
CREATED:20230202T104850Z
LAST-MODIFIED:20230202T104918Z
UID:3299-1678818600-1678825800@kalender.seniorinnen.wien
SUMMARY:klangberührt. Ein besonderes Bedürfnis nach Musik
DESCRIPTION:Konzertsaal\, Bühne\, Instrumente erleben. Künstler\, Künstlerinnen\, Publikum beisammen. Rhythmus\, Melodie\, Magie genießen. Ein besonderes Bedürfnis nach Musik – denn Klang berührt. \nKonzept\nDas Wiener Konzerthaus gewährleistet allen Musikliebhaber:innen einen barrierefreien Zugang. Somit steht das Konzerterlebnis »klangberührt« gleichermaßen Menschen mit und ohne Behinderung offen. Für alle Beteiligten – Publikum\, Musikerinnen und\nMusiker – schafft dies ganz neue Hörperspektiven. \nDurch die Musikvermittlerin Lilian Genn werden gezielte Interaktionen mit dem Publikum und – alle Sinne ansprechend – der Einsatz von Licht und Farben inszeniert\, um so einen ganzheitlichen und umfassenden Zugang zum Musikhören zu gewährleisten. \nProgramm\nDas trio l’apres-midi entstand im Sommer 2020\, angeregt durch die erste pandemiebedingte kulturelle Durststrecke. Die drei Musiker:innen verbindet eine Leidenschaft für die bekannten Schätze des Repertoires sowie ein Geschick zur Entdeckung weniger bekannter Werke für ihre sehr spezielle Besetzung. Sie regen auch die Entstehung von Auftragskompositionen an\, etwa einer vom bekannten österreichischen Komponisten Roland Freisitzer. \nPreis\nEinheitspreis: € 17\,00\nBegleitung: € 8\,50 \nAlle Informationen und Tickets auf www.konzerthaus.at/konzert/eventid/60033 \n(c) Andrej Grilc
URL:https://kalender.seniorinnen.wien/event/klangberuehrt-ein-besonderes-beduerfnis-nach-musik/
LOCATION:Wiener Konzerthaus\, Lothringerstraße 20\, Wien\, 1030
CATEGORIES:Barrierefrei,Kunst und Kultur
END:VEVENT
END:VCALENDAR