BEGIN:VCALENDAR
VERSION:2.0
PRODID:-//Wien für Senior:innen - ECPv6.15.17.1//NONSGML v1.0//EN
CALSCALE:GREGORIAN
METHOD:PUBLISH
X-ORIGINAL-URL:https://kalender.seniorinnen.wien
X-WR-CALDESC:Veranstaltungen für Wien für Senior:innen
REFRESH-INTERVAL;VALUE=DURATION:PT1H
X-Robots-Tag:noindex
X-PUBLISHED-TTL:PT1H
BEGIN:VTIMEZONE
TZID:Europe/Berlin
BEGIN:DAYLIGHT
TZOFFSETFROM:+0100
TZOFFSETTO:+0200
TZNAME:CEST
DTSTART:20240331T010000
END:DAYLIGHT
BEGIN:STANDARD
TZOFFSETFROM:+0200
TZOFFSETTO:+0100
TZNAME:CET
DTSTART:20241027T010000
END:STANDARD
BEGIN:DAYLIGHT
TZOFFSETFROM:+0100
TZOFFSETTO:+0200
TZNAME:CEST
DTSTART:20250330T010000
END:DAYLIGHT
BEGIN:STANDARD
TZOFFSETFROM:+0200
TZOFFSETTO:+0100
TZNAME:CET
DTSTART:20251026T010000
END:STANDARD
BEGIN:DAYLIGHT
TZOFFSETFROM:+0100
TZOFFSETTO:+0200
TZNAME:CEST
DTSTART:20260329T010000
END:DAYLIGHT
BEGIN:STANDARD
TZOFFSETFROM:+0200
TZOFFSETTO:+0100
TZNAME:CET
DTSTART:20261025T010000
END:STANDARD
END:VTIMEZONE
BEGIN:VEVENT
DTSTART;TZID=Europe/Berlin:20251009T150000
DTEND;TZID=Europe/Berlin:20251009T170000
DTSTAMP:20260421T031843
CREATED:20250831T230013Z
LAST-MODIFIED:20250909T065155Z
UID:9643-1760022000-1760029200@kalender.seniorinnen.wien
SUMMARY:Gesundheits-Café
DESCRIPTION:Gesunde Jause mit Informationen und Tipps zu Gesundheitsthemen mit besonderem Schwerpunkt auf das Thema „Diabetes“. \nACHTUNG – Terminänderung\, NEU 9.10. \nAnmeldung bis 8.10. \nTel.: 01 512 3661 3411\nE-Mail: nbz8@wiener.hilfswerk.at \n  \nFoto: Daniel Nuderscher
URL:https://kalender.seniorinnen.wien/event/gesundheits-cafe/
LOCATION:Wiener HIlfswerk – Nachbarschaftszentrum 8\, Florianigasse 24\, Wien\, Wien\, 1080\, Austria
CATEGORIES:Monat der Senior:innen
ATTACH;FMTTYPE=image/jpeg:https://kalender.seniorinnen.wien/wp-content/uploads/2025/08/2018-NZ-Ultimate-036-e1756387504336.jpg
ORGANIZER;CN="Wiener Hilfswerk%2C Nachbarschaftszentrum 8 - Josefstadt":MAILTO:nz8@wiener.hilfswerk.at
END:VEVENT
END:VCALENDAR