BEGIN:VCALENDAR
VERSION:2.0
PRODID:-//Wien für Senior:innen - ECPv6.15.17.1//NONSGML v1.0//EN
CALSCALE:GREGORIAN
METHOD:PUBLISH
X-WR-CALNAME:Wien für Senior:innen
X-ORIGINAL-URL:https://kalender.seniorinnen.wien
X-WR-CALDESC:Veranstaltungen für Wien für Senior:innen
REFRESH-INTERVAL;VALUE=DURATION:PT1H
X-Robots-Tag:noindex
X-PUBLISHED-TTL:PT1H
BEGIN:VTIMEZONE
TZID:Europe/Berlin
BEGIN:DAYLIGHT
TZOFFSETFROM:+0100
TZOFFSETTO:+0200
TZNAME:CEST
DTSTART:20220327T010000
END:DAYLIGHT
BEGIN:STANDARD
TZOFFSETFROM:+0200
TZOFFSETTO:+0100
TZNAME:CET
DTSTART:20221030T010000
END:STANDARD
BEGIN:DAYLIGHT
TZOFFSETFROM:+0100
TZOFFSETTO:+0200
TZNAME:CEST
DTSTART:20230326T010000
END:DAYLIGHT
BEGIN:STANDARD
TZOFFSETFROM:+0200
TZOFFSETTO:+0100
TZNAME:CET
DTSTART:20231029T010000
END:STANDARD
BEGIN:DAYLIGHT
TZOFFSETFROM:+0100
TZOFFSETTO:+0200
TZNAME:CEST
DTSTART:20240331T010000
END:DAYLIGHT
BEGIN:STANDARD
TZOFFSETFROM:+0200
TZOFFSETTO:+0100
TZNAME:CET
DTSTART:20241027T010000
END:STANDARD
BEGIN:DAYLIGHT
TZOFFSETFROM:+0100
TZOFFSETTO:+0200
TZNAME:CEST
DTSTART:20250330T010000
END:DAYLIGHT
BEGIN:STANDARD
TZOFFSETFROM:+0200
TZOFFSETTO:+0100
TZNAME:CET
DTSTART:20251026T010000
END:STANDARD
BEGIN:DAYLIGHT
TZOFFSETFROM:+0100
TZOFFSETTO:+0200
TZNAME:CEST
DTSTART:20260329T010000
END:DAYLIGHT
BEGIN:STANDARD
TZOFFSETFROM:+0200
TZOFFSETTO:+0100
TZNAME:CET
DTSTART:20261025T010000
END:STANDARD
END:VTIMEZONE
BEGIN:VEVENT
DTSTART;TZID=Europe/Berlin:20251001T093000
DTEND;TZID=Europe/Berlin:20251001T103000
DTSTAMP:20260420T201049
CREATED:20250831T230037Z
LAST-MODIFIED:20250826T112906Z
UID:8210-1759311000-1759314600@kalender.seniorinnen.wien
SUMMARY:Feel-Good-Walk
DESCRIPTION:Ein Spaziergang\, der alle unsere Sinne anregt: In netter Runde entdecken wir gemeinsam schöne Orte im Bezirk\, die man kostenlos und ohne Konsumzwang genießen kann. Wir machen dabei Entspannungsübungen\, Übungen für unser Gehirn und für alle Sinne.\nFinden Sie neue Bekanntschaften und neue Plätze! \nAnmeldung bis 24. September 2025 \nTel.: 01 512 36 613 200\nE-Mail: nbz2@wiener.hilfswerk.at \nWiener Hilfswerk – Nachbarschaftszentrum 2\, Vorgartenstraße 145-157\, Stiege 1/Erdgeschoss\, 1020 Wien \n  \nFoto: Robert Kneschke
URL:https://kalender.seniorinnen.wien/event/feel-good-walk-2/
LOCATION:Wiener Hilfswerk\, Nachbarschaftszentrum 2 – Leopoldstadt\, Vorgartenstraße 145-157\, Wien\, 1020\, Österreich
CATEGORIES:Begegnung,Fit und Gesund,Monat der Senior:innen
ATTACH;FMTTYPE=image/jpeg:https://kalender.seniorinnen.wien/wp-content/uploads/2025/08/AdobeStock_345350556-cRobert-Kneschke-e1754317920686.jpg
ORGANIZER;CN="Wiener Hilfswerk%2C Nachbarschaftszentrum 2 - Leopoldstadt":MAILTO:nz2@wiener.hilfswerk.at
END:VEVENT
BEGIN:VEVENT
DTSTART;TZID=Europe/Berlin:20241001T091500
DTEND;TZID=Europe/Berlin:20241001T103000
DTSTAMP:20260420T201049
CREATED:20240830T160334Z
LAST-MODIFIED:20240830T160334Z
UID:6303-1727774100-1727778600@kalender.seniorinnen.wien
SUMMARY:Feel-Good-Walk
DESCRIPTION:Ein Spaziergang für die Sinne: gemeinsam werden Plätze im 2. Bezirk entdeckt\, die man ohne Konsumzwang genießen kann. Außerdem stehen Übungen zur Entspannung und für das Gehirn auf dem Programm. \nAnmeldung erforderlich vom 2.9. bis 24.9. unter Tel.: 01 512 36 61 32 00 oder E-Mail: nbz2@wiener.hilfswerk.at \nFoto: pixabay
URL:https://kalender.seniorinnen.wien/event/feel-good-walk/
LOCATION:Wiener Hilfswerk\, Nachbarschaftszentrum 2 – Leopoldstadt\, Vorgartenstraße 145-157\, Wien\, 1020\, Österreich
CATEGORIES:Fit und Gesund,Grätzel,Monat der Senior:innen
ATTACH;FMTTYPE=image/jpeg:https://kalender.seniorinnen.wien/wp-content/uploads/2024/01/old-5147444_1920-e1707309489601.jpg
END:VEVENT
BEGIN:VEVENT
DTSTART;TZID=Europe/Berlin:20231003T091500
DTEND;TZID=Europe/Berlin:20231003T103000
DTSTAMP:20260420T201049
CREATED:20230809T162514Z
LAST-MODIFIED:20230811T143231Z
UID:3525-1696324500-1696329000@kalender.seniorinnen.wien
SUMMARY:Monat der Senior:innen: Feel Good to Go
DESCRIPTION:Sanfte Bewegung\, Entspannungsübungen\, Gedächtnistraining und Austausch in netter Runde einmal ganz anders\, nämlich gehend durchs Grätzl und im Park! Übungen für Körper\, Geist und Seele und dabei das Grätzl erkunden. \nBitte melden Sie sich ab 1.9. bis 2.10.2023 an unter 01/5123661-3200 oder unter nbz2@wiener.hilfswerk.at. \nSollten Sie nicht an der Veranstaltung teilnehmen können\, sagen Sie bitte ab. So haben Interessierte die Möglichkeit\, Ihren Platz einzunehmen. \nAuf vielen Veranstaltungen wird fotografiert und/oder gefilmt. Mit der Teilnahme an einer Veranstaltung stimmen Sie einer möglichen Veröffentlichung auf Websites\, Social Media-Kanälen\, Print- und Onlinemedien und dergleichen zu.
URL:https://kalender.seniorinnen.wien/event/monat-der-seniorinnen-feel-good-to-go/
LOCATION:Wiener Hilfswerk\, Nachbarschaftszentrum 2 – Leopoldstadt\, Vorgartenstraße 145-157\, Wien\, 1020\, Österreich
CATEGORIES:Monat der Senior:innen
ATTACH;FMTTYPE=image/jpeg:https://kalender.seniorinnen.wien/wp-content/uploads/2023/08/AdobeStock_271741121-cronstik.jpg
END:VEVENT
END:VCALENDAR