BEGIN:VCALENDAR
VERSION:2.0
PRODID:-//Wien für Senior:innen - ECPv6.15.17.1//NONSGML v1.0//EN
CALSCALE:GREGORIAN
METHOD:PUBLISH
X-WR-CALNAME:Wien für Senior:innen
X-ORIGINAL-URL:https://kalender.seniorinnen.wien
X-WR-CALDESC:Veranstaltungen für Wien für Senior:innen
REFRESH-INTERVAL;VALUE=DURATION:PT1H
X-Robots-Tag:noindex
X-PUBLISHED-TTL:PT1H
BEGIN:VTIMEZONE
TZID:Europe/Berlin
BEGIN:DAYLIGHT
TZOFFSETFROM:+0100
TZOFFSETTO:+0200
TZNAME:CEST
DTSTART:20220327T010000
END:DAYLIGHT
BEGIN:STANDARD
TZOFFSETFROM:+0200
TZOFFSETTO:+0100
TZNAME:CET
DTSTART:20221030T010000
END:STANDARD
BEGIN:DAYLIGHT
TZOFFSETFROM:+0100
TZOFFSETTO:+0200
TZNAME:CEST
DTSTART:20230326T010000
END:DAYLIGHT
BEGIN:STANDARD
TZOFFSETFROM:+0200
TZOFFSETTO:+0100
TZNAME:CET
DTSTART:20231029T010000
END:STANDARD
BEGIN:DAYLIGHT
TZOFFSETFROM:+0100
TZOFFSETTO:+0200
TZNAME:CEST
DTSTART:20240331T010000
END:DAYLIGHT
BEGIN:STANDARD
TZOFFSETFROM:+0200
TZOFFSETTO:+0100
TZNAME:CET
DTSTART:20241027T010000
END:STANDARD
END:VTIMEZONE
BEGIN:VEVENT
DTSTART;TZID=Europe/Berlin:20231023T140000
DTEND;TZID=Europe/Berlin:20231023T160000
DTSTAMP:20260420T141443
CREATED:20230810T080251Z
LAST-MODIFIED:20230816T115312Z
UID:3597-1698069600-1698076800@kalender.seniorinnen.wien
SUMMARY:Monat der Senior:innen: Therapiehundestaffelvorführung
DESCRIPTION:Lernen Sie im  Pensionist*innenklub Wehlistraße die Therapiehundestaffel des Arbeiter-Samariter- Bunds kennen. Therapiebegleithunde sind ausgebildete Familienhunde\, die gemeinsam mit ihren Besitzer:innen Menschen in sozialen Einrichtungen besuchen. Beziehungsarbeit\, Pädagogik\, Freude\, Spaß und Spiel stehen dabei im Vordergrund der Besuche. \nAnschließend runden wir den Nachmittag mit gemeinsamer Musik und Tanz ab. Kommen Sie vorbei und machen Sie mit! \nDie Teilnehmer:innenzahl ist auf 100 Personen beschränkt. Keine Anmeldung erforderlich. \nAuf vielen Veranstaltungen wird fotografiert und/oder gefilmt. Mit der Teilnahme an einer Veranstaltung stimmen Sie einer möglichen Veröffentlichung auf Websites\, Social Media-Kanälen\, Print- und Onlinemedien und dergleichen zu. \n(c) Alois Pommer
URL:https://kalender.seniorinnen.wien/event/therapiehundestaffelvorfuehrung/
LOCATION:Wehlistraße 164\, Wehlistraße 164\, Wien\, 1020
CATEGORIES:Monat der Senior:innen
ATTACH;FMTTYPE=image/jpeg:https://kalender.seniorinnen.wien/wp-content/uploads/2023/08/APV_8205-c-Alois-Pommer-scaled.jpg
END:VEVENT
END:VCALENDAR