BEGIN:VCALENDAR
VERSION:2.0
PRODID:-//Wien für Senior:innen - ECPv6.15.17.1//NONSGML v1.0//EN
CALSCALE:GREGORIAN
METHOD:PUBLISH
X-WR-CALNAME:Wien für Senior:innen
X-ORIGINAL-URL:https://kalender.seniorinnen.wien
X-WR-CALDESC:Veranstaltungen für Wien für Senior:innen
REFRESH-INTERVAL;VALUE=DURATION:PT1H
X-Robots-Tag:noindex
X-PUBLISHED-TTL:PT1H
BEGIN:VTIMEZONE
TZID:Europe/Berlin
BEGIN:DAYLIGHT
TZOFFSETFROM:+0100
TZOFFSETTO:+0200
TZNAME:CEST
DTSTART:20240331T010000
END:DAYLIGHT
BEGIN:STANDARD
TZOFFSETFROM:+0200
TZOFFSETTO:+0100
TZNAME:CET
DTSTART:20241027T010000
END:STANDARD
BEGIN:DAYLIGHT
TZOFFSETFROM:+0100
TZOFFSETTO:+0200
TZNAME:CEST
DTSTART:20250330T010000
END:DAYLIGHT
BEGIN:STANDARD
TZOFFSETFROM:+0200
TZOFFSETTO:+0100
TZNAME:CET
DTSTART:20251026T010000
END:STANDARD
BEGIN:DAYLIGHT
TZOFFSETFROM:+0100
TZOFFSETTO:+0200
TZNAME:CEST
DTSTART:20260329T010000
END:DAYLIGHT
BEGIN:STANDARD
TZOFFSETFROM:+0200
TZOFFSETTO:+0100
TZNAME:CET
DTSTART:20261025T010000
END:STANDARD
END:VTIMEZONE
BEGIN:VEVENT
DTSTART;TZID=Europe/Berlin:20250623T170000
DTEND;TZID=Europe/Berlin:20250623T183000
DTSTAMP:20260420T220038
CREATED:20250328T152432Z
LAST-MODIFIED:20250328T152432Z
UID:7741-1750698000-1750703400@kalender.seniorinnen.wien
SUMMARY:Linedance
DESCRIPTION:Fitness für den Körper\, Gehirnjogging im Rhythmus der Musik. Für alle geeignet\, auch ohne Partner*in. \nMontag\, 17:00 – 18:30 Uhr \nTermine: 28.04.\, 05.05.\, 12.05.\, 19.05.\, 26.05.\, 02.06.\, 16.06.\, 23.06.2025 \nOrt: Währingerpark (neben öffentlicher Tischtennisanlage)\, 1180 Wien
URL:https://kalender.seniorinnen.wien/event/linedance/2025-06-23/
LOCATION:Währingerpark\, Wien\, 1180
CATEGORIES:Begegnung,Fit und Gesund,Grätzel
ATTACH;FMTTYPE=image/jpeg:https://kalender.seniorinnen.wien/wp-content/uploads/2022/07/Cha-Cha-Cha-scaled.jpg
END:VEVENT
BEGIN:VEVENT
DTSTART;TZID=Europe/Berlin:20250616T170000
DTEND;TZID=Europe/Berlin:20250616T183000
DTSTAMP:20260420T220038
CREATED:20250328T152432Z
LAST-MODIFIED:20250328T152432Z
UID:7740-1750093200-1750098600@kalender.seniorinnen.wien
SUMMARY:Linedance
DESCRIPTION:Fitness für den Körper\, Gehirnjogging im Rhythmus der Musik. Für alle geeignet\, auch ohne Partner*in. \nMontag\, 17:00 – 18:30 Uhr \nTermine: 28.04.\, 05.05.\, 12.05.\, 19.05.\, 26.05.\, 02.06.\, 16.06.\, 23.06.2025 \nOrt: Währingerpark (neben öffentlicher Tischtennisanlage)\, 1180 Wien
URL:https://kalender.seniorinnen.wien/event/linedance/2025-06-16/
LOCATION:Währingerpark\, Wien\, 1180
CATEGORIES:Begegnung,Fit und Gesund,Grätzel
ATTACH;FMTTYPE=image/jpeg:https://kalender.seniorinnen.wien/wp-content/uploads/2022/07/Cha-Cha-Cha-scaled.jpg
END:VEVENT
BEGIN:VEVENT
DTSTART;TZID=Europe/Berlin:20250602T170000
DTEND;TZID=Europe/Berlin:20250602T183000
DTSTAMP:20260420T220038
CREATED:20250328T152432Z
LAST-MODIFIED:20250328T152432Z
UID:7739-1748883600-1748889000@kalender.seniorinnen.wien
SUMMARY:Linedance
DESCRIPTION:Fitness für den Körper\, Gehirnjogging im Rhythmus der Musik. Für alle geeignet\, auch ohne Partner*in. \nMontag\, 17:00 – 18:30 Uhr \nTermine: 28.04.\, 05.05.\, 12.05.\, 19.05.\, 26.05.\, 02.06.\, 16.06.\, 23.06.2025 \nOrt: Währingerpark (neben öffentlicher Tischtennisanlage)\, 1180 Wien
URL:https://kalender.seniorinnen.wien/event/linedance/2025-06-02/
LOCATION:Währingerpark\, Wien\, 1180
CATEGORIES:Begegnung,Fit und Gesund,Grätzel
ATTACH;FMTTYPE=image/jpeg:https://kalender.seniorinnen.wien/wp-content/uploads/2022/07/Cha-Cha-Cha-scaled.jpg
END:VEVENT
BEGIN:VEVENT
DTSTART;TZID=Europe/Berlin:20250526T170000
DTEND;TZID=Europe/Berlin:20250526T183000
DTSTAMP:20260420T220038
CREATED:20250328T152432Z
LAST-MODIFIED:20250328T152432Z
UID:7738-1748278800-1748284200@kalender.seniorinnen.wien
SUMMARY:Linedance
DESCRIPTION:Fitness für den Körper\, Gehirnjogging im Rhythmus der Musik. Für alle geeignet\, auch ohne Partner*in. \nMontag\, 17:00 – 18:30 Uhr \nTermine: 28.04.\, 05.05.\, 12.05.\, 19.05.\, 26.05.\, 02.06.\, 16.06.\, 23.06.2025 \nOrt: Währingerpark (neben öffentlicher Tischtennisanlage)\, 1180 Wien
URL:https://kalender.seniorinnen.wien/event/linedance/2025-05-26/
LOCATION:Währingerpark\, Wien\, 1180
CATEGORIES:Begegnung,Fit und Gesund,Grätzel
ATTACH;FMTTYPE=image/jpeg:https://kalender.seniorinnen.wien/wp-content/uploads/2022/07/Cha-Cha-Cha-scaled.jpg
END:VEVENT
BEGIN:VEVENT
DTSTART;TZID=Europe/Berlin:20250519T170000
DTEND;TZID=Europe/Berlin:20250519T183000
DTSTAMP:20260420T220038
CREATED:20250328T152432Z
LAST-MODIFIED:20250328T152432Z
UID:7737-1747674000-1747679400@kalender.seniorinnen.wien
SUMMARY:Linedance
DESCRIPTION:Fitness für den Körper\, Gehirnjogging im Rhythmus der Musik. Für alle geeignet\, auch ohne Partner*in. \nMontag\, 17:00 – 18:30 Uhr \nTermine: 28.04.\, 05.05.\, 12.05.\, 19.05.\, 26.05.\, 02.06.\, 16.06.\, 23.06.2025 \nOrt: Währingerpark (neben öffentlicher Tischtennisanlage)\, 1180 Wien
URL:https://kalender.seniorinnen.wien/event/linedance/2025-05-19/
LOCATION:Währingerpark\, Wien\, 1180
CATEGORIES:Begegnung,Fit und Gesund,Grätzel
ATTACH;FMTTYPE=image/jpeg:https://kalender.seniorinnen.wien/wp-content/uploads/2022/07/Cha-Cha-Cha-scaled.jpg
END:VEVENT
BEGIN:VEVENT
DTSTART;TZID=Europe/Berlin:20250512T170000
DTEND;TZID=Europe/Berlin:20250512T183000
DTSTAMP:20260420T220038
CREATED:20250328T152432Z
LAST-MODIFIED:20250328T152432Z
UID:7736-1747069200-1747074600@kalender.seniorinnen.wien
SUMMARY:Linedance
DESCRIPTION:Fitness für den Körper\, Gehirnjogging im Rhythmus der Musik. Für alle geeignet\, auch ohne Partner*in. \nMontag\, 17:00 – 18:30 Uhr \nTermine: 28.04.\, 05.05.\, 12.05.\, 19.05.\, 26.05.\, 02.06.\, 16.06.\, 23.06.2025 \nOrt: Währingerpark (neben öffentlicher Tischtennisanlage)\, 1180 Wien
URL:https://kalender.seniorinnen.wien/event/linedance/2025-05-12/
LOCATION:Währingerpark\, Wien\, 1180
CATEGORIES:Begegnung,Fit und Gesund,Grätzel
ATTACH;FMTTYPE=image/jpeg:https://kalender.seniorinnen.wien/wp-content/uploads/2022/07/Cha-Cha-Cha-scaled.jpg
END:VEVENT
BEGIN:VEVENT
DTSTART;TZID=Europe/Berlin:20250505T170000
DTEND;TZID=Europe/Berlin:20250505T183000
DTSTAMP:20260420T220038
CREATED:20250328T152432Z
LAST-MODIFIED:20250328T152432Z
UID:7735-1746464400-1746469800@kalender.seniorinnen.wien
SUMMARY:Linedance
DESCRIPTION:Fitness für den Körper\, Gehirnjogging im Rhythmus der Musik. Für alle geeignet\, auch ohne Partner*in. \nMontag\, 17:00 – 18:30 Uhr \nTermine: 28.04.\, 05.05.\, 12.05.\, 19.05.\, 26.05.\, 02.06.\, 16.06.\, 23.06.2025 \nOrt: Währingerpark (neben öffentlicher Tischtennisanlage)\, 1180 Wien
URL:https://kalender.seniorinnen.wien/event/linedance/2025-05-05/
LOCATION:Währingerpark\, Wien\, 1180
CATEGORIES:Begegnung,Fit und Gesund,Grätzel
ATTACH;FMTTYPE=image/jpeg:https://kalender.seniorinnen.wien/wp-content/uploads/2022/07/Cha-Cha-Cha-scaled.jpg
END:VEVENT
BEGIN:VEVENT
DTSTART;TZID=Europe/Berlin:20250428T170000
DTEND;TZID=Europe/Berlin:20250428T183000
DTSTAMP:20260420T220038
CREATED:20250328T152432Z
LAST-MODIFIED:20250328T152432Z
UID:7733-1745859600-1745865000@kalender.seniorinnen.wien
SUMMARY:Linedance
DESCRIPTION:Fitness für den Körper\, Gehirnjogging im Rhythmus der Musik. Für alle geeignet\, auch ohne Partner*in. \nMontag\, 17:00 – 18:30 Uhr \nTermine: 28.04.\, 05.05.\, 12.05.\, 19.05.\, 26.05.\, 02.06.\, 16.06.\, 23.06.2025 \nOrt: Währingerpark (neben öffentlicher Tischtennisanlage)\, 1180 Wien
URL:https://kalender.seniorinnen.wien/event/linedance/2025-04-28/
LOCATION:Währingerpark\, Wien\, 1180
CATEGORIES:Begegnung,Fit und Gesund,Grätzel
ATTACH;FMTTYPE=image/jpeg:https://kalender.seniorinnen.wien/wp-content/uploads/2022/07/Cha-Cha-Cha-scaled.jpg
END:VEVENT
END:VCALENDAR