BEGIN:VCALENDAR
VERSION:2.0
PRODID:-//Wien für Senior:innen - ECPv6.15.17.1//NONSGML v1.0//EN
CALSCALE:GREGORIAN
METHOD:PUBLISH
X-ORIGINAL-URL:https://kalender.seniorinnen.wien
X-WR-CALDESC:Veranstaltungen für Wien für Senior:innen
REFRESH-INTERVAL;VALUE=DURATION:PT1H
X-Robots-Tag:noindex
X-PUBLISHED-TTL:PT1H
BEGIN:VTIMEZONE
TZID:Europe/Berlin
BEGIN:DAYLIGHT
TZOFFSETFROM:+0100
TZOFFSETTO:+0200
TZNAME:CEST
DTSTART:20230326T010000
END:DAYLIGHT
BEGIN:STANDARD
TZOFFSETFROM:+0200
TZOFFSETTO:+0100
TZNAME:CET
DTSTART:20231029T010000
END:STANDARD
BEGIN:DAYLIGHT
TZOFFSETFROM:+0100
TZOFFSETTO:+0200
TZNAME:CEST
DTSTART:20240331T010000
END:DAYLIGHT
BEGIN:STANDARD
TZOFFSETFROM:+0200
TZOFFSETTO:+0100
TZNAME:CET
DTSTART:20241027T010000
END:STANDARD
BEGIN:DAYLIGHT
TZOFFSETFROM:+0100
TZOFFSETTO:+0200
TZNAME:CEST
DTSTART:20250330T010000
END:DAYLIGHT
BEGIN:STANDARD
TZOFFSETFROM:+0200
TZOFFSETTO:+0100
TZNAME:CET
DTSTART:20251026T010000
END:STANDARD
END:VTIMEZONE
BEGIN:VEVENT
DTSTART;TZID=Europe/Berlin:20241022T100000
DTEND;TZID=Europe/Berlin:20241022T123000
DTSTAMP:20260420T114819
CREATED:20240830T160355Z
LAST-MODIFIED:20240830T160355Z
UID:6353-1729591200-1729600200@kalender.seniorinnen.wien
SUMMARY:Kultur-Spaziergang
DESCRIPTION:Im Freihausviertel verbergen sich Geschichten und Anekdoten an jeder Ecke. Entdecken Sie beim geführten Spaziergang die Gegend um den Naschmarkt und Karlsplatz mit neuen Augen. \nAnmeldung von 2.9. bis 11.10 unter Tel: 01 512 36 61 34 50 oder E-Mail: nbz12@wiener.hilfswerk.at
URL:https://kalender.seniorinnen.wien/event/kultur-spaziergang/
LOCATION:Vorplatz Wien Museum\, Karlsplatz 8\, Wien\, 1040
CATEGORIES:Begegnung,Grätzel,Kunst und Kultur,Monat der Senior:innen
ATTACH;FMTTYPE=image/jpeg:https://kalender.seniorinnen.wien/wp-content/uploads/2024/08/vienna-1527172_1280-e1725014981112.jpg
END:VEVENT
END:VCALENDAR