BEGIN:VCALENDAR
VERSION:2.0
PRODID:-//Wien für Senior:innen - ECPv6.15.17.1//NONSGML v1.0//EN
CALSCALE:GREGORIAN
METHOD:PUBLISH
X-ORIGINAL-URL:https://kalender.seniorinnen.wien
X-WR-CALDESC:Veranstaltungen für Wien für Senior:innen
REFRESH-INTERVAL;VALUE=DURATION:PT1H
X-Robots-Tag:noindex
X-PUBLISHED-TTL:PT1H
BEGIN:VTIMEZONE
TZID:Europe/Berlin
BEGIN:DAYLIGHT
TZOFFSETFROM:+0100
TZOFFSETTO:+0200
TZNAME:CEST
DTSTART:20220327T010000
END:DAYLIGHT
BEGIN:STANDARD
TZOFFSETFROM:+0200
TZOFFSETTO:+0100
TZNAME:CET
DTSTART:20221030T010000
END:STANDARD
BEGIN:DAYLIGHT
TZOFFSETFROM:+0100
TZOFFSETTO:+0200
TZNAME:CEST
DTSTART:20230326T010000
END:DAYLIGHT
BEGIN:STANDARD
TZOFFSETFROM:+0200
TZOFFSETTO:+0100
TZNAME:CET
DTSTART:20231029T010000
END:STANDARD
BEGIN:DAYLIGHT
TZOFFSETFROM:+0100
TZOFFSETTO:+0200
TZNAME:CEST
DTSTART:20240331T010000
END:DAYLIGHT
BEGIN:STANDARD
TZOFFSETFROM:+0200
TZOFFSETTO:+0100
TZNAME:CET
DTSTART:20241027T010000
END:STANDARD
END:VTIMEZONE
BEGIN:VEVENT
DTSTART;TZID=Europe/Berlin:20231009T140000
DTEND;TZID=Europe/Berlin:20231009T160000
DTSTAMP:20260420T152938
CREATED:20230810T101854Z
LAST-MODIFIED:20230811T115736Z
UID:3673-1696860000-1696867200@kalender.seniorinnen.wien
SUMMARY:Monat der Senior:innen: Queere Stadtführung durch Neubau
DESCRIPTION:Diesmal geht es beim Stadtspaziergang mit Andreas Brunner von QWIEN\, dem Zentrum für queere Geschichte\, durch den historischen 7. Bezirk. Sie erhalten dabei Einblick in die Geschichten von Menschen dieser Zeit und erfahren\, wie sie ihre Liebe\, Sexualität oder ihr Geschlecht entgegen gesellschaftlichen Erwartungen leben konnten. Treffpunkt direkt vor dem Volkstheater. \nBitte melden Sie sich ab 1.9. bis 6.10.2023 an unter dem FSW-Kund:innentelefon 01/24 5 24. \nSollten Sie nicht an der Veranstaltung teilnehmen können\, sagen Sie bitte ab. So haben Interessierte die Möglichkeit\, Ihren Platz einzunehmen. \nAuf vielen Veranstaltungen wird fotografiert und/oder gefilmt. Mit der Teilnahme an einer Veranstaltung stimmen Sie einer möglichen Veröffentlichung auf Websites\, Social Media-Kanälen\, Print- und Onlinemedien und dergleichen zu. \n(c) David Bohmann
URL:https://kalender.seniorinnen.wien/event/queere-stadtfuehrung/
LOCATION:Volkstheater\, 1070
CATEGORIES:Monat der Senior:innen
ATTACH;FMTTYPE=image/jpeg:https://kalender.seniorinnen.wien/wp-content/uploads/2023/08/QueereStadtfuehrung_c_David_Bohmann_077_web.jpg
END:VEVENT
END:VCALENDAR