BEGIN:VCALENDAR
VERSION:2.0
PRODID:-//Wien für Senior:innen - ECPv6.15.17.1//NONSGML v1.0//EN
CALSCALE:GREGORIAN
METHOD:PUBLISH
X-WR-CALNAME:Wien für Senior:innen
X-ORIGINAL-URL:https://kalender.seniorinnen.wien
X-WR-CALDESC:Veranstaltungen für Wien für Senior:innen
REFRESH-INTERVAL;VALUE=DURATION:PT1H
X-Robots-Tag:noindex
X-PUBLISHED-TTL:PT1H
BEGIN:VTIMEZONE
TZID:Europe/Berlin
BEGIN:DAYLIGHT
TZOFFSETFROM:+0100
TZOFFSETTO:+0200
TZNAME:CEST
DTSTART:20240331T010000
END:DAYLIGHT
BEGIN:STANDARD
TZOFFSETFROM:+0200
TZOFFSETTO:+0100
TZNAME:CET
DTSTART:20241027T010000
END:STANDARD
BEGIN:DAYLIGHT
TZOFFSETFROM:+0100
TZOFFSETTO:+0200
TZNAME:CEST
DTSTART:20250330T010000
END:DAYLIGHT
BEGIN:STANDARD
TZOFFSETFROM:+0200
TZOFFSETTO:+0100
TZNAME:CET
DTSTART:20251026T010000
END:STANDARD
BEGIN:DAYLIGHT
TZOFFSETFROM:+0100
TZOFFSETTO:+0200
TZNAME:CEST
DTSTART:20260329T010000
END:DAYLIGHT
BEGIN:STANDARD
TZOFFSETFROM:+0200
TZOFFSETTO:+0100
TZNAME:CET
DTSTART:20261025T010000
END:STANDARD
END:VTIMEZONE
BEGIN:VEVENT
DTSTART;TZID=Europe/Berlin:20251030T140000
DTEND;TZID=Europe/Berlin:20251030T160000
DTSTAMP:20260420T212909
CREATED:20250831T230051Z
LAST-MODIFIED:20250829T104506Z
UID:9711-1761832800-1761840000@kalender.seniorinnen.wien
SUMMARY:Fitness für Nase und Gehirn – Riech- und Gedächtnistraining im Alter
DESCRIPTION:Aromapflege als Gedächtnistraining zur Vorbeugung und Behandlung von Demenz\nIm Vortrag wird erklärt\, was Riechtraining bewirken kann\, für wen es geeignet ist und welche Effekte es erzielt. Es wird auch darauf eingegangen\, wie lange das Training dauert und eine Anleitung zur Durchführung wird gegeben. Ziel ist es\, den Teilnehmenden praktische Tipps und Methoden an die Hand zu geben\, um die kognitiven Fähigkeiten und das Wohlbefinden durch Aromapflege und Riechtraining zu fördern. \nZielgruppe: Alle Interessierten\, insbesondere ältere Erwachsene\, Angehörige von Personen mit neurodegenerativen Erkrankungen sowie Personen\, die selbst von Demenz betroffen sind. \nDauer: ca. 1 Stunde und anschließende Diskussion und Austausch. \nmax. 10-15 Teilnehmer:innen \nAnmeldung bis 10.10. \nTel.: 01 360 64 -71\nE-Mail: beratung@volkshilfe-wien.at \n  \nFoto: Freepik \n 
URL:https://kalender.seniorinnen.wien/event/fitness-fuer-nase-und-gehirn-riech-und-gedaechtnistraining-im-alter/2025-10-30/
LOCATION:Volkshilfe Wien\, Favoritenstraße 83/Festsaal\, Wien\, 1100
CATEGORIES:Demenz,Monat der Senior:innen
ATTACH;FMTTYPE=image/jpeg:https://kalender.seniorinnen.wien/wp-content/uploads/2025/09/close-up-happy-senior-couple-scaled-e1756463879352.jpg
ORGANIZER;CN="Volkshilfe Wien":MAILTO:freiwillig@volkshilfe-wien.at
END:VEVENT
BEGIN:VEVENT
DTSTART;TZID=Europe/Berlin:20251023T140000
DTEND;TZID=Europe/Berlin:20251023T160000
DTSTAMP:20260420T212909
CREATED:20250831T230051Z
LAST-MODIFIED:20250829T104506Z
UID:9703-1761228000-1761235200@kalender.seniorinnen.wien
SUMMARY:Fitness für Nase und Gehirn – Riech- und Gedächtnistraining im Alter
DESCRIPTION:Aromapflege als Gedächtnistraining zur Vorbeugung und Behandlung von Demenz\nIm Vortrag wird erklärt\, was Riechtraining bewirken kann\, für wen es geeignet ist und welche Effekte es erzielt. Es wird auch darauf eingegangen\, wie lange das Training dauert und eine Anleitung zur Durchführung wird gegeben. Ziel ist es\, den Teilnehmenden praktische Tipps und Methoden an die Hand zu geben\, um die kognitiven Fähigkeiten und das Wohlbefinden durch Aromapflege und Riechtraining zu fördern. \nZielgruppe: Alle Interessierten\, insbesondere ältere Erwachsene\, Angehörige von Personen mit neurodegenerativen Erkrankungen sowie Personen\, die selbst von Demenz betroffen sind. \nDauer: ca. 1 Stunde und anschließende Diskussion und Austausch. \nmax. 10-15 Teilnehmer:innen \nAnmeldung bis 10.10. \nTel.: 01 360 64 -71\nE-Mail: beratung@volkshilfe-wien.at \n  \nFoto: Freepik \n 
URL:https://kalender.seniorinnen.wien/event/fitness-fuer-nase-und-gehirn-riech-und-gedaechtnistraining-im-alter/2025-10-23/
LOCATION:Volkshilfe Wien\, Favoritenstraße 83/Festsaal\, Wien\, 1100
CATEGORIES:Demenz,Monat der Senior:innen
ATTACH;FMTTYPE=image/jpeg:https://kalender.seniorinnen.wien/wp-content/uploads/2025/09/close-up-happy-senior-couple-scaled-e1756463879352.jpg
ORGANIZER;CN="Volkshilfe Wien":MAILTO:freiwillig@volkshilfe-wien.at
END:VEVENT
BEGIN:VEVENT
DTSTART;TZID=Europe/Berlin:20251016T140000
DTEND;TZID=Europe/Berlin:20251016T160000
DTSTAMP:20260420T212909
CREATED:20250831T230054Z
LAST-MODIFIED:20250829T104520Z
UID:9708-1760623200-1760630400@kalender.seniorinnen.wien
SUMMARY:Gut leben TROTZDEMenz
DESCRIPTION:Präventionsmaßnahmen\, Diagnosestellung und den damit verbundenen Veränderungen bei Demenz\nIn diesem Vortrag wird das Thema Demenz umfassend vorgestellt. Es wird ein Überblick über die verschiedenen Erscheinungsformen der Demenz gegeben und detailliert auf die Symptome in den unterschiedlichen Stadien der Erkrankung eingegangen. Zudem werden die Risikofaktoren beleuchtet und wertvolle Informationen darüber vermittelt\, wie man sich am besten vor Demenz schützen kann. Ein weiterer Schwerpunkt des Vortrags liegt auf den Wegen zur Diagnosestellung und der Bedeutung einer frühzeitigen Diagnose. Es wird erläutert\, wie das Leben nach einer Diagnosestellung weitergeht und welche Veränderungen die Erkrankung mit sich bringt. In diesem Zusammenhang werden auch praktische Hilfestellungen und Tipps für den Alltag gegeben. Abschließend wird auf die Entlastung pflegender Angehöriger eingegangen\, um ihnen Unterstützung und wertvolle Ratschläge zu bieten. \nZielgruppe: Alle Interessierten\, insbesondere ältere Erwachsene\, Angehörige von Menschen mit neurodegenerativen Erkrankungen sowie Personen\, die selbst von Demenz betroffen sind. \nDauer: ca. 1 Stunde und anschließende Diskussion und Austausch \nmax. 10-15 Teilnehmer:innen \nAnmeldung bis 10.10. \nTel.: 01 360 64 -71\nE-Mail: beratung@volkshilfe-wien.at \nFoto: Pixabay
URL:https://kalender.seniorinnen.wien/event/gut-leben-trotzdemenz/
LOCATION:Volkshilfe Wien\, Favoritenstraße 83/Festsaal\, Wien\, 1100
CATEGORIES:Demenz,Monat der Senior:innen
ATTACH;FMTTYPE=image/jpeg:https://kalender.seniorinnen.wien/wp-content/uploads/2025/08/Schriftzug-Demenz-©Pixabay-e1754396077386.jpg
ORGANIZER;CN="Volkshilfe Wien":MAILTO:freiwillig@volkshilfe-wien.at
END:VEVENT
END:VCALENDAR