BEGIN:VCALENDAR
VERSION:2.0
PRODID:-//Wien für Senior:innen - ECPv6.15.17.1//NONSGML v1.0//EN
CALSCALE:GREGORIAN
METHOD:PUBLISH
X-ORIGINAL-URL:https://kalender.seniorinnen.wien
X-WR-CALDESC:Veranstaltungen für Wien für Senior:innen
REFRESH-INTERVAL;VALUE=DURATION:PT1H
X-Robots-Tag:noindex
X-PUBLISHED-TTL:PT1H
BEGIN:VTIMEZONE
TZID:Europe/Berlin
BEGIN:DAYLIGHT
TZOFFSETFROM:+0100
TZOFFSETTO:+0200
TZNAME:CEST
DTSTART:20230326T010000
END:DAYLIGHT
BEGIN:STANDARD
TZOFFSETFROM:+0200
TZOFFSETTO:+0100
TZNAME:CET
DTSTART:20231029T010000
END:STANDARD
BEGIN:DAYLIGHT
TZOFFSETFROM:+0100
TZOFFSETTO:+0200
TZNAME:CEST
DTSTART:20240331T010000
END:DAYLIGHT
BEGIN:STANDARD
TZOFFSETFROM:+0200
TZOFFSETTO:+0100
TZNAME:CET
DTSTART:20241027T010000
END:STANDARD
BEGIN:DAYLIGHT
TZOFFSETFROM:+0100
TZOFFSETTO:+0200
TZNAME:CEST
DTSTART:20250330T010000
END:DAYLIGHT
BEGIN:STANDARD
TZOFFSETFROM:+0200
TZOFFSETTO:+0100
TZNAME:CET
DTSTART:20251026T010000
END:STANDARD
END:VTIMEZONE
BEGIN:VEVENT
DTSTART;TZID=Europe/Berlin:20241016T160000
DTEND;TZID=Europe/Berlin:20241016T190000
DTSTAMP:20260423T122239
CREATED:20240822T085413Z
LAST-MODIFIED:20240822T085413Z
UID:6093-1729094400-1729105200@kalender.seniorinnen.wien
SUMMARY:Kreativwerkstatt: Flippen Sie aus!
DESCRIPTION:Raus aus dem Alltag! Auf großflächig ausgelegtem Papier und Stoffen klecksen\, schmieren und kritzeln Sie sich die Welt\, so wie Sie Ihnen gefällt. \nEs wird bunt\, ausgelassen und viel gelacht\, als ob es kein Morgen gäbe. Bitte ein altes T-Shirt oder einen Kittel mitbringen. \n  \nAnmeldung: 2.9. bis 9.10.2024 \nTel.: 01 89 174 110 000\, \nE-Mail: favoriten@vhs.at \nWebsite: www.vhs.at/favoriten
URL:https://kalender.seniorinnen.wien/event/kreativwerkstatt-flippen-sie-aus/
LOCATION:VHS Wien 10\, Arthaberplatz 18\, Wien\, 1100
CATEGORIES:Kunst und Kultur,Monat der Senior:innen,Unterhaltung
ATTACH;FMTTYPE=image/jpeg:https://kalender.seniorinnen.wien/wp-content/uploads/2024/08/1049_8b77cc27550cf0d-scaled-e1724316843728.jpg
END:VEVENT
END:VCALENDAR