BEGIN:VCALENDAR
VERSION:2.0
PRODID:-//Wien für Senior:innen - ECPv6.15.17.1//NONSGML v1.0//EN
CALSCALE:GREGORIAN
METHOD:PUBLISH
X-ORIGINAL-URL:https://kalender.seniorinnen.wien
X-WR-CALDESC:Veranstaltungen für Wien für Senior:innen
REFRESH-INTERVAL;VALUE=DURATION:PT1H
X-Robots-Tag:noindex
X-PUBLISHED-TTL:PT1H
BEGIN:VTIMEZONE
TZID:Europe/Berlin
BEGIN:DAYLIGHT
TZOFFSETFROM:+0100
TZOFFSETTO:+0200
TZNAME:CEST
DTSTART:20240331T010000
END:DAYLIGHT
BEGIN:STANDARD
TZOFFSETFROM:+0200
TZOFFSETTO:+0100
TZNAME:CET
DTSTART:20241027T010000
END:STANDARD
BEGIN:DAYLIGHT
TZOFFSETFROM:+0100
TZOFFSETTO:+0200
TZNAME:CEST
DTSTART:20250330T010000
END:DAYLIGHT
BEGIN:STANDARD
TZOFFSETFROM:+0200
TZOFFSETTO:+0100
TZNAME:CET
DTSTART:20251026T010000
END:STANDARD
BEGIN:DAYLIGHT
TZOFFSETFROM:+0100
TZOFFSETTO:+0200
TZNAME:CEST
DTSTART:20260329T010000
END:DAYLIGHT
BEGIN:STANDARD
TZOFFSETFROM:+0200
TZOFFSETTO:+0100
TZNAME:CET
DTSTART:20261025T010000
END:STANDARD
END:VTIMEZONE
BEGIN:VEVENT
DTSTART;TZID=Europe/Berlin:20251022T143000
DTEND;TZID=Europe/Berlin:20251022T163000
DTSTAMP:20260421T003350
CREATED:20250831T230013Z
LAST-MODIFIED:20250827T102134Z
UID:8390-1761143400-1761150600@kalender.seniorinnen.wien
SUMMARY:Backen verbindet
DESCRIPTION:Ein Nachmittag voller Leckereien und Gespräche für Senior:innen\nSie lernen Schritt für Schritt\, wie man köstliche Blech- und Biskuitkuchen zubereitet. Am Ende genießen Sie die frisch gebackenen Köstlichkeiten und tauschen Erfahrungen aus. \nAnmeldung bis 17. 10.: \nTel.: 01 891 74 115 000\nE-Mail: rudolfsheim@vhs.at
URL:https://kalender.seniorinnen.wien/event/backen-verbindet/
LOCATION:VHS Rudolfsheim-Fünfhaus\, Schwendergasse 41\, Wien\, Wien\, 1150\, Austria
CATEGORIES:Begegnung,Monat der Senior:innen
ATTACH;FMTTYPE=image/jpeg:https://kalender.seniorinnen.wien/wp-content/uploads/2025/08/pie-8396728_1280-e1756290046431.jpg
ORGANIZER;CN="VHS Rudolfsheim-F%C3%BCnfhaus":MAILTO:rudolfsheim@vhs.at
END:VEVENT
BEGIN:VEVENT
DTSTART;TZID=Europe/Berlin:20251007T113000
DTEND;TZID=Europe/Berlin:20251007T130000
DTSTAMP:20260421T003350
CREATED:20250831T230053Z
LAST-MODIFIED:20250827T102246Z
UID:8333-1759836600-1759842000@kalender.seniorinnen.wien
SUMMARY:Englisch-Lesekreis
DESCRIPTION:Let’s read together: Tauchen Sie ein in die Welt der englischen Literatur. In entspannter und anregender Atmosphäre lesen und diskutieren wir gemeinsam ausgewählte Bücher (ab Sprachniveau B1). \nMax. 15 Teilnehmer:innen \nAnmeldung bis 3.10. \nTel.: 01 891 74 115 000\nE-Mail: rudolfsheim@vhs.at \nWebsite: http://www.vhs.at/rudolfsheim \nFoto: pixabay
URL:https://kalender.seniorinnen.wien/event/englisch-lesekreis/
LOCATION:VHS Rudolfsheim-Fünfhaus\, Schwendergasse 41\, Wien\, Wien\, 1150\, Austria
CATEGORIES:Bildung,Monat der Senior:innen
ATTACH;FMTTYPE=image/jpeg:https://kalender.seniorinnen.wien/wp-content/uploads/2025/08/senior-4957716_1280-e1754549675285.jpg
ORGANIZER;CN="VHS Rudolfsheim-F%C3%BCnfhaus":MAILTO:rudolfsheim@vhs.at
END:VEVENT
END:VCALENDAR