BEGIN:VCALENDAR
VERSION:2.0
PRODID:-//Wien für Senior:innen - ECPv6.15.17.1//NONSGML v1.0//EN
CALSCALE:GREGORIAN
METHOD:PUBLISH
X-ORIGINAL-URL:https://kalender.seniorinnen.wien
X-WR-CALDESC:Veranstaltungen für Wien für Senior:innen
REFRESH-INTERVAL;VALUE=DURATION:PT1H
X-Robots-Tag:noindex
X-PUBLISHED-TTL:PT1H
BEGIN:VTIMEZONE
TZID:Europe/Berlin
BEGIN:DAYLIGHT
TZOFFSETFROM:+0100
TZOFFSETTO:+0200
TZNAME:CEST
DTSTART:20240331T010000
END:DAYLIGHT
BEGIN:STANDARD
TZOFFSETFROM:+0200
TZOFFSETTO:+0100
TZNAME:CET
DTSTART:20241027T010000
END:STANDARD
BEGIN:DAYLIGHT
TZOFFSETFROM:+0100
TZOFFSETTO:+0200
TZNAME:CEST
DTSTART:20250330T010000
END:DAYLIGHT
BEGIN:STANDARD
TZOFFSETFROM:+0200
TZOFFSETTO:+0100
TZNAME:CET
DTSTART:20251026T010000
END:STANDARD
BEGIN:DAYLIGHT
TZOFFSETFROM:+0100
TZOFFSETTO:+0200
TZNAME:CEST
DTSTART:20260329T010000
END:DAYLIGHT
BEGIN:STANDARD
TZOFFSETFROM:+0200
TZOFFSETTO:+0100
TZNAME:CET
DTSTART:20261025T010000
END:STANDARD
END:VTIMEZONE
BEGIN:VEVENT
DTSTART;TZID=Europe/Berlin:20251114T090000
DTEND;TZID=Europe/Berlin:20251114T103000
DTSTAMP:20260420T204225
CREATED:20251001T095047Z
LAST-MODIFIED:20251001T095047Z
UID:10807-1763110800-1763116200@kalender.seniorinnen.wien
SUMMARY:Yoga für Senior:innen
DESCRIPTION:Yoga für Senior:innen – Anfänger:innen\nTeilnehmer:innen: 8-15\nZeit: Fr 7x\, 26.09.-14.11.2025\, 9-10:30 Uhr\, 10\,5 UE \nKursleitung: Manuela Sideras\, BEd Raum: Gym. 2\nOrt: VHS Meidling\, 1120 Wien\, Längenfeldgasse 13-15 \nKursnummer: 31310000\nKosten: € 144\,00 \nFoto: Pixabay
URL:https://kalender.seniorinnen.wien/event/yoga-fuer-seniorinnen-4/2025-11-14/
LOCATION:VHS Meidling\, Längenfeldgasse 13-15\, Wien\, 1120
CATEGORIES:Fit und Gesund
ATTACH;FMTTYPE=image/jpeg:https://kalender.seniorinnen.wien/wp-content/uploads/2024/08/yoga-4650150_1280-e1757937933698.jpg
END:VEVENT
BEGIN:VEVENT
DTSTART;TZID=Europe/Berlin:20251113T103000
DTEND;TZID=Europe/Berlin:20251113T120000
DTSTAMP:20260420T204225
CREATED:20251001T094805Z
LAST-MODIFIED:20251001T094805Z
UID:10822-1763029800-1763035200@kalender.seniorinnen.wien
SUMMARY:Yoga für Senior:innen
DESCRIPTION:Yoga für Senior:innen – Anfänger:innen\nTeilnehmer:innen: 8-15\nZeit: Do 7x\, 25.09.-13.11.2025\, 10:30-12 Uhr\, 10\,5 UE \nKursleitung: Manuela Sideras\, BEd Raum: Gym. 1\nOrt: VHS Meidling\, 1120 Wien\, Längenfeldgasse 13-15 \nKursnummer: 31717500a\nKosten: € 118\,00 \nFoto: Pixabay
URL:https://kalender.seniorinnen.wien/event/yoga-fuer-seniorinnen-3/2025-11-13/
LOCATION:VHS Meidling\, Längenfeldgasse 13-15\, Wien\, 1120
CATEGORIES:Fit und Gesund
ATTACH;FMTTYPE=image/jpeg:https://kalender.seniorinnen.wien/wp-content/uploads/2024/08/yoga-4650150_1280-e1757937933698.jpg
END:VEVENT
BEGIN:VEVENT
DTSTART;TZID=Europe/Berlin:20251113T100000
DTEND;TZID=Europe/Berlin:20251113T120000
DTSTAMP:20260420T204225
CREATED:20251001T095928Z
LAST-MODIFIED:20251001T100529Z
UID:10831-1763028000-1763035200@kalender.seniorinnen.wien
SUMMARY:"Goldclub"-Chor für Senior:innen
DESCRIPTION:„Goldclub“\nChor für Senior:innen \nTeilnehmer:innen: 8-15\nZeit: Do 7x\, 25.09.-13.11.2025\, 10-12 Uhr\, 14 UE \nKursleitung: Agneta Hanappi\, BA Raum: 103a\, 105\nOrt: VHS Meidling\, 1120 Wien\, Längenfeldgasse 13-15 \nKursnummer: 31510200a\nKurskosten:€ 85\,00 \nFoto: Pixabay
URL:https://kalender.seniorinnen.wien/event/goldclub-chor-fuer-seniorinnen/2025-11-13/
LOCATION:VHS Meidling\, Längenfeldgasse 13-15\, Wien\, 1120
CATEGORIES:Begegnung,Kunst und Kultur,Unterhaltung
ATTACH;FMTTYPE=image/jpeg:https://kalender.seniorinnen.wien/wp-content/uploads/2025/08/20250807-Singende-Senior_innen_pixabay-e1756451825664.jpg
END:VEVENT
BEGIN:VEVENT
DTSTART;TZID=Europe/Berlin:20251112T090000
DTEND;TZID=Europe/Berlin:20251112T100000
DTSTAMP:20260420T204225
CREATED:20251001T092145Z
LAST-MODIFIED:20251001T092636Z
UID:10776-1762938000-1762941600@kalender.seniorinnen.wien
SUMMARY:Yoga für Senior:innen
DESCRIPTION:Yoga für Senior:innen – Anfänger:innen\n8-15 Teilnehmer:innen\nZeit: Mi 7 x\, 24.09.-12.11.2025\, 9-10 Uhr\, 7 UE \nKursleitung: Manuela Sideras\, BEd\nRaum: Gym. 1\nOrt: VHS Meidling\, 1120 Wien\, Längenfeldgasse 13-15\nVHS Meidling\nKursnummer: 31510100a \nKosten: € 85\,00 \nFoto: Pixabay
URL:https://kalender.seniorinnen.wien/event/yoga-fuer-seniorinnen-2/2025-11-12/
LOCATION:VHS Meidling\, Längenfeldgasse 13-15\, Wien\, 1120
CATEGORIES:Fit und Gesund
ATTACH;FMTTYPE=image/jpeg:https://kalender.seniorinnen.wien/wp-content/uploads/2024/08/yoga-4650150_1280-e1757937933698.jpg
END:VEVENT
BEGIN:VEVENT
DTSTART;TZID=Europe/Berlin:20251107T090000
DTEND;TZID=Europe/Berlin:20251107T103000
DTSTAMP:20260420T204225
CREATED:20251001T095047Z
LAST-MODIFIED:20251001T095047Z
UID:10806-1762506000-1762511400@kalender.seniorinnen.wien
SUMMARY:Yoga für Senior:innen
DESCRIPTION:Yoga für Senior:innen – Anfänger:innen\nTeilnehmer:innen: 8-15\nZeit: Fr 7x\, 26.09.-14.11.2025\, 9-10:30 Uhr\, 10\,5 UE \nKursleitung: Manuela Sideras\, BEd Raum: Gym. 2\nOrt: VHS Meidling\, 1120 Wien\, Längenfeldgasse 13-15 \nKursnummer: 31310000\nKosten: € 144\,00 \nFoto: Pixabay
URL:https://kalender.seniorinnen.wien/event/yoga-fuer-seniorinnen-4/2025-11-07/
LOCATION:VHS Meidling\, Längenfeldgasse 13-15\, Wien\, 1120
CATEGORIES:Fit und Gesund
ATTACH;FMTTYPE=image/jpeg:https://kalender.seniorinnen.wien/wp-content/uploads/2024/08/yoga-4650150_1280-e1757937933698.jpg
END:VEVENT
BEGIN:VEVENT
DTSTART;TZID=Europe/Berlin:20251106T103000
DTEND;TZID=Europe/Berlin:20251106T120000
DTSTAMP:20260420T204225
CREATED:20251001T094805Z
LAST-MODIFIED:20251001T094805Z
UID:10821-1762425000-1762430400@kalender.seniorinnen.wien
SUMMARY:Yoga für Senior:innen
DESCRIPTION:Yoga für Senior:innen – Anfänger:innen\nTeilnehmer:innen: 8-15\nZeit: Do 7x\, 25.09.-13.11.2025\, 10:30-12 Uhr\, 10\,5 UE \nKursleitung: Manuela Sideras\, BEd Raum: Gym. 1\nOrt: VHS Meidling\, 1120 Wien\, Längenfeldgasse 13-15 \nKursnummer: 31717500a\nKosten: € 118\,00 \nFoto: Pixabay
URL:https://kalender.seniorinnen.wien/event/yoga-fuer-seniorinnen-3/2025-11-06/
LOCATION:VHS Meidling\, Längenfeldgasse 13-15\, Wien\, 1120
CATEGORIES:Fit und Gesund
ATTACH;FMTTYPE=image/jpeg:https://kalender.seniorinnen.wien/wp-content/uploads/2024/08/yoga-4650150_1280-e1757937933698.jpg
END:VEVENT
BEGIN:VEVENT
DTSTART;TZID=Europe/Berlin:20251106T100000
DTEND;TZID=Europe/Berlin:20251106T120000
DTSTAMP:20260420T204225
CREATED:20251001T095928Z
LAST-MODIFIED:20251001T100528Z
UID:10830-1762423200-1762430400@kalender.seniorinnen.wien
SUMMARY:"Goldclub"-Chor für Senior:innen
DESCRIPTION:„Goldclub“\nChor für Senior:innen \nTeilnehmer:innen: 8-15\nZeit: Do 7x\, 25.09.-13.11.2025\, 10-12 Uhr\, 14 UE \nKursleitung: Agneta Hanappi\, BA Raum: 103a\, 105\nOrt: VHS Meidling\, 1120 Wien\, Längenfeldgasse 13-15 \nKursnummer: 31510200a\nKurskosten:€ 85\,00 \nFoto: Pixabay
URL:https://kalender.seniorinnen.wien/event/goldclub-chor-fuer-seniorinnen/2025-11-06/
LOCATION:VHS Meidling\, Längenfeldgasse 13-15\, Wien\, 1120
CATEGORIES:Begegnung,Kunst und Kultur,Unterhaltung
ATTACH;FMTTYPE=image/jpeg:https://kalender.seniorinnen.wien/wp-content/uploads/2025/08/20250807-Singende-Senior_innen_pixabay-e1756451825664.jpg
END:VEVENT
BEGIN:VEVENT
DTSTART;TZID=Europe/Berlin:20251105T090000
DTEND;TZID=Europe/Berlin:20251105T100000
DTSTAMP:20260420T204225
CREATED:20251001T092145Z
LAST-MODIFIED:20251001T092636Z
UID:10775-1762333200-1762336800@kalender.seniorinnen.wien
SUMMARY:Yoga für Senior:innen
DESCRIPTION:Yoga für Senior:innen – Anfänger:innen\n8-15 Teilnehmer:innen\nZeit: Mi 7 x\, 24.09.-12.11.2025\, 9-10 Uhr\, 7 UE \nKursleitung: Manuela Sideras\, BEd\nRaum: Gym. 1\nOrt: VHS Meidling\, 1120 Wien\, Längenfeldgasse 13-15\nVHS Meidling\nKursnummer: 31510100a \nKosten: € 85\,00 \nFoto: Pixabay
URL:https://kalender.seniorinnen.wien/event/yoga-fuer-seniorinnen-2/2025-11-05/
LOCATION:VHS Meidling\, Längenfeldgasse 13-15\, Wien\, 1120
CATEGORIES:Fit und Gesund
ATTACH;FMTTYPE=image/jpeg:https://kalender.seniorinnen.wien/wp-content/uploads/2024/08/yoga-4650150_1280-e1757937933698.jpg
END:VEVENT
BEGIN:VEVENT
DTSTART;TZID=Europe/Berlin:20251031T090000
DTEND;TZID=Europe/Berlin:20251031T103000
DTSTAMP:20260420T204225
CREATED:20251001T095047Z
LAST-MODIFIED:20251001T095047Z
UID:10805-1761901200-1761906600@kalender.seniorinnen.wien
SUMMARY:Yoga für Senior:innen
DESCRIPTION:Yoga für Senior:innen – Anfänger:innen\nTeilnehmer:innen: 8-15\nZeit: Fr 7x\, 26.09.-14.11.2025\, 9-10:30 Uhr\, 10\,5 UE \nKursleitung: Manuela Sideras\, BEd Raum: Gym. 2\nOrt: VHS Meidling\, 1120 Wien\, Längenfeldgasse 13-15 \nKursnummer: 31310000\nKosten: € 144\,00 \nFoto: Pixabay
URL:https://kalender.seniorinnen.wien/event/yoga-fuer-seniorinnen-4/2025-10-31/
LOCATION:VHS Meidling\, Längenfeldgasse 13-15\, Wien\, 1120
CATEGORIES:Fit und Gesund
ATTACH;FMTTYPE=image/jpeg:https://kalender.seniorinnen.wien/wp-content/uploads/2024/08/yoga-4650150_1280-e1757937933698.jpg
END:VEVENT
BEGIN:VEVENT
DTSTART;TZID=Europe/Berlin:20251030T103000
DTEND;TZID=Europe/Berlin:20251030T120000
DTSTAMP:20260420T204225
CREATED:20251001T094805Z
LAST-MODIFIED:20251001T094805Z
UID:10820-1761820200-1761825600@kalender.seniorinnen.wien
SUMMARY:Yoga für Senior:innen
DESCRIPTION:Yoga für Senior:innen – Anfänger:innen\nTeilnehmer:innen: 8-15\nZeit: Do 7x\, 25.09.-13.11.2025\, 10:30-12 Uhr\, 10\,5 UE \nKursleitung: Manuela Sideras\, BEd Raum: Gym. 1\nOrt: VHS Meidling\, 1120 Wien\, Längenfeldgasse 13-15 \nKursnummer: 31717500a\nKosten: € 118\,00 \nFoto: Pixabay
URL:https://kalender.seniorinnen.wien/event/yoga-fuer-seniorinnen-3/2025-10-30/
LOCATION:VHS Meidling\, Längenfeldgasse 13-15\, Wien\, 1120
CATEGORIES:Fit und Gesund
ATTACH;FMTTYPE=image/jpeg:https://kalender.seniorinnen.wien/wp-content/uploads/2024/08/yoga-4650150_1280-e1757937933698.jpg
END:VEVENT
BEGIN:VEVENT
DTSTART;TZID=Europe/Berlin:20251030T100000
DTEND;TZID=Europe/Berlin:20251030T120000
DTSTAMP:20260420T204225
CREATED:20251001T095928Z
LAST-MODIFIED:20251001T100528Z
UID:10829-1761818400-1761825600@kalender.seniorinnen.wien
SUMMARY:"Goldclub"-Chor für Senior:innen
DESCRIPTION:„Goldclub“\nChor für Senior:innen \nTeilnehmer:innen: 8-15\nZeit: Do 7x\, 25.09.-13.11.2025\, 10-12 Uhr\, 14 UE \nKursleitung: Agneta Hanappi\, BA Raum: 103a\, 105\nOrt: VHS Meidling\, 1120 Wien\, Längenfeldgasse 13-15 \nKursnummer: 31510200a\nKurskosten:€ 85\,00 \nFoto: Pixabay
URL:https://kalender.seniorinnen.wien/event/goldclub-chor-fuer-seniorinnen/2025-10-30/
LOCATION:VHS Meidling\, Längenfeldgasse 13-15\, Wien\, 1120
CATEGORIES:Begegnung,Kunst und Kultur,Unterhaltung
ATTACH;FMTTYPE=image/jpeg:https://kalender.seniorinnen.wien/wp-content/uploads/2025/08/20250807-Singende-Senior_innen_pixabay-e1756451825664.jpg
END:VEVENT
BEGIN:VEVENT
DTSTART;TZID=Europe/Berlin:20251029T100000
DTEND;TZID=Europe/Berlin:20251029T130000
DTSTAMP:20260420T204225
CREATED:20251001T101003Z
LAST-MODIFIED:20251001T101003Z
UID:10844-1761732000-1761742800@kalender.seniorinnen.wien
SUMMARY:Computerkurs
DESCRIPTION:Computerkurs – Einsteiger:innen\n(Microsoft Windows und  Office)\nTeilnehmer:innen: 8-10\nZeit: Mo+Mi 4x\, 20.-29.10.2025\, 10-13 Uhr\, 12 UE \nKursleitung: Simone Klein Raum: 203 EDV\nOrt: VHS Meidling\, 1120 Wien\, Längenfeldgasse 13-15 \nFoto: Pixabay
URL:https://kalender.seniorinnen.wien/event/computerkurs/2025-10-29/
LOCATION:VHS Meidling\, Längenfeldgasse 13-15\, Wien\, 1120
CATEGORIES:Digital und Online
ATTACH;FMTTYPE=image/jpeg:https://kalender.seniorinnen.wien/wp-content/uploads/2021/02/computer-768608_1920-e1612443894446.jpg
END:VEVENT
BEGIN:VEVENT
DTSTART;TZID=Europe/Berlin:20251029T090000
DTEND;TZID=Europe/Berlin:20251029T100000
DTSTAMP:20260420T204225
CREATED:20251001T092145Z
LAST-MODIFIED:20251001T092635Z
UID:10774-1761728400-1761732000@kalender.seniorinnen.wien
SUMMARY:Yoga für Senior:innen
DESCRIPTION:Yoga für Senior:innen – Anfänger:innen\n8-15 Teilnehmer:innen\nZeit: Mi 7 x\, 24.09.-12.11.2025\, 9-10 Uhr\, 7 UE \nKursleitung: Manuela Sideras\, BEd\nRaum: Gym. 1\nOrt: VHS Meidling\, 1120 Wien\, Längenfeldgasse 13-15\nVHS Meidling\nKursnummer: 31510100a \nKosten: € 85\,00 \nFoto: Pixabay
URL:https://kalender.seniorinnen.wien/event/yoga-fuer-seniorinnen-2/2025-10-29/
LOCATION:VHS Meidling\, Längenfeldgasse 13-15\, Wien\, 1120
CATEGORIES:Fit und Gesund
ATTACH;FMTTYPE=image/jpeg:https://kalender.seniorinnen.wien/wp-content/uploads/2024/08/yoga-4650150_1280-e1757937933698.jpg
END:VEVENT
BEGIN:VEVENT
DTSTART;TZID=Europe/Berlin:20251027T100000
DTEND;TZID=Europe/Berlin:20251027T130000
DTSTAMP:20260420T204225
CREATED:20251001T101003Z
LAST-MODIFIED:20251001T101003Z
UID:10843-1761559200-1761570000@kalender.seniorinnen.wien
SUMMARY:Computerkurs
DESCRIPTION:Computerkurs – Einsteiger:innen\n(Microsoft Windows und  Office)\nTeilnehmer:innen: 8-10\nZeit: Mo+Mi 4x\, 20.-29.10.2025\, 10-13 Uhr\, 12 UE \nKursleitung: Simone Klein Raum: 203 EDV\nOrt: VHS Meidling\, 1120 Wien\, Längenfeldgasse 13-15 \nFoto: Pixabay
URL:https://kalender.seniorinnen.wien/event/computerkurs/2025-10-27/
LOCATION:VHS Meidling\, Längenfeldgasse 13-15\, Wien\, 1120
CATEGORIES:Digital und Online
ATTACH;FMTTYPE=image/jpeg:https://kalender.seniorinnen.wien/wp-content/uploads/2021/02/computer-768608_1920-e1612443894446.jpg
END:VEVENT
BEGIN:VEVENT
DTSTART;TZID=Europe/Berlin:20251024T090000
DTEND;TZID=Europe/Berlin:20251024T103000
DTSTAMP:20260420T204225
CREATED:20251001T095047Z
LAST-MODIFIED:20251001T095047Z
UID:10804-1761296400-1761301800@kalender.seniorinnen.wien
SUMMARY:Yoga für Senior:innen
DESCRIPTION:Yoga für Senior:innen – Anfänger:innen\nTeilnehmer:innen: 8-15\nZeit: Fr 7x\, 26.09.-14.11.2025\, 9-10:30 Uhr\, 10\,5 UE \nKursleitung: Manuela Sideras\, BEd Raum: Gym. 2\nOrt: VHS Meidling\, 1120 Wien\, Längenfeldgasse 13-15 \nKursnummer: 31310000\nKosten: € 144\,00 \nFoto: Pixabay
URL:https://kalender.seniorinnen.wien/event/yoga-fuer-seniorinnen-4/2025-10-24/
LOCATION:VHS Meidling\, Längenfeldgasse 13-15\, Wien\, 1120
CATEGORIES:Fit und Gesund
ATTACH;FMTTYPE=image/jpeg:https://kalender.seniorinnen.wien/wp-content/uploads/2024/08/yoga-4650150_1280-e1757937933698.jpg
END:VEVENT
BEGIN:VEVENT
DTSTART;TZID=Europe/Berlin:20251023T103000
DTEND;TZID=Europe/Berlin:20251023T120000
DTSTAMP:20260420T204225
CREATED:20251001T094805Z
LAST-MODIFIED:20251001T094805Z
UID:10819-1761215400-1761220800@kalender.seniorinnen.wien
SUMMARY:Yoga für Senior:innen
DESCRIPTION:Yoga für Senior:innen – Anfänger:innen\nTeilnehmer:innen: 8-15\nZeit: Do 7x\, 25.09.-13.11.2025\, 10:30-12 Uhr\, 10\,5 UE \nKursleitung: Manuela Sideras\, BEd Raum: Gym. 1\nOrt: VHS Meidling\, 1120 Wien\, Längenfeldgasse 13-15 \nKursnummer: 31717500a\nKosten: € 118\,00 \nFoto: Pixabay
URL:https://kalender.seniorinnen.wien/event/yoga-fuer-seniorinnen-3/2025-10-23/
LOCATION:VHS Meidling\, Längenfeldgasse 13-15\, Wien\, 1120
CATEGORIES:Fit und Gesund
ATTACH;FMTTYPE=image/jpeg:https://kalender.seniorinnen.wien/wp-content/uploads/2024/08/yoga-4650150_1280-e1757937933698.jpg
END:VEVENT
BEGIN:VEVENT
DTSTART;TZID=Europe/Berlin:20251023T100000
DTEND;TZID=Europe/Berlin:20251023T120000
DTSTAMP:20260420T204225
CREATED:20251001T095928Z
LAST-MODIFIED:20251001T100527Z
UID:10828-1761213600-1761220800@kalender.seniorinnen.wien
SUMMARY:"Goldclub"-Chor für Senior:innen
DESCRIPTION:„Goldclub“\nChor für Senior:innen \nTeilnehmer:innen: 8-15\nZeit: Do 7x\, 25.09.-13.11.2025\, 10-12 Uhr\, 14 UE \nKursleitung: Agneta Hanappi\, BA Raum: 103a\, 105\nOrt: VHS Meidling\, 1120 Wien\, Längenfeldgasse 13-15 \nKursnummer: 31510200a\nKurskosten:€ 85\,00 \nFoto: Pixabay
URL:https://kalender.seniorinnen.wien/event/goldclub-chor-fuer-seniorinnen/2025-10-23/
LOCATION:VHS Meidling\, Längenfeldgasse 13-15\, Wien\, 1120
CATEGORIES:Begegnung,Kunst und Kultur,Unterhaltung
ATTACH;FMTTYPE=image/jpeg:https://kalender.seniorinnen.wien/wp-content/uploads/2025/08/20250807-Singende-Senior_innen_pixabay-e1756451825664.jpg
END:VEVENT
BEGIN:VEVENT
DTSTART;TZID=Europe/Berlin:20251022T100000
DTEND;TZID=Europe/Berlin:20251022T130000
DTSTAMP:20260420T204225
CREATED:20251001T101003Z
LAST-MODIFIED:20251001T101003Z
UID:10842-1761127200-1761138000@kalender.seniorinnen.wien
SUMMARY:Computerkurs
DESCRIPTION:Computerkurs – Einsteiger:innen\n(Microsoft Windows und  Office)\nTeilnehmer:innen: 8-10\nZeit: Mo+Mi 4x\, 20.-29.10.2025\, 10-13 Uhr\, 12 UE \nKursleitung: Simone Klein Raum: 203 EDV\nOrt: VHS Meidling\, 1120 Wien\, Längenfeldgasse 13-15 \nFoto: Pixabay
URL:https://kalender.seniorinnen.wien/event/computerkurs/2025-10-22/
LOCATION:VHS Meidling\, Längenfeldgasse 13-15\, Wien\, 1120
CATEGORIES:Digital und Online
ATTACH;FMTTYPE=image/jpeg:https://kalender.seniorinnen.wien/wp-content/uploads/2021/02/computer-768608_1920-e1612443894446.jpg
END:VEVENT
BEGIN:VEVENT
DTSTART;TZID=Europe/Berlin:20251022T090000
DTEND;TZID=Europe/Berlin:20251022T100000
DTSTAMP:20260420T204225
CREATED:20251001T092145Z
LAST-MODIFIED:20251001T092635Z
UID:10773-1761123600-1761127200@kalender.seniorinnen.wien
SUMMARY:Yoga für Senior:innen
DESCRIPTION:Yoga für Senior:innen – Anfänger:innen\n8-15 Teilnehmer:innen\nZeit: Mi 7 x\, 24.09.-12.11.2025\, 9-10 Uhr\, 7 UE \nKursleitung: Manuela Sideras\, BEd\nRaum: Gym. 1\nOrt: VHS Meidling\, 1120 Wien\, Längenfeldgasse 13-15\nVHS Meidling\nKursnummer: 31510100a \nKosten: € 85\,00 \nFoto: Pixabay
URL:https://kalender.seniorinnen.wien/event/yoga-fuer-seniorinnen-2/2025-10-22/
LOCATION:VHS Meidling\, Längenfeldgasse 13-15\, Wien\, 1120
CATEGORIES:Fit und Gesund
ATTACH;FMTTYPE=image/jpeg:https://kalender.seniorinnen.wien/wp-content/uploads/2024/08/yoga-4650150_1280-e1757937933698.jpg
END:VEVENT
BEGIN:VEVENT
DTSTART;TZID=Europe/Berlin:20251020T100000
DTEND;TZID=Europe/Berlin:20251020T130000
DTSTAMP:20260420T204225
CREATED:20251001T101003Z
LAST-MODIFIED:20251001T101003Z
UID:10840-1760954400-1760965200@kalender.seniorinnen.wien
SUMMARY:Computerkurs
DESCRIPTION:Computerkurs – Einsteiger:innen\n(Microsoft Windows und  Office)\nTeilnehmer:innen: 8-10\nZeit: Mo+Mi 4x\, 20.-29.10.2025\, 10-13 Uhr\, 12 UE \nKursleitung: Simone Klein Raum: 203 EDV\nOrt: VHS Meidling\, 1120 Wien\, Längenfeldgasse 13-15 \nFoto: Pixabay
URL:https://kalender.seniorinnen.wien/event/computerkurs/2025-10-20/
LOCATION:VHS Meidling\, Längenfeldgasse 13-15\, Wien\, 1120
CATEGORIES:Digital und Online
ATTACH;FMTTYPE=image/jpeg:https://kalender.seniorinnen.wien/wp-content/uploads/2021/02/computer-768608_1920-e1612443894446.jpg
END:VEVENT
BEGIN:VEVENT
DTSTART;TZID=Europe/Berlin:20251017T090000
DTEND;TZID=Europe/Berlin:20251017T103000
DTSTAMP:20260420T204225
CREATED:20251001T095047Z
LAST-MODIFIED:20251001T095047Z
UID:10803-1760691600-1760697000@kalender.seniorinnen.wien
SUMMARY:Yoga für Senior:innen
DESCRIPTION:Yoga für Senior:innen – Anfänger:innen\nTeilnehmer:innen: 8-15\nZeit: Fr 7x\, 26.09.-14.11.2025\, 9-10:30 Uhr\, 10\,5 UE \nKursleitung: Manuela Sideras\, BEd Raum: Gym. 2\nOrt: VHS Meidling\, 1120 Wien\, Längenfeldgasse 13-15 \nKursnummer: 31310000\nKosten: € 144\,00 \nFoto: Pixabay
URL:https://kalender.seniorinnen.wien/event/yoga-fuer-seniorinnen-4/2025-10-17/
LOCATION:VHS Meidling\, Längenfeldgasse 13-15\, Wien\, 1120
CATEGORIES:Fit und Gesund
ATTACH;FMTTYPE=image/jpeg:https://kalender.seniorinnen.wien/wp-content/uploads/2024/08/yoga-4650150_1280-e1757937933698.jpg
END:VEVENT
BEGIN:VEVENT
DTSTART;TZID=Europe/Berlin:20251016T103000
DTEND;TZID=Europe/Berlin:20251016T120000
DTSTAMP:20260420T204225
CREATED:20251001T094805Z
LAST-MODIFIED:20251001T094805Z
UID:10818-1760610600-1760616000@kalender.seniorinnen.wien
SUMMARY:Yoga für Senior:innen
DESCRIPTION:Yoga für Senior:innen – Anfänger:innen\nTeilnehmer:innen: 8-15\nZeit: Do 7x\, 25.09.-13.11.2025\, 10:30-12 Uhr\, 10\,5 UE \nKursleitung: Manuela Sideras\, BEd Raum: Gym. 1\nOrt: VHS Meidling\, 1120 Wien\, Längenfeldgasse 13-15 \nKursnummer: 31717500a\nKosten: € 118\,00 \nFoto: Pixabay
URL:https://kalender.seniorinnen.wien/event/yoga-fuer-seniorinnen-3/2025-10-16/
LOCATION:VHS Meidling\, Längenfeldgasse 13-15\, Wien\, 1120
CATEGORIES:Fit und Gesund
ATTACH;FMTTYPE=image/jpeg:https://kalender.seniorinnen.wien/wp-content/uploads/2024/08/yoga-4650150_1280-e1757937933698.jpg
END:VEVENT
BEGIN:VEVENT
DTSTART;TZID=Europe/Berlin:20251016T100000
DTEND;TZID=Europe/Berlin:20251016T120000
DTSTAMP:20260420T204225
CREATED:20251001T095928Z
LAST-MODIFIED:20251001T100527Z
UID:10827-1760608800-1760616000@kalender.seniorinnen.wien
SUMMARY:"Goldclub"-Chor für Senior:innen
DESCRIPTION:„Goldclub“\nChor für Senior:innen \nTeilnehmer:innen: 8-15\nZeit: Do 7x\, 25.09.-13.11.2025\, 10-12 Uhr\, 14 UE \nKursleitung: Agneta Hanappi\, BA Raum: 103a\, 105\nOrt: VHS Meidling\, 1120 Wien\, Längenfeldgasse 13-15 \nKursnummer: 31510200a\nKurskosten:€ 85\,00 \nFoto: Pixabay
URL:https://kalender.seniorinnen.wien/event/goldclub-chor-fuer-seniorinnen/2025-10-16/
LOCATION:VHS Meidling\, Längenfeldgasse 13-15\, Wien\, 1120
CATEGORIES:Begegnung,Kunst und Kultur,Unterhaltung
ATTACH;FMTTYPE=image/jpeg:https://kalender.seniorinnen.wien/wp-content/uploads/2025/08/20250807-Singende-Senior_innen_pixabay-e1756451825664.jpg
END:VEVENT
BEGIN:VEVENT
DTSTART;TZID=Europe/Berlin:20251015T090000
DTEND;TZID=Europe/Berlin:20251015T100000
DTSTAMP:20260420T204225
CREATED:20251001T092145Z
LAST-MODIFIED:20251001T092635Z
UID:10772-1760518800-1760522400@kalender.seniorinnen.wien
SUMMARY:Yoga für Senior:innen
DESCRIPTION:Yoga für Senior:innen – Anfänger:innen\n8-15 Teilnehmer:innen\nZeit: Mi 7 x\, 24.09.-12.11.2025\, 9-10 Uhr\, 7 UE \nKursleitung: Manuela Sideras\, BEd\nRaum: Gym. 1\nOrt: VHS Meidling\, 1120 Wien\, Längenfeldgasse 13-15\nVHS Meidling\nKursnummer: 31510100a \nKosten: € 85\,00 \nFoto: Pixabay
URL:https://kalender.seniorinnen.wien/event/yoga-fuer-seniorinnen-2/2025-10-15/
LOCATION:VHS Meidling\, Längenfeldgasse 13-15\, Wien\, 1120
CATEGORIES:Fit und Gesund
ATTACH;FMTTYPE=image/jpeg:https://kalender.seniorinnen.wien/wp-content/uploads/2024/08/yoga-4650150_1280-e1757937933698.jpg
END:VEVENT
BEGIN:VEVENT
DTSTART;TZID=Europe/Berlin:20251010T090000
DTEND;TZID=Europe/Berlin:20251010T103000
DTSTAMP:20260420T204225
CREATED:20251001T095047Z
LAST-MODIFIED:20251001T095047Z
UID:10802-1760086800-1760092200@kalender.seniorinnen.wien
SUMMARY:Yoga für Senior:innen
DESCRIPTION:Yoga für Senior:innen – Anfänger:innen\nTeilnehmer:innen: 8-15\nZeit: Fr 7x\, 26.09.-14.11.2025\, 9-10:30 Uhr\, 10\,5 UE \nKursleitung: Manuela Sideras\, BEd Raum: Gym. 2\nOrt: VHS Meidling\, 1120 Wien\, Längenfeldgasse 13-15 \nKursnummer: 31310000\nKosten: € 144\,00 \nFoto: Pixabay
URL:https://kalender.seniorinnen.wien/event/yoga-fuer-seniorinnen-4/2025-10-10/
LOCATION:VHS Meidling\, Längenfeldgasse 13-15\, Wien\, 1120
CATEGORIES:Fit und Gesund
ATTACH;FMTTYPE=image/jpeg:https://kalender.seniorinnen.wien/wp-content/uploads/2024/08/yoga-4650150_1280-e1757937933698.jpg
END:VEVENT
BEGIN:VEVENT
DTSTART;TZID=Europe/Berlin:20251009T103000
DTEND;TZID=Europe/Berlin:20251009T120000
DTSTAMP:20260420T204225
CREATED:20251001T094805Z
LAST-MODIFIED:20251001T094805Z
UID:10817-1760005800-1760011200@kalender.seniorinnen.wien
SUMMARY:Yoga für Senior:innen
DESCRIPTION:Yoga für Senior:innen – Anfänger:innen\nTeilnehmer:innen: 8-15\nZeit: Do 7x\, 25.09.-13.11.2025\, 10:30-12 Uhr\, 10\,5 UE \nKursleitung: Manuela Sideras\, BEd Raum: Gym. 1\nOrt: VHS Meidling\, 1120 Wien\, Längenfeldgasse 13-15 \nKursnummer: 31717500a\nKosten: € 118\,00 \nFoto: Pixabay
URL:https://kalender.seniorinnen.wien/event/yoga-fuer-seniorinnen-3/2025-10-09/
LOCATION:VHS Meidling\, Längenfeldgasse 13-15\, Wien\, 1120
CATEGORIES:Fit und Gesund
ATTACH;FMTTYPE=image/jpeg:https://kalender.seniorinnen.wien/wp-content/uploads/2024/08/yoga-4650150_1280-e1757937933698.jpg
END:VEVENT
BEGIN:VEVENT
DTSTART;TZID=Europe/Berlin:20251009T100000
DTEND;TZID=Europe/Berlin:20251009T120000
DTSTAMP:20260420T204225
CREATED:20251001T095928Z
LAST-MODIFIED:20251001T100526Z
UID:10826-1760004000-1760011200@kalender.seniorinnen.wien
SUMMARY:"Goldclub"-Chor für Senior:innen
DESCRIPTION:„Goldclub“\nChor für Senior:innen \nTeilnehmer:innen: 8-15\nZeit: Do 7x\, 25.09.-13.11.2025\, 10-12 Uhr\, 14 UE \nKursleitung: Agneta Hanappi\, BA Raum: 103a\, 105\nOrt: VHS Meidling\, 1120 Wien\, Längenfeldgasse 13-15 \nKursnummer: 31510200a\nKurskosten:€ 85\,00 \nFoto: Pixabay
URL:https://kalender.seniorinnen.wien/event/goldclub-chor-fuer-seniorinnen/2025-10-09/
LOCATION:VHS Meidling\, Längenfeldgasse 13-15\, Wien\, 1120
CATEGORIES:Begegnung,Kunst und Kultur,Unterhaltung
ATTACH;FMTTYPE=image/jpeg:https://kalender.seniorinnen.wien/wp-content/uploads/2025/08/20250807-Singende-Senior_innen_pixabay-e1756451825664.jpg
END:VEVENT
BEGIN:VEVENT
DTSTART;TZID=Europe/Berlin:20251008T090000
DTEND;TZID=Europe/Berlin:20251008T100000
DTSTAMP:20260420T204225
CREATED:20251001T092145Z
LAST-MODIFIED:20251001T092635Z
UID:10771-1759914000-1759917600@kalender.seniorinnen.wien
SUMMARY:Yoga für Senior:innen
DESCRIPTION:Yoga für Senior:innen – Anfänger:innen\n8-15 Teilnehmer:innen\nZeit: Mi 7 x\, 24.09.-12.11.2025\, 9-10 Uhr\, 7 UE \nKursleitung: Manuela Sideras\, BEd\nRaum: Gym. 1\nOrt: VHS Meidling\, 1120 Wien\, Längenfeldgasse 13-15\nVHS Meidling\nKursnummer: 31510100a \nKosten: € 85\,00 \nFoto: Pixabay
URL:https://kalender.seniorinnen.wien/event/yoga-fuer-seniorinnen-2/2025-10-08/
LOCATION:VHS Meidling\, Längenfeldgasse 13-15\, Wien\, 1120
CATEGORIES:Fit und Gesund
ATTACH;FMTTYPE=image/jpeg:https://kalender.seniorinnen.wien/wp-content/uploads/2024/08/yoga-4650150_1280-e1757937933698.jpg
END:VEVENT
BEGIN:VEVENT
DTSTART;TZID=Europe/Berlin:20251003T090000
DTEND;TZID=Europe/Berlin:20251003T103000
DTSTAMP:20260420T204225
CREATED:20251001T095047Z
LAST-MODIFIED:20251001T095047Z
UID:10801-1759482000-1759487400@kalender.seniorinnen.wien
SUMMARY:Yoga für Senior:innen
DESCRIPTION:Yoga für Senior:innen – Anfänger:innen\nTeilnehmer:innen: 8-15\nZeit: Fr 7x\, 26.09.-14.11.2025\, 9-10:30 Uhr\, 10\,5 UE \nKursleitung: Manuela Sideras\, BEd Raum: Gym. 2\nOrt: VHS Meidling\, 1120 Wien\, Längenfeldgasse 13-15 \nKursnummer: 31310000\nKosten: € 144\,00 \nFoto: Pixabay
URL:https://kalender.seniorinnen.wien/event/yoga-fuer-seniorinnen-4/2025-10-03/
LOCATION:VHS Meidling\, Längenfeldgasse 13-15\, Wien\, 1120
CATEGORIES:Fit und Gesund
ATTACH;FMTTYPE=image/jpeg:https://kalender.seniorinnen.wien/wp-content/uploads/2024/08/yoga-4650150_1280-e1757937933698.jpg
END:VEVENT
BEGIN:VEVENT
DTSTART;TZID=Europe/Berlin:20251002T103000
DTEND;TZID=Europe/Berlin:20251002T120000
DTSTAMP:20260420T204225
CREATED:20251001T094805Z
LAST-MODIFIED:20251001T094805Z
UID:10816-1759401000-1759406400@kalender.seniorinnen.wien
SUMMARY:Yoga für Senior:innen
DESCRIPTION:Yoga für Senior:innen – Anfänger:innen\nTeilnehmer:innen: 8-15\nZeit: Do 7x\, 25.09.-13.11.2025\, 10:30-12 Uhr\, 10\,5 UE \nKursleitung: Manuela Sideras\, BEd Raum: Gym. 1\nOrt: VHS Meidling\, 1120 Wien\, Längenfeldgasse 13-15 \nKursnummer: 31717500a\nKosten: € 118\,00 \nFoto: Pixabay
URL:https://kalender.seniorinnen.wien/event/yoga-fuer-seniorinnen-3/2025-10-02/
LOCATION:VHS Meidling\, Längenfeldgasse 13-15\, Wien\, 1120
CATEGORIES:Fit und Gesund
ATTACH;FMTTYPE=image/jpeg:https://kalender.seniorinnen.wien/wp-content/uploads/2024/08/yoga-4650150_1280-e1757937933698.jpg
END:VEVENT
END:VCALENDAR