BEGIN:VCALENDAR
VERSION:2.0
PRODID:-//Wien für Senior:innen - ECPv6.15.17.1//NONSGML v1.0//EN
CALSCALE:GREGORIAN
METHOD:PUBLISH
X-WR-CALNAME:Wien für Senior:innen
X-ORIGINAL-URL:https://kalender.seniorinnen.wien
X-WR-CALDESC:Veranstaltungen für Wien für Senior:innen
REFRESH-INTERVAL;VALUE=DURATION:PT1H
X-Robots-Tag:noindex
X-PUBLISHED-TTL:PT1H
BEGIN:VTIMEZONE
TZID:Europe/Berlin
BEGIN:DAYLIGHT
TZOFFSETFROM:+0100
TZOFFSETTO:+0200
TZNAME:CEST
DTSTART:20250330T010000
END:DAYLIGHT
BEGIN:STANDARD
TZOFFSETFROM:+0200
TZOFFSETTO:+0100
TZNAME:CET
DTSTART:20251026T010000
END:STANDARD
BEGIN:DAYLIGHT
TZOFFSETFROM:+0100
TZOFFSETTO:+0200
TZNAME:CEST
DTSTART:20260329T010000
END:DAYLIGHT
BEGIN:STANDARD
TZOFFSETFROM:+0200
TZOFFSETTO:+0100
TZNAME:CET
DTSTART:20261025T010000
END:STANDARD
BEGIN:DAYLIGHT
TZOFFSETFROM:+0100
TZOFFSETTO:+0200
TZNAME:CEST
DTSTART:20270328T010000
END:DAYLIGHT
BEGIN:STANDARD
TZOFFSETFROM:+0200
TZOFFSETTO:+0100
TZNAME:CET
DTSTART:20271031T010000
END:STANDARD
END:VTIMEZONE
BEGIN:VEVENT
DTSTART;TZID=Europe/Berlin:20260423T093000
DTEND;TZID=Europe/Berlin:20260423T103000
DTSTAMP:20260420T191300
CREATED:20260417T110254Z
LAST-MODIFIED:20260417T111554Z
UID:12669-1776936600-1776940200@kalender.seniorinnen.wien
SUMMARY:Fit in den Tag
DESCRIPTION:Donnerstags 7 x\, 9.04. bis 28.05.2026\, 9:30 bis 10:30 Uhr \nKursleitung: Henriette Wachtberger \nVHS Leberberg\nRosa Jochmann-Ring 5/2\n1110 Wien \nIn diesem sanften\, schonenden und vitalisierenden Bewegungskurs werden von der Kursleiterin Elemente aus Yoga\, Tanz\,\nStretching\, Gymnastik gezielt eingesetzt und kombiniert.\nDas Angebot richtet sich an alle\, die sich mit EINFACHEN Übungen fit und lebendig für den Tag machen wollen.\nZiel: Mehr Wohlbefinden durch eine verbesserte Beweglichkeit und Körperhaltung.\nBitte bequeme Kleidung und Trinkflasche mitbringen. \nGebühr: 58 € \nFoto/Illustration: Pixabay
URL:https://kalender.seniorinnen.wien/event/fit-in-den-tag-2/2026-04-23/
LOCATION:VHS Leberberg\, Rosa-Jochmann-Ring 5/2\, Wien\, Wien\, 1110\, Austria
CATEGORIES:Fit und Gesund
ATTACH;FMTTYPE=image/jpeg:https://kalender.seniorinnen.wien/wp-content/uploads/2026/04/tungart7-woman-8415734-scaled.jpg
ORGANIZER;CN="VHS Simmering":MAILTO:simmering@vhs.at
END:VEVENT
BEGIN:VEVENT
DTSTART;TZID=Europe/Berlin:20260423T113000
DTEND;TZID=Europe/Berlin:20260423T123000
DTSTAMP:20260420T191300
CREATED:20260417T114450Z
LAST-MODIFIED:20260417T114726Z
UID:12725-1776943800-1776947400@kalender.seniorinnen.wien
SUMMARY:Muskelaufbau für Senior:innen
DESCRIPTION:Donnerstags 7 x\, 16.04. bis 11.06.2026\, 11:30 bis 12:30 Uhr \nKursleitung: Ute Trunk \nVHS Leberberg\,\nRosa Jochmann-Ring 5/2\n1110 Wien \nDamit alltägliche Tätigkeiten weiterhin problemlos ausgeführt werden können\, wird mit zunehmendem Alter die Erhaltung von\nKraft und Ausdauer immer wichtiger. In diesem Kurs stärken wir jene Muskelpartien\, die Sie täglich brauchen. Spezielle\nÜbungen fördern Gleichgewicht\, Reaktion und Koordination und erhalten bzw. verbessern so Ihre Bewegungssicherheit im\nAlltag.\nBitte bequeme Kleidung\, Hallenturnschuhe/Socken (keine Straßenschuhe)\, Handtuch und Trinkflasche mitbringen. \nGebühr: 58 € \nFoto: Pixabay
URL:https://kalender.seniorinnen.wien/event/muskelaufbau-fuer-seniorinnen-7/2026-04-23/
LOCATION:VHS Leberberg\, Rosa-Jochmann-Ring 5/2\, Wien\, Wien\, 1110\, Austria
CATEGORIES:Fit und Gesund
ATTACH;FMTTYPE=image/jpeg:https://kalender.seniorinnen.wien/wp-content/uploads/2026/04/kitzd66-seniors-6986350-scaled.jpg
END:VEVENT
BEGIN:VEVENT
DTSTART;TZID=Europe/Berlin:20260430T093000
DTEND;TZID=Europe/Berlin:20260430T103000
DTSTAMP:20260420T191300
CREATED:20260417T110254Z
LAST-MODIFIED:20260417T111554Z
UID:12670-1777541400-1777545000@kalender.seniorinnen.wien
SUMMARY:Fit in den Tag
DESCRIPTION:Donnerstags 7 x\, 9.04. bis 28.05.2026\, 9:30 bis 10:30 Uhr \nKursleitung: Henriette Wachtberger \nVHS Leberberg\nRosa Jochmann-Ring 5/2\n1110 Wien \nIn diesem sanften\, schonenden und vitalisierenden Bewegungskurs werden von der Kursleiterin Elemente aus Yoga\, Tanz\,\nStretching\, Gymnastik gezielt eingesetzt und kombiniert.\nDas Angebot richtet sich an alle\, die sich mit EINFACHEN Übungen fit und lebendig für den Tag machen wollen.\nZiel: Mehr Wohlbefinden durch eine verbesserte Beweglichkeit und Körperhaltung.\nBitte bequeme Kleidung und Trinkflasche mitbringen. \nGebühr: 58 € \nFoto/Illustration: Pixabay
URL:https://kalender.seniorinnen.wien/event/fit-in-den-tag-2/2026-04-30/
LOCATION:VHS Leberberg\, Rosa-Jochmann-Ring 5/2\, Wien\, Wien\, 1110\, Austria
CATEGORIES:Fit und Gesund
ATTACH;FMTTYPE=image/jpeg:https://kalender.seniorinnen.wien/wp-content/uploads/2026/04/tungart7-woman-8415734-scaled.jpg
ORGANIZER;CN="VHS Simmering":MAILTO:simmering@vhs.at
END:VEVENT
BEGIN:VEVENT
DTSTART;TZID=Europe/Berlin:20260430T113000
DTEND;TZID=Europe/Berlin:20260430T123000
DTSTAMP:20260420T191300
CREATED:20260417T114450Z
LAST-MODIFIED:20260417T114726Z
UID:12726-1777548600-1777552200@kalender.seniorinnen.wien
SUMMARY:Muskelaufbau für Senior:innen
DESCRIPTION:Donnerstags 7 x\, 16.04. bis 11.06.2026\, 11:30 bis 12:30 Uhr \nKursleitung: Ute Trunk \nVHS Leberberg\,\nRosa Jochmann-Ring 5/2\n1110 Wien \nDamit alltägliche Tätigkeiten weiterhin problemlos ausgeführt werden können\, wird mit zunehmendem Alter die Erhaltung von\nKraft und Ausdauer immer wichtiger. In diesem Kurs stärken wir jene Muskelpartien\, die Sie täglich brauchen. Spezielle\nÜbungen fördern Gleichgewicht\, Reaktion und Koordination und erhalten bzw. verbessern so Ihre Bewegungssicherheit im\nAlltag.\nBitte bequeme Kleidung\, Hallenturnschuhe/Socken (keine Straßenschuhe)\, Handtuch und Trinkflasche mitbringen. \nGebühr: 58 € \nFoto: Pixabay
URL:https://kalender.seniorinnen.wien/event/muskelaufbau-fuer-seniorinnen-7/2026-04-30/
LOCATION:VHS Leberberg\, Rosa-Jochmann-Ring 5/2\, Wien\, Wien\, 1110\, Austria
CATEGORIES:Fit und Gesund
ATTACH;FMTTYPE=image/jpeg:https://kalender.seniorinnen.wien/wp-content/uploads/2026/04/kitzd66-seniors-6986350-scaled.jpg
END:VEVENT
BEGIN:VEVENT
DTSTART;TZID=Europe/Berlin:20260507T093000
DTEND;TZID=Europe/Berlin:20260507T103000
DTSTAMP:20260420T191300
CREATED:20260417T110254Z
LAST-MODIFIED:20260417T111554Z
UID:12671-1778146200-1778149800@kalender.seniorinnen.wien
SUMMARY:Fit in den Tag
DESCRIPTION:Donnerstags 7 x\, 9.04. bis 28.05.2026\, 9:30 bis 10:30 Uhr \nKursleitung: Henriette Wachtberger \nVHS Leberberg\nRosa Jochmann-Ring 5/2\n1110 Wien \nIn diesem sanften\, schonenden und vitalisierenden Bewegungskurs werden von der Kursleiterin Elemente aus Yoga\, Tanz\,\nStretching\, Gymnastik gezielt eingesetzt und kombiniert.\nDas Angebot richtet sich an alle\, die sich mit EINFACHEN Übungen fit und lebendig für den Tag machen wollen.\nZiel: Mehr Wohlbefinden durch eine verbesserte Beweglichkeit und Körperhaltung.\nBitte bequeme Kleidung und Trinkflasche mitbringen. \nGebühr: 58 € \nFoto/Illustration: Pixabay
URL:https://kalender.seniorinnen.wien/event/fit-in-den-tag-2/2026-05-07/
LOCATION:VHS Leberberg\, Rosa-Jochmann-Ring 5/2\, Wien\, Wien\, 1110\, Austria
CATEGORIES:Fit und Gesund
ATTACH;FMTTYPE=image/jpeg:https://kalender.seniorinnen.wien/wp-content/uploads/2026/04/tungart7-woman-8415734-scaled.jpg
ORGANIZER;CN="VHS Simmering":MAILTO:simmering@vhs.at
END:VEVENT
BEGIN:VEVENT
DTSTART;TZID=Europe/Berlin:20260507T113000
DTEND;TZID=Europe/Berlin:20260507T123000
DTSTAMP:20260420T191300
CREATED:20260417T114450Z
LAST-MODIFIED:20260417T114726Z
UID:12727-1778153400-1778157000@kalender.seniorinnen.wien
SUMMARY:Muskelaufbau für Senior:innen
DESCRIPTION:Donnerstags 7 x\, 16.04. bis 11.06.2026\, 11:30 bis 12:30 Uhr \nKursleitung: Ute Trunk \nVHS Leberberg\,\nRosa Jochmann-Ring 5/2\n1110 Wien \nDamit alltägliche Tätigkeiten weiterhin problemlos ausgeführt werden können\, wird mit zunehmendem Alter die Erhaltung von\nKraft und Ausdauer immer wichtiger. In diesem Kurs stärken wir jene Muskelpartien\, die Sie täglich brauchen. Spezielle\nÜbungen fördern Gleichgewicht\, Reaktion und Koordination und erhalten bzw. verbessern so Ihre Bewegungssicherheit im\nAlltag.\nBitte bequeme Kleidung\, Hallenturnschuhe/Socken (keine Straßenschuhe)\, Handtuch und Trinkflasche mitbringen. \nGebühr: 58 € \nFoto: Pixabay
URL:https://kalender.seniorinnen.wien/event/muskelaufbau-fuer-seniorinnen-7/2026-05-07/
LOCATION:VHS Leberberg\, Rosa-Jochmann-Ring 5/2\, Wien\, Wien\, 1110\, Austria
CATEGORIES:Fit und Gesund
ATTACH;FMTTYPE=image/jpeg:https://kalender.seniorinnen.wien/wp-content/uploads/2026/04/kitzd66-seniors-6986350-scaled.jpg
END:VEVENT
BEGIN:VEVENT
DTSTART;TZID=Europe/Berlin:20260514T093000
DTEND;TZID=Europe/Berlin:20260514T103000
DTSTAMP:20260420T191300
CREATED:20260417T110254Z
LAST-MODIFIED:20260417T111554Z
UID:12672-1778751000-1778754600@kalender.seniorinnen.wien
SUMMARY:Fit in den Tag
DESCRIPTION:Donnerstags 7 x\, 9.04. bis 28.05.2026\, 9:30 bis 10:30 Uhr \nKursleitung: Henriette Wachtberger \nVHS Leberberg\nRosa Jochmann-Ring 5/2\n1110 Wien \nIn diesem sanften\, schonenden und vitalisierenden Bewegungskurs werden von der Kursleiterin Elemente aus Yoga\, Tanz\,\nStretching\, Gymnastik gezielt eingesetzt und kombiniert.\nDas Angebot richtet sich an alle\, die sich mit EINFACHEN Übungen fit und lebendig für den Tag machen wollen.\nZiel: Mehr Wohlbefinden durch eine verbesserte Beweglichkeit und Körperhaltung.\nBitte bequeme Kleidung und Trinkflasche mitbringen. \nGebühr: 58 € \nFoto/Illustration: Pixabay
URL:https://kalender.seniorinnen.wien/event/fit-in-den-tag-2/2026-05-14/
LOCATION:VHS Leberberg\, Rosa-Jochmann-Ring 5/2\, Wien\, Wien\, 1110\, Austria
CATEGORIES:Fit und Gesund
ATTACH;FMTTYPE=image/jpeg:https://kalender.seniorinnen.wien/wp-content/uploads/2026/04/tungart7-woman-8415734-scaled.jpg
ORGANIZER;CN="VHS Simmering":MAILTO:simmering@vhs.at
END:VEVENT
BEGIN:VEVENT
DTSTART;TZID=Europe/Berlin:20260514T113000
DTEND;TZID=Europe/Berlin:20260514T123000
DTSTAMP:20260420T191300
CREATED:20260417T114450Z
LAST-MODIFIED:20260417T114726Z
UID:12728-1778758200-1778761800@kalender.seniorinnen.wien
SUMMARY:Muskelaufbau für Senior:innen
DESCRIPTION:Donnerstags 7 x\, 16.04. bis 11.06.2026\, 11:30 bis 12:30 Uhr \nKursleitung: Ute Trunk \nVHS Leberberg\,\nRosa Jochmann-Ring 5/2\n1110 Wien \nDamit alltägliche Tätigkeiten weiterhin problemlos ausgeführt werden können\, wird mit zunehmendem Alter die Erhaltung von\nKraft und Ausdauer immer wichtiger. In diesem Kurs stärken wir jene Muskelpartien\, die Sie täglich brauchen. Spezielle\nÜbungen fördern Gleichgewicht\, Reaktion und Koordination und erhalten bzw. verbessern so Ihre Bewegungssicherheit im\nAlltag.\nBitte bequeme Kleidung\, Hallenturnschuhe/Socken (keine Straßenschuhe)\, Handtuch und Trinkflasche mitbringen. \nGebühr: 58 € \nFoto: Pixabay
URL:https://kalender.seniorinnen.wien/event/muskelaufbau-fuer-seniorinnen-7/2026-05-14/
LOCATION:VHS Leberberg\, Rosa-Jochmann-Ring 5/2\, Wien\, Wien\, 1110\, Austria
CATEGORIES:Fit und Gesund
ATTACH;FMTTYPE=image/jpeg:https://kalender.seniorinnen.wien/wp-content/uploads/2026/04/kitzd66-seniors-6986350-scaled.jpg
END:VEVENT
BEGIN:VEVENT
DTSTART;TZID=Europe/Berlin:20260521T093000
DTEND;TZID=Europe/Berlin:20260521T103000
DTSTAMP:20260420T191300
CREATED:20260417T110254Z
LAST-MODIFIED:20260417T111555Z
UID:12673-1779355800-1779359400@kalender.seniorinnen.wien
SUMMARY:Fit in den Tag
DESCRIPTION:Donnerstags 7 x\, 9.04. bis 28.05.2026\, 9:30 bis 10:30 Uhr \nKursleitung: Henriette Wachtberger \nVHS Leberberg\nRosa Jochmann-Ring 5/2\n1110 Wien \nIn diesem sanften\, schonenden und vitalisierenden Bewegungskurs werden von der Kursleiterin Elemente aus Yoga\, Tanz\,\nStretching\, Gymnastik gezielt eingesetzt und kombiniert.\nDas Angebot richtet sich an alle\, die sich mit EINFACHEN Übungen fit und lebendig für den Tag machen wollen.\nZiel: Mehr Wohlbefinden durch eine verbesserte Beweglichkeit und Körperhaltung.\nBitte bequeme Kleidung und Trinkflasche mitbringen. \nGebühr: 58 € \nFoto/Illustration: Pixabay
URL:https://kalender.seniorinnen.wien/event/fit-in-den-tag-2/2026-05-21/
LOCATION:VHS Leberberg\, Rosa-Jochmann-Ring 5/2\, Wien\, Wien\, 1110\, Austria
CATEGORIES:Fit und Gesund
ATTACH;FMTTYPE=image/jpeg:https://kalender.seniorinnen.wien/wp-content/uploads/2026/04/tungart7-woman-8415734-scaled.jpg
ORGANIZER;CN="VHS Simmering":MAILTO:simmering@vhs.at
END:VEVENT
BEGIN:VEVENT
DTSTART;TZID=Europe/Berlin:20260521T113000
DTEND;TZID=Europe/Berlin:20260521T123000
DTSTAMP:20260420T191300
CREATED:20260417T114450Z
LAST-MODIFIED:20260417T114727Z
UID:12729-1779363000-1779366600@kalender.seniorinnen.wien
SUMMARY:Muskelaufbau für Senior:innen
DESCRIPTION:Donnerstags 7 x\, 16.04. bis 11.06.2026\, 11:30 bis 12:30 Uhr \nKursleitung: Ute Trunk \nVHS Leberberg\,\nRosa Jochmann-Ring 5/2\n1110 Wien \nDamit alltägliche Tätigkeiten weiterhin problemlos ausgeführt werden können\, wird mit zunehmendem Alter die Erhaltung von\nKraft und Ausdauer immer wichtiger. In diesem Kurs stärken wir jene Muskelpartien\, die Sie täglich brauchen. Spezielle\nÜbungen fördern Gleichgewicht\, Reaktion und Koordination und erhalten bzw. verbessern so Ihre Bewegungssicherheit im\nAlltag.\nBitte bequeme Kleidung\, Hallenturnschuhe/Socken (keine Straßenschuhe)\, Handtuch und Trinkflasche mitbringen. \nGebühr: 58 € \nFoto: Pixabay
URL:https://kalender.seniorinnen.wien/event/muskelaufbau-fuer-seniorinnen-7/2026-05-21/
LOCATION:VHS Leberberg\, Rosa-Jochmann-Ring 5/2\, Wien\, Wien\, 1110\, Austria
CATEGORIES:Fit und Gesund
ATTACH;FMTTYPE=image/jpeg:https://kalender.seniorinnen.wien/wp-content/uploads/2026/04/kitzd66-seniors-6986350-scaled.jpg
END:VEVENT
BEGIN:VEVENT
DTSTART;TZID=Europe/Berlin:20260528T093000
DTEND;TZID=Europe/Berlin:20260528T103000
DTSTAMP:20260420T191300
CREATED:20260417T110254Z
LAST-MODIFIED:20260417T111555Z
UID:12674-1779960600-1779964200@kalender.seniorinnen.wien
SUMMARY:Fit in den Tag
DESCRIPTION:Donnerstags 7 x\, 9.04. bis 28.05.2026\, 9:30 bis 10:30 Uhr \nKursleitung: Henriette Wachtberger \nVHS Leberberg\nRosa Jochmann-Ring 5/2\n1110 Wien \nIn diesem sanften\, schonenden und vitalisierenden Bewegungskurs werden von der Kursleiterin Elemente aus Yoga\, Tanz\,\nStretching\, Gymnastik gezielt eingesetzt und kombiniert.\nDas Angebot richtet sich an alle\, die sich mit EINFACHEN Übungen fit und lebendig für den Tag machen wollen.\nZiel: Mehr Wohlbefinden durch eine verbesserte Beweglichkeit und Körperhaltung.\nBitte bequeme Kleidung und Trinkflasche mitbringen. \nGebühr: 58 € \nFoto/Illustration: Pixabay
URL:https://kalender.seniorinnen.wien/event/fit-in-den-tag-2/2026-05-28/
LOCATION:VHS Leberberg\, Rosa-Jochmann-Ring 5/2\, Wien\, Wien\, 1110\, Austria
CATEGORIES:Fit und Gesund
ATTACH;FMTTYPE=image/jpeg:https://kalender.seniorinnen.wien/wp-content/uploads/2026/04/tungart7-woman-8415734-scaled.jpg
ORGANIZER;CN="VHS Simmering":MAILTO:simmering@vhs.at
END:VEVENT
BEGIN:VEVENT
DTSTART;TZID=Europe/Berlin:20260528T113000
DTEND;TZID=Europe/Berlin:20260528T123000
DTSTAMP:20260420T191300
CREATED:20260417T114450Z
LAST-MODIFIED:20260417T114727Z
UID:12730-1779967800-1779971400@kalender.seniorinnen.wien
SUMMARY:Muskelaufbau für Senior:innen
DESCRIPTION:Donnerstags 7 x\, 16.04. bis 11.06.2026\, 11:30 bis 12:30 Uhr \nKursleitung: Ute Trunk \nVHS Leberberg\,\nRosa Jochmann-Ring 5/2\n1110 Wien \nDamit alltägliche Tätigkeiten weiterhin problemlos ausgeführt werden können\, wird mit zunehmendem Alter die Erhaltung von\nKraft und Ausdauer immer wichtiger. In diesem Kurs stärken wir jene Muskelpartien\, die Sie täglich brauchen. Spezielle\nÜbungen fördern Gleichgewicht\, Reaktion und Koordination und erhalten bzw. verbessern so Ihre Bewegungssicherheit im\nAlltag.\nBitte bequeme Kleidung\, Hallenturnschuhe/Socken (keine Straßenschuhe)\, Handtuch und Trinkflasche mitbringen. \nGebühr: 58 € \nFoto: Pixabay
URL:https://kalender.seniorinnen.wien/event/muskelaufbau-fuer-seniorinnen-7/2026-05-28/
LOCATION:VHS Leberberg\, Rosa-Jochmann-Ring 5/2\, Wien\, Wien\, 1110\, Austria
CATEGORIES:Fit und Gesund
ATTACH;FMTTYPE=image/jpeg:https://kalender.seniorinnen.wien/wp-content/uploads/2026/04/kitzd66-seniors-6986350-scaled.jpg
END:VEVENT
BEGIN:VEVENT
DTSTART;TZID=Europe/Berlin:20260604T113000
DTEND;TZID=Europe/Berlin:20260604T123000
DTSTAMP:20260420T191300
CREATED:20260417T114450Z
LAST-MODIFIED:20260417T114727Z
UID:12731-1780572600-1780576200@kalender.seniorinnen.wien
SUMMARY:Muskelaufbau für Senior:innen
DESCRIPTION:Donnerstags 7 x\, 16.04. bis 11.06.2026\, 11:30 bis 12:30 Uhr \nKursleitung: Ute Trunk \nVHS Leberberg\,\nRosa Jochmann-Ring 5/2\n1110 Wien \nDamit alltägliche Tätigkeiten weiterhin problemlos ausgeführt werden können\, wird mit zunehmendem Alter die Erhaltung von\nKraft und Ausdauer immer wichtiger. In diesem Kurs stärken wir jene Muskelpartien\, die Sie täglich brauchen. Spezielle\nÜbungen fördern Gleichgewicht\, Reaktion und Koordination und erhalten bzw. verbessern so Ihre Bewegungssicherheit im\nAlltag.\nBitte bequeme Kleidung\, Hallenturnschuhe/Socken (keine Straßenschuhe)\, Handtuch und Trinkflasche mitbringen. \nGebühr: 58 € \nFoto: Pixabay
URL:https://kalender.seniorinnen.wien/event/muskelaufbau-fuer-seniorinnen-7/2026-06-04/
LOCATION:VHS Leberberg\, Rosa-Jochmann-Ring 5/2\, Wien\, Wien\, 1110\, Austria
CATEGORIES:Fit und Gesund
ATTACH;FMTTYPE=image/jpeg:https://kalender.seniorinnen.wien/wp-content/uploads/2026/04/kitzd66-seniors-6986350-scaled.jpg
END:VEVENT
BEGIN:VEVENT
DTSTART;TZID=Europe/Berlin:20260611T113000
DTEND;TZID=Europe/Berlin:20260611T123000
DTSTAMP:20260420T191300
CREATED:20260417T114450Z
LAST-MODIFIED:20260417T114727Z
UID:12732-1781177400-1781181000@kalender.seniorinnen.wien
SUMMARY:Muskelaufbau für Senior:innen
DESCRIPTION:Donnerstags 7 x\, 16.04. bis 11.06.2026\, 11:30 bis 12:30 Uhr \nKursleitung: Ute Trunk \nVHS Leberberg\,\nRosa Jochmann-Ring 5/2\n1110 Wien \nDamit alltägliche Tätigkeiten weiterhin problemlos ausgeführt werden können\, wird mit zunehmendem Alter die Erhaltung von\nKraft und Ausdauer immer wichtiger. In diesem Kurs stärken wir jene Muskelpartien\, die Sie täglich brauchen. Spezielle\nÜbungen fördern Gleichgewicht\, Reaktion und Koordination und erhalten bzw. verbessern so Ihre Bewegungssicherheit im\nAlltag.\nBitte bequeme Kleidung\, Hallenturnschuhe/Socken (keine Straßenschuhe)\, Handtuch und Trinkflasche mitbringen. \nGebühr: 58 € \nFoto: Pixabay
URL:https://kalender.seniorinnen.wien/event/muskelaufbau-fuer-seniorinnen-7/2026-06-11/
LOCATION:VHS Leberberg\, Rosa-Jochmann-Ring 5/2\, Wien\, Wien\, 1110\, Austria
CATEGORIES:Fit und Gesund
ATTACH;FMTTYPE=image/jpeg:https://kalender.seniorinnen.wien/wp-content/uploads/2026/04/kitzd66-seniors-6986350-scaled.jpg
END:VEVENT
END:VCALENDAR