BEGIN:VCALENDAR
VERSION:2.0
PRODID:-//Wien für Senior:innen - ECPv6.15.17.1//NONSGML v1.0//EN
CALSCALE:GREGORIAN
METHOD:PUBLISH
X-ORIGINAL-URL:https://kalender.seniorinnen.wien
X-WR-CALDESC:Veranstaltungen für Wien für Senior:innen
REFRESH-INTERVAL;VALUE=DURATION:PT1H
X-Robots-Tag:noindex
X-PUBLISHED-TTL:PT1H
BEGIN:VTIMEZONE
TZID:Europe/Berlin
BEGIN:DAYLIGHT
TZOFFSETFROM:+0100
TZOFFSETTO:+0200
TZNAME:CEST
DTSTART:20240331T010000
END:DAYLIGHT
BEGIN:STANDARD
TZOFFSETFROM:+0200
TZOFFSETTO:+0100
TZNAME:CET
DTSTART:20241027T010000
END:STANDARD
BEGIN:DAYLIGHT
TZOFFSETFROM:+0100
TZOFFSETTO:+0200
TZNAME:CEST
DTSTART:20250330T010000
END:DAYLIGHT
BEGIN:STANDARD
TZOFFSETFROM:+0200
TZOFFSETTO:+0100
TZNAME:CET
DTSTART:20251026T010000
END:STANDARD
BEGIN:DAYLIGHT
TZOFFSETFROM:+0100
TZOFFSETTO:+0200
TZNAME:CEST
DTSTART:20260329T010000
END:DAYLIGHT
BEGIN:STANDARD
TZOFFSETFROM:+0200
TZOFFSETTO:+0100
TZNAME:CET
DTSTART:20261025T010000
END:STANDARD
BEGIN:DAYLIGHT
TZOFFSETFROM:+0100
TZOFFSETTO:+0200
TZNAME:CEST
DTSTART:20270328T010000
END:DAYLIGHT
BEGIN:STANDARD
TZOFFSETFROM:+0200
TZOFFSETTO:+0100
TZNAME:CET
DTSTART:20271031T010000
END:STANDARD
END:VTIMEZONE
BEGIN:VEVENT
DTSTART;TZID=Europe/Berlin:20260416T113000
DTEND;TZID=Europe/Berlin:20260416T123000
DTSTAMP:20260420T202754
CREATED:20260417T114450Z
LAST-MODIFIED:20260417T114725Z
UID:12723-1776339000-1776342600@kalender.seniorinnen.wien
SUMMARY:Muskelaufbau für Senior:innen
DESCRIPTION:Donnerstags 7 x\, 16.04. bis 11.06.2026\, 11:30 bis 12:30 Uhr \nKursleitung: Ute Trunk \nVHS Leberberg\,\nRosa Jochmann-Ring 5/2\n1110 Wien \nDamit alltägliche Tätigkeiten weiterhin problemlos ausgeführt werden können\, wird mit zunehmendem Alter die Erhaltung von\nKraft und Ausdauer immer wichtiger. In diesem Kurs stärken wir jene Muskelpartien\, die Sie täglich brauchen. Spezielle\nÜbungen fördern Gleichgewicht\, Reaktion und Koordination und erhalten bzw. verbessern so Ihre Bewegungssicherheit im\nAlltag.\nBitte bequeme Kleidung\, Hallenturnschuhe/Socken (keine Straßenschuhe)\, Handtuch und Trinkflasche mitbringen. \nGebühr: 58 € \nFoto: Pixabay
URL:https://kalender.seniorinnen.wien/event/muskelaufbau-fuer-seniorinnen-7/2026-04-16/
LOCATION:VHS Leberberg\, Rosa-Jochmann-Ring 5/2\, Wien\, Wien\, 1110\, Austria
CATEGORIES:Fit und Gesund
ATTACH;FMTTYPE=image/jpeg:https://kalender.seniorinnen.wien/wp-content/uploads/2026/04/kitzd66-seniors-6986350-scaled.jpg
END:VEVENT
BEGIN:VEVENT
DTSTART;TZID=Europe/Berlin:20260416T093000
DTEND;TZID=Europe/Berlin:20260416T103000
DTSTAMP:20260420T202754
CREATED:20260417T110254Z
LAST-MODIFIED:20260417T111553Z
UID:12668-1776331800-1776335400@kalender.seniorinnen.wien
SUMMARY:Fit in den Tag
DESCRIPTION:Donnerstags 7 x\, 9.04. bis 28.05.2026\, 9:30 bis 10:30 Uhr \nKursleitung: Henriette Wachtberger \nVHS Leberberg\nRosa Jochmann-Ring 5/2\n1110 Wien \nIn diesem sanften\, schonenden und vitalisierenden Bewegungskurs werden von der Kursleiterin Elemente aus Yoga\, Tanz\,\nStretching\, Gymnastik gezielt eingesetzt und kombiniert.\nDas Angebot richtet sich an alle\, die sich mit EINFACHEN Übungen fit und lebendig für den Tag machen wollen.\nZiel: Mehr Wohlbefinden durch eine verbesserte Beweglichkeit und Körperhaltung.\nBitte bequeme Kleidung und Trinkflasche mitbringen. \nGebühr: 58 € \nFoto/Illustration: Pixabay
URL:https://kalender.seniorinnen.wien/event/fit-in-den-tag-2/2026-04-16/
LOCATION:VHS Leberberg\, Rosa-Jochmann-Ring 5/2\, Wien\, Wien\, 1110\, Austria
CATEGORIES:Fit und Gesund
ATTACH;FMTTYPE=image/jpeg:https://kalender.seniorinnen.wien/wp-content/uploads/2026/04/tungart7-woman-8415734-scaled.jpg
ORGANIZER;CN="VHS Simmering":MAILTO:simmering@vhs.at
END:VEVENT
BEGIN:VEVENT
DTSTART;TZID=Europe/Berlin:20260409T093000
DTEND;TZID=Europe/Berlin:20260409T103000
DTSTAMP:20260420T202754
CREATED:20260417T110254Z
LAST-MODIFIED:20260417T111553Z
UID:12665-1775727000-1775730600@kalender.seniorinnen.wien
SUMMARY:Fit in den Tag
DESCRIPTION:Donnerstags 7 x\, 9.04. bis 28.05.2026\, 9:30 bis 10:30 Uhr \nKursleitung: Henriette Wachtberger \nVHS Leberberg\nRosa Jochmann-Ring 5/2\n1110 Wien \nIn diesem sanften\, schonenden und vitalisierenden Bewegungskurs werden von der Kursleiterin Elemente aus Yoga\, Tanz\,\nStretching\, Gymnastik gezielt eingesetzt und kombiniert.\nDas Angebot richtet sich an alle\, die sich mit EINFACHEN Übungen fit und lebendig für den Tag machen wollen.\nZiel: Mehr Wohlbefinden durch eine verbesserte Beweglichkeit und Körperhaltung.\nBitte bequeme Kleidung und Trinkflasche mitbringen. \nGebühr: 58 € \nFoto/Illustration: Pixabay
URL:https://kalender.seniorinnen.wien/event/fit-in-den-tag-2/2026-04-09/
LOCATION:VHS Leberberg\, Rosa-Jochmann-Ring 5/2\, Wien\, Wien\, 1110\, Austria
CATEGORIES:Fit und Gesund
ATTACH;FMTTYPE=image/jpeg:https://kalender.seniorinnen.wien/wp-content/uploads/2026/04/tungart7-woman-8415734-scaled.jpg
ORGANIZER;CN="VHS Simmering":MAILTO:simmering@vhs.at
END:VEVENT
BEGIN:VEVENT
DTSTART;TZID=Europe/Berlin:20260326T113000
DTEND;TZID=Europe/Berlin:20260326T123000
DTSTAMP:20260420T202754
CREATED:20260114T135140Z
LAST-MODIFIED:20260114T140609Z
UID:11490-1774524600-1774528200@kalender.seniorinnen.wien
SUMMARY:Muskelaufbau für Senior:innen
DESCRIPTION:Muskelaufbau für Senior:innen\nVHS Simmering\, Gottschalkgasse 10 \, 1110 Wien\n\n12.02.2026 – 26.03.2026\, 11:30 bis 12:30 Uhr\n7 Unterrichtseinheiten\nKursleitung: Ute Trunk\nTeilnehmer:innen: 8 – 12\nKosten: € 58\,00 \n\n\nKontakt:\nTel.: +43 1 891 74 111 001\nE-Mail: simmering@vhs.at \nAlle aktuellen Kurse kann man auch online finden und buchen: www.vhs.at/simmering/kursangebot \n\n\nFoto: Pixabay
URL:https://kalender.seniorinnen.wien/event/muskelaufbau-fuer-seniorinnen-4/2026-03-26/
LOCATION:VHS Leberberg\, Rosa-Jochmann-Ring 5/2\, Wien\, Wien\, 1110\, Austria
CATEGORIES:Begegnung,Fit und Gesund
ATTACH;FMTTYPE=image/jpeg:https://kalender.seniorinnen.wien/wp-content/uploads/2024/11/Training_dumbbells-1621272_1280_Pixabay.jpg
END:VEVENT
BEGIN:VEVENT
DTSTART;TZID=Europe/Berlin:20260319T113000
DTEND;TZID=Europe/Berlin:20260319T123000
DTSTAMP:20260420T202754
CREATED:20260114T135140Z
LAST-MODIFIED:20260114T140608Z
UID:11489-1773919800-1773923400@kalender.seniorinnen.wien
SUMMARY:Muskelaufbau für Senior:innen
DESCRIPTION:Muskelaufbau für Senior:innen\nVHS Simmering\, Gottschalkgasse 10 \, 1110 Wien\n\n12.02.2026 – 26.03.2026\, 11:30 bis 12:30 Uhr\n7 Unterrichtseinheiten\nKursleitung: Ute Trunk\nTeilnehmer:innen: 8 – 12\nKosten: € 58\,00 \n\n\nKontakt:\nTel.: +43 1 891 74 111 001\nE-Mail: simmering@vhs.at \nAlle aktuellen Kurse kann man auch online finden und buchen: www.vhs.at/simmering/kursangebot \n\n\nFoto: Pixabay
URL:https://kalender.seniorinnen.wien/event/muskelaufbau-fuer-seniorinnen-4/2026-03-19/
LOCATION:VHS Leberberg\, Rosa-Jochmann-Ring 5/2\, Wien\, Wien\, 1110\, Austria
CATEGORIES:Begegnung,Fit und Gesund
ATTACH;FMTTYPE=image/jpeg:https://kalender.seniorinnen.wien/wp-content/uploads/2024/11/Training_dumbbells-1621272_1280_Pixabay.jpg
END:VEVENT
BEGIN:VEVENT
DTSTART;TZID=Europe/Berlin:20260312T113000
DTEND;TZID=Europe/Berlin:20260312T123000
DTSTAMP:20260420T202754
CREATED:20260114T135140Z
LAST-MODIFIED:20260114T140608Z
UID:11488-1773315000-1773318600@kalender.seniorinnen.wien
SUMMARY:Muskelaufbau für Senior:innen
DESCRIPTION:Muskelaufbau für Senior:innen\nVHS Simmering\, Gottschalkgasse 10 \, 1110 Wien\n\n12.02.2026 – 26.03.2026\, 11:30 bis 12:30 Uhr\n7 Unterrichtseinheiten\nKursleitung: Ute Trunk\nTeilnehmer:innen: 8 – 12\nKosten: € 58\,00 \n\n\nKontakt:\nTel.: +43 1 891 74 111 001\nE-Mail: simmering@vhs.at \nAlle aktuellen Kurse kann man auch online finden und buchen: www.vhs.at/simmering/kursangebot \n\n\nFoto: Pixabay
URL:https://kalender.seniorinnen.wien/event/muskelaufbau-fuer-seniorinnen-4/2026-03-12/
LOCATION:VHS Leberberg\, Rosa-Jochmann-Ring 5/2\, Wien\, Wien\, 1110\, Austria
CATEGORIES:Begegnung,Fit und Gesund
ATTACH;FMTTYPE=image/jpeg:https://kalender.seniorinnen.wien/wp-content/uploads/2024/11/Training_dumbbells-1621272_1280_Pixabay.jpg
END:VEVENT
BEGIN:VEVENT
DTSTART;TZID=Europe/Berlin:20260305T113000
DTEND;TZID=Europe/Berlin:20260305T123000
DTSTAMP:20260420T202754
CREATED:20260114T135140Z
LAST-MODIFIED:20260114T140607Z
UID:11487-1772710200-1772713800@kalender.seniorinnen.wien
SUMMARY:Muskelaufbau für Senior:innen
DESCRIPTION:Muskelaufbau für Senior:innen\nVHS Simmering\, Gottschalkgasse 10 \, 1110 Wien\n\n12.02.2026 – 26.03.2026\, 11:30 bis 12:30 Uhr\n7 Unterrichtseinheiten\nKursleitung: Ute Trunk\nTeilnehmer:innen: 8 – 12\nKosten: € 58\,00 \n\n\nKontakt:\nTel.: +43 1 891 74 111 001\nE-Mail: simmering@vhs.at \nAlle aktuellen Kurse kann man auch online finden und buchen: www.vhs.at/simmering/kursangebot \n\n\nFoto: Pixabay
URL:https://kalender.seniorinnen.wien/event/muskelaufbau-fuer-seniorinnen-4/2026-03-05/
LOCATION:VHS Leberberg\, Rosa-Jochmann-Ring 5/2\, Wien\, Wien\, 1110\, Austria
CATEGORIES:Begegnung,Fit und Gesund
ATTACH;FMTTYPE=image/jpeg:https://kalender.seniorinnen.wien/wp-content/uploads/2024/11/Training_dumbbells-1621272_1280_Pixabay.jpg
END:VEVENT
BEGIN:VEVENT
DTSTART;TZID=Europe/Berlin:20260226T113000
DTEND;TZID=Europe/Berlin:20260226T123000
DTSTAMP:20260420T202754
CREATED:20260114T135140Z
LAST-MODIFIED:20260114T140607Z
UID:11486-1772105400-1772109000@kalender.seniorinnen.wien
SUMMARY:Muskelaufbau für Senior:innen
DESCRIPTION:Muskelaufbau für Senior:innen\nVHS Simmering\, Gottschalkgasse 10 \, 1110 Wien\n\n12.02.2026 – 26.03.2026\, 11:30 bis 12:30 Uhr\n7 Unterrichtseinheiten\nKursleitung: Ute Trunk\nTeilnehmer:innen: 8 – 12\nKosten: € 58\,00 \n\n\nKontakt:\nTel.: +43 1 891 74 111 001\nE-Mail: simmering@vhs.at \nAlle aktuellen Kurse kann man auch online finden und buchen: www.vhs.at/simmering/kursangebot \n\n\nFoto: Pixabay
URL:https://kalender.seniorinnen.wien/event/muskelaufbau-fuer-seniorinnen-4/2026-02-26/
LOCATION:VHS Leberberg\, Rosa-Jochmann-Ring 5/2\, Wien\, Wien\, 1110\, Austria
CATEGORIES:Begegnung,Fit und Gesund
ATTACH;FMTTYPE=image/jpeg:https://kalender.seniorinnen.wien/wp-content/uploads/2024/11/Training_dumbbells-1621272_1280_Pixabay.jpg
END:VEVENT
BEGIN:VEVENT
DTSTART;TZID=Europe/Berlin:20260219T113000
DTEND;TZID=Europe/Berlin:20260219T123000
DTSTAMP:20260420T202754
CREATED:20260114T135140Z
LAST-MODIFIED:20260114T140607Z
UID:11485-1771500600-1771504200@kalender.seniorinnen.wien
SUMMARY:Muskelaufbau für Senior:innen
DESCRIPTION:Muskelaufbau für Senior:innen\nVHS Simmering\, Gottschalkgasse 10 \, 1110 Wien\n\n12.02.2026 – 26.03.2026\, 11:30 bis 12:30 Uhr\n7 Unterrichtseinheiten\nKursleitung: Ute Trunk\nTeilnehmer:innen: 8 – 12\nKosten: € 58\,00 \n\n\nKontakt:\nTel.: +43 1 891 74 111 001\nE-Mail: simmering@vhs.at \nAlle aktuellen Kurse kann man auch online finden und buchen: www.vhs.at/simmering/kursangebot \n\n\nFoto: Pixabay
URL:https://kalender.seniorinnen.wien/event/muskelaufbau-fuer-seniorinnen-4/2026-02-19/
LOCATION:VHS Leberberg\, Rosa-Jochmann-Ring 5/2\, Wien\, Wien\, 1110\, Austria
CATEGORIES:Begegnung,Fit und Gesund
ATTACH;FMTTYPE=image/jpeg:https://kalender.seniorinnen.wien/wp-content/uploads/2024/11/Training_dumbbells-1621272_1280_Pixabay.jpg
END:VEVENT
BEGIN:VEVENT
DTSTART;TZID=Europe/Berlin:20260212T113000
DTEND;TZID=Europe/Berlin:20260212T123000
DTSTAMP:20260420T202754
CREATED:20260114T135140Z
LAST-MODIFIED:20260114T140607Z
UID:11472-1770895800-1770899400@kalender.seniorinnen.wien
SUMMARY:Muskelaufbau für Senior:innen
DESCRIPTION:Muskelaufbau für Senior:innen\nVHS Simmering\, Gottschalkgasse 10 \, 1110 Wien\n\n12.02.2026 – 26.03.2026\, 11:30 bis 12:30 Uhr\n7 Unterrichtseinheiten\nKursleitung: Ute Trunk\nTeilnehmer:innen: 8 – 12\nKosten: € 58\,00 \n\n\nKontakt:\nTel.: +43 1 891 74 111 001\nE-Mail: simmering@vhs.at \nAlle aktuellen Kurse kann man auch online finden und buchen: www.vhs.at/simmering/kursangebot \n\n\nFoto: Pixabay
URL:https://kalender.seniorinnen.wien/event/muskelaufbau-fuer-seniorinnen-4/2026-02-12/
LOCATION:VHS Leberberg\, Rosa-Jochmann-Ring 5/2\, Wien\, Wien\, 1110\, Austria
CATEGORIES:Begegnung,Fit und Gesund
ATTACH;FMTTYPE=image/jpeg:https://kalender.seniorinnen.wien/wp-content/uploads/2024/11/Training_dumbbells-1621272_1280_Pixabay.jpg
END:VEVENT
BEGIN:VEVENT
DTSTART;TZID=Europe/Berlin:20260115T080000
DTEND;TZID=Europe/Berlin:20260115T170000
DTSTAMP:20260420T202754
CREATED:20250915T124332Z
LAST-MODIFIED:20250915T124332Z
UID:10424-1768464000-1768496400@kalender.seniorinnen.wien
SUMMARY:Muskelaufbau für Senior:innen
DESCRIPTION:Muskelaufbau für Senior:innen\nTeil 2: 27.11.2025-15.01.2026 | Do. 11:30-12:30 \n6 UE | ab 8 TN | € 49\,-\nKursnr: 25LB2030b\nUte Trunk \nKontakt:\nTel.: +43 1 891 74 111 001\nE-Mail: simmering@vhs.at \nFoto: Pixabay
URL:https://kalender.seniorinnen.wien/event/muskelaufbau-fuer-seniorinnen-3/2026-01-15/
LOCATION:VHS Leberberg\, Rosa-Jochmann-Ring 5/2\, Wien\, Wien\, 1110\, Austria
CATEGORIES:Fit und Gesund
ATTACH;FMTTYPE=image/jpeg:https://kalender.seniorinnen.wien/wp-content/uploads/2024/11/Training_dumbbells-1621272_1280_Pixabay.jpg
END:VEVENT
BEGIN:VEVENT
DTSTART;TZID=Europe/Berlin:20260108T093000
DTEND;TZID=Europe/Berlin:20260108T103000
DTSTAMP:20260420T202754
CREATED:20250915T112328Z
LAST-MODIFIED:20250915T123139Z
UID:10318-1767864600-1767868200@kalender.seniorinnen.wien
SUMMARY:Fit in den Tag
DESCRIPTION:Fit in den Tag\nTeil 1: 25.09.2025-06.11.2025 | Do. 09:30-10:30\nTeil 2: 13.11.2025-08.01.2026 | Do. 09:30-10:30 \nje 7 UE | 7x | ab 8 TN | € 57\,-\nKursnr: 25LB2006a/25LB2006b\nHenriette Wachtberger \nKontakt:\nTel.: +43 1 891 74 111 001\nE-Mail: simmering@vhs.at \nFoto: Pixabay
URL:https://kalender.seniorinnen.wien/event/fit-in-den-tag/2026-01-08/
LOCATION:VHS Leberberg\, Rosa-Jochmann-Ring 5/2\, Wien\, Wien\, 1110\, Austria
CATEGORIES:Fit und Gesund
ATTACH;FMTTYPE=image/jpeg:https://kalender.seniorinnen.wien/wp-content/uploads/2024/11/Training_dumbbells-1621272_1280_Pixabay.jpg
END:VEVENT
BEGIN:VEVENT
DTSTART;TZID=Europe/Berlin:20260108T080000
DTEND;TZID=Europe/Berlin:20260108T170000
DTSTAMP:20260420T202754
CREATED:20250915T124332Z
LAST-MODIFIED:20250915T124332Z
UID:10423-1767859200-1767891600@kalender.seniorinnen.wien
SUMMARY:Muskelaufbau für Senior:innen
DESCRIPTION:Muskelaufbau für Senior:innen\nTeil 2: 27.11.2025-15.01.2026 | Do. 11:30-12:30 \n6 UE | ab 8 TN | € 49\,-\nKursnr: 25LB2030b\nUte Trunk \nKontakt:\nTel.: +43 1 891 74 111 001\nE-Mail: simmering@vhs.at \nFoto: Pixabay
URL:https://kalender.seniorinnen.wien/event/muskelaufbau-fuer-seniorinnen-3/2026-01-08/
LOCATION:VHS Leberberg\, Rosa-Jochmann-Ring 5/2\, Wien\, Wien\, 1110\, Austria
CATEGORIES:Fit und Gesund
ATTACH;FMTTYPE=image/jpeg:https://kalender.seniorinnen.wien/wp-content/uploads/2024/11/Training_dumbbells-1621272_1280_Pixabay.jpg
END:VEVENT
BEGIN:VEVENT
DTSTART;TZID=Europe/Berlin:20260101T093000
DTEND;TZID=Europe/Berlin:20260101T103000
DTSTAMP:20260420T202754
CREATED:20250915T112328Z
LAST-MODIFIED:20250915T123139Z
UID:10316-1767259800-1767263400@kalender.seniorinnen.wien
SUMMARY:Fit in den Tag
DESCRIPTION:Fit in den Tag\nTeil 1: 25.09.2025-06.11.2025 | Do. 09:30-10:30\nTeil 2: 13.11.2025-08.01.2026 | Do. 09:30-10:30 \nje 7 UE | 7x | ab 8 TN | € 57\,-\nKursnr: 25LB2006a/25LB2006b\nHenriette Wachtberger \nKontakt:\nTel.: +43 1 891 74 111 001\nE-Mail: simmering@vhs.at \nFoto: Pixabay
URL:https://kalender.seniorinnen.wien/event/fit-in-den-tag/2026-01-01/
LOCATION:VHS Leberberg\, Rosa-Jochmann-Ring 5/2\, Wien\, Wien\, 1110\, Austria
CATEGORIES:Fit und Gesund
ATTACH;FMTTYPE=image/jpeg:https://kalender.seniorinnen.wien/wp-content/uploads/2024/11/Training_dumbbells-1621272_1280_Pixabay.jpg
END:VEVENT
BEGIN:VEVENT
DTSTART;TZID=Europe/Berlin:20260101T080000
DTEND;TZID=Europe/Berlin:20260101T170000
DTSTAMP:20260420T202754
CREATED:20250915T124332Z
LAST-MODIFIED:20250915T124332Z
UID:10422-1767254400-1767286800@kalender.seniorinnen.wien
SUMMARY:Muskelaufbau für Senior:innen
DESCRIPTION:Muskelaufbau für Senior:innen\nTeil 2: 27.11.2025-15.01.2026 | Do. 11:30-12:30 \n6 UE | ab 8 TN | € 49\,-\nKursnr: 25LB2030b\nUte Trunk \nKontakt:\nTel.: +43 1 891 74 111 001\nE-Mail: simmering@vhs.at \nFoto: Pixabay
URL:https://kalender.seniorinnen.wien/event/muskelaufbau-fuer-seniorinnen-3/2026-01-01/
LOCATION:VHS Leberberg\, Rosa-Jochmann-Ring 5/2\, Wien\, Wien\, 1110\, Austria
CATEGORIES:Fit und Gesund
ATTACH;FMTTYPE=image/jpeg:https://kalender.seniorinnen.wien/wp-content/uploads/2024/11/Training_dumbbells-1621272_1280_Pixabay.jpg
END:VEVENT
BEGIN:VEVENT
DTSTART;TZID=Europe/Berlin:20251225T093000
DTEND;TZID=Europe/Berlin:20251225T103000
DTSTAMP:20260420T202754
CREATED:20250915T112328Z
LAST-MODIFIED:20250915T123139Z
UID:10315-1766655000-1766658600@kalender.seniorinnen.wien
SUMMARY:Fit in den Tag
DESCRIPTION:Fit in den Tag\nTeil 1: 25.09.2025-06.11.2025 | Do. 09:30-10:30\nTeil 2: 13.11.2025-08.01.2026 | Do. 09:30-10:30 \nje 7 UE | 7x | ab 8 TN | € 57\,-\nKursnr: 25LB2006a/25LB2006b\nHenriette Wachtberger \nKontakt:\nTel.: +43 1 891 74 111 001\nE-Mail: simmering@vhs.at \nFoto: Pixabay
URL:https://kalender.seniorinnen.wien/event/fit-in-den-tag/2025-12-25/
LOCATION:VHS Leberberg\, Rosa-Jochmann-Ring 5/2\, Wien\, Wien\, 1110\, Austria
CATEGORIES:Fit und Gesund
ATTACH;FMTTYPE=image/jpeg:https://kalender.seniorinnen.wien/wp-content/uploads/2024/11/Training_dumbbells-1621272_1280_Pixabay.jpg
END:VEVENT
BEGIN:VEVENT
DTSTART;TZID=Europe/Berlin:20251225T080000
DTEND;TZID=Europe/Berlin:20251225T170000
DTSTAMP:20260420T202754
CREATED:20250915T124332Z
LAST-MODIFIED:20250915T124332Z
UID:10421-1766649600-1766682000@kalender.seniorinnen.wien
SUMMARY:Muskelaufbau für Senior:innen
DESCRIPTION:Muskelaufbau für Senior:innen\nTeil 2: 27.11.2025-15.01.2026 | Do. 11:30-12:30 \n6 UE | ab 8 TN | € 49\,-\nKursnr: 25LB2030b\nUte Trunk \nKontakt:\nTel.: +43 1 891 74 111 001\nE-Mail: simmering@vhs.at \nFoto: Pixabay
URL:https://kalender.seniorinnen.wien/event/muskelaufbau-fuer-seniorinnen-3/2025-12-25/
LOCATION:VHS Leberberg\, Rosa-Jochmann-Ring 5/2\, Wien\, Wien\, 1110\, Austria
CATEGORIES:Fit und Gesund
ATTACH;FMTTYPE=image/jpeg:https://kalender.seniorinnen.wien/wp-content/uploads/2024/11/Training_dumbbells-1621272_1280_Pixabay.jpg
END:VEVENT
BEGIN:VEVENT
DTSTART;TZID=Europe/Berlin:20251218T093000
DTEND;TZID=Europe/Berlin:20251218T103000
DTSTAMP:20260420T202754
CREATED:20250915T112328Z
LAST-MODIFIED:20250915T123139Z
UID:10314-1766050200-1766053800@kalender.seniorinnen.wien
SUMMARY:Fit in den Tag
DESCRIPTION:Fit in den Tag\nTeil 1: 25.09.2025-06.11.2025 | Do. 09:30-10:30\nTeil 2: 13.11.2025-08.01.2026 | Do. 09:30-10:30 \nje 7 UE | 7x | ab 8 TN | € 57\,-\nKursnr: 25LB2006a/25LB2006b\nHenriette Wachtberger \nKontakt:\nTel.: +43 1 891 74 111 001\nE-Mail: simmering@vhs.at \nFoto: Pixabay
URL:https://kalender.seniorinnen.wien/event/fit-in-den-tag/2025-12-18/
LOCATION:VHS Leberberg\, Rosa-Jochmann-Ring 5/2\, Wien\, Wien\, 1110\, Austria
CATEGORIES:Fit und Gesund
ATTACH;FMTTYPE=image/jpeg:https://kalender.seniorinnen.wien/wp-content/uploads/2024/11/Training_dumbbells-1621272_1280_Pixabay.jpg
END:VEVENT
BEGIN:VEVENT
DTSTART;TZID=Europe/Berlin:20251218T080000
DTEND;TZID=Europe/Berlin:20251218T170000
DTSTAMP:20260420T202754
CREATED:20250915T124332Z
LAST-MODIFIED:20250915T124332Z
UID:10420-1766044800-1766077200@kalender.seniorinnen.wien
SUMMARY:Muskelaufbau für Senior:innen
DESCRIPTION:Muskelaufbau für Senior:innen\nTeil 2: 27.11.2025-15.01.2026 | Do. 11:30-12:30 \n6 UE | ab 8 TN | € 49\,-\nKursnr: 25LB2030b\nUte Trunk \nKontakt:\nTel.: +43 1 891 74 111 001\nE-Mail: simmering@vhs.at \nFoto: Pixabay
URL:https://kalender.seniorinnen.wien/event/muskelaufbau-fuer-seniorinnen-3/2025-12-18/
LOCATION:VHS Leberberg\, Rosa-Jochmann-Ring 5/2\, Wien\, Wien\, 1110\, Austria
CATEGORIES:Fit und Gesund
ATTACH;FMTTYPE=image/jpeg:https://kalender.seniorinnen.wien/wp-content/uploads/2024/11/Training_dumbbells-1621272_1280_Pixabay.jpg
END:VEVENT
BEGIN:VEVENT
DTSTART;TZID=Europe/Berlin:20251211T093000
DTEND;TZID=Europe/Berlin:20251211T103000
DTSTAMP:20260420T202754
CREATED:20250915T112328Z
LAST-MODIFIED:20250915T123138Z
UID:10313-1765445400-1765449000@kalender.seniorinnen.wien
SUMMARY:Fit in den Tag
DESCRIPTION:Fit in den Tag\nTeil 1: 25.09.2025-06.11.2025 | Do. 09:30-10:30\nTeil 2: 13.11.2025-08.01.2026 | Do. 09:30-10:30 \nje 7 UE | 7x | ab 8 TN | € 57\,-\nKursnr: 25LB2006a/25LB2006b\nHenriette Wachtberger \nKontakt:\nTel.: +43 1 891 74 111 001\nE-Mail: simmering@vhs.at \nFoto: Pixabay
URL:https://kalender.seniorinnen.wien/event/fit-in-den-tag/2025-12-11/
LOCATION:VHS Leberberg\, Rosa-Jochmann-Ring 5/2\, Wien\, Wien\, 1110\, Austria
CATEGORIES:Fit und Gesund
ATTACH;FMTTYPE=image/jpeg:https://kalender.seniorinnen.wien/wp-content/uploads/2024/11/Training_dumbbells-1621272_1280_Pixabay.jpg
END:VEVENT
BEGIN:VEVENT
DTSTART;TZID=Europe/Berlin:20251211T080000
DTEND;TZID=Europe/Berlin:20251211T170000
DTSTAMP:20260420T202754
CREATED:20250915T124332Z
LAST-MODIFIED:20250915T124332Z
UID:10419-1765440000-1765472400@kalender.seniorinnen.wien
SUMMARY:Muskelaufbau für Senior:innen
DESCRIPTION:Muskelaufbau für Senior:innen\nTeil 2: 27.11.2025-15.01.2026 | Do. 11:30-12:30 \n6 UE | ab 8 TN | € 49\,-\nKursnr: 25LB2030b\nUte Trunk \nKontakt:\nTel.: +43 1 891 74 111 001\nE-Mail: simmering@vhs.at \nFoto: Pixabay
URL:https://kalender.seniorinnen.wien/event/muskelaufbau-fuer-seniorinnen-3/2025-12-11/
LOCATION:VHS Leberberg\, Rosa-Jochmann-Ring 5/2\, Wien\, Wien\, 1110\, Austria
CATEGORIES:Fit und Gesund
ATTACH;FMTTYPE=image/jpeg:https://kalender.seniorinnen.wien/wp-content/uploads/2024/11/Training_dumbbells-1621272_1280_Pixabay.jpg
END:VEVENT
BEGIN:VEVENT
DTSTART;TZID=Europe/Berlin:20251204T093000
DTEND;TZID=Europe/Berlin:20251204T103000
DTSTAMP:20260420T202754
CREATED:20250915T112328Z
LAST-MODIFIED:20250915T123135Z
UID:10311-1764840600-1764844200@kalender.seniorinnen.wien
SUMMARY:Fit in den Tag
DESCRIPTION:Fit in den Tag\nTeil 1: 25.09.2025-06.11.2025 | Do. 09:30-10:30\nTeil 2: 13.11.2025-08.01.2026 | Do. 09:30-10:30 \nje 7 UE | 7x | ab 8 TN | € 57\,-\nKursnr: 25LB2006a/25LB2006b\nHenriette Wachtberger \nKontakt:\nTel.: +43 1 891 74 111 001\nE-Mail: simmering@vhs.at \nFoto: Pixabay
URL:https://kalender.seniorinnen.wien/event/fit-in-den-tag/2025-12-04/
LOCATION:VHS Leberberg\, Rosa-Jochmann-Ring 5/2\, Wien\, Wien\, 1110\, Austria
CATEGORIES:Fit und Gesund
ATTACH;FMTTYPE=image/jpeg:https://kalender.seniorinnen.wien/wp-content/uploads/2024/11/Training_dumbbells-1621272_1280_Pixabay.jpg
END:VEVENT
BEGIN:VEVENT
DTSTART;TZID=Europe/Berlin:20251204T080000
DTEND;TZID=Europe/Berlin:20251204T170000
DTSTAMP:20260420T202754
CREATED:20250915T124332Z
LAST-MODIFIED:20250915T124332Z
UID:10418-1764835200-1764867600@kalender.seniorinnen.wien
SUMMARY:Muskelaufbau für Senior:innen
DESCRIPTION:Muskelaufbau für Senior:innen\nTeil 2: 27.11.2025-15.01.2026 | Do. 11:30-12:30 \n6 UE | ab 8 TN | € 49\,-\nKursnr: 25LB2030b\nUte Trunk \nKontakt:\nTel.: +43 1 891 74 111 001\nE-Mail: simmering@vhs.at \nFoto: Pixabay
URL:https://kalender.seniorinnen.wien/event/muskelaufbau-fuer-seniorinnen-3/2025-12-04/
LOCATION:VHS Leberberg\, Rosa-Jochmann-Ring 5/2\, Wien\, Wien\, 1110\, Austria
CATEGORIES:Fit und Gesund
ATTACH;FMTTYPE=image/jpeg:https://kalender.seniorinnen.wien/wp-content/uploads/2024/11/Training_dumbbells-1621272_1280_Pixabay.jpg
END:VEVENT
BEGIN:VEVENT
DTSTART;TZID=Europe/Berlin:20251127T093000
DTEND;TZID=Europe/Berlin:20251127T103000
DTSTAMP:20260420T202754
CREATED:20250915T112328Z
LAST-MODIFIED:20250915T123135Z
UID:10310-1764235800-1764239400@kalender.seniorinnen.wien
SUMMARY:Fit in den Tag
DESCRIPTION:Fit in den Tag\nTeil 1: 25.09.2025-06.11.2025 | Do. 09:30-10:30\nTeil 2: 13.11.2025-08.01.2026 | Do. 09:30-10:30 \nje 7 UE | 7x | ab 8 TN | € 57\,-\nKursnr: 25LB2006a/25LB2006b\nHenriette Wachtberger \nKontakt:\nTel.: +43 1 891 74 111 001\nE-Mail: simmering@vhs.at \nFoto: Pixabay
URL:https://kalender.seniorinnen.wien/event/fit-in-den-tag/2025-11-27/
LOCATION:VHS Leberberg\, Rosa-Jochmann-Ring 5/2\, Wien\, Wien\, 1110\, Austria
CATEGORIES:Fit und Gesund
ATTACH;FMTTYPE=image/jpeg:https://kalender.seniorinnen.wien/wp-content/uploads/2024/11/Training_dumbbells-1621272_1280_Pixabay.jpg
END:VEVENT
BEGIN:VEVENT
DTSTART;TZID=Europe/Berlin:20251127T080000
DTEND;TZID=Europe/Berlin:20251127T170000
DTSTAMP:20260420T202754
CREATED:20250915T124332Z
LAST-MODIFIED:20250915T124332Z
UID:10417-1764230400-1764262800@kalender.seniorinnen.wien
SUMMARY:Muskelaufbau für Senior:innen
DESCRIPTION:Muskelaufbau für Senior:innen\nTeil 2: 27.11.2025-15.01.2026 | Do. 11:30-12:30 \n6 UE | ab 8 TN | € 49\,-\nKursnr: 25LB2030b\nUte Trunk \nKontakt:\nTel.: +43 1 891 74 111 001\nE-Mail: simmering@vhs.at \nFoto: Pixabay
URL:https://kalender.seniorinnen.wien/event/muskelaufbau-fuer-seniorinnen-3/2025-11-27/
LOCATION:VHS Leberberg\, Rosa-Jochmann-Ring 5/2\, Wien\, Wien\, 1110\, Austria
CATEGORIES:Fit und Gesund
ATTACH;FMTTYPE=image/jpeg:https://kalender.seniorinnen.wien/wp-content/uploads/2024/11/Training_dumbbells-1621272_1280_Pixabay.jpg
END:VEVENT
BEGIN:VEVENT
DTSTART;TZID=Europe/Berlin:20251120T113000
DTEND;TZID=Europe/Berlin:20251120T123000
DTSTAMP:20260420T202754
CREATED:20250915T095415Z
LAST-MODIFIED:20250915T123853Z
UID:10245-1763638200-1763641800@kalender.seniorinnen.wien
SUMMARY:Muskelaufbau für Senior:innen zum Kennenlernen
DESCRIPTION:Muskelaufbau für Senior:innen zum Kennenlernen\nTeil 1: 06.11.2025-20.11.2025 | Do. 11:30-12:30 \nje 3 UE | 3x | ab 8 TN | € 24\,-\nKursnr: 25LB2030a\nUte Trunk \nKontakt:\nTel.: +43 1 891 74 111 001\nE-Mail: simmering@vhs.at \nFoto: Pixabay
URL:https://kalender.seniorinnen.wien/event/muskelaufbau-fuer-seniorinnen-zum-kennenlernen/2025-11-20/
LOCATION:VHS Leberberg\, Rosa-Jochmann-Ring 5/2\, Wien\, Wien\, 1110\, Austria
CATEGORIES:Fit und Gesund
ATTACH;FMTTYPE=image/jpeg:https://kalender.seniorinnen.wien/wp-content/uploads/2024/11/Training_dumbbells-1621272_1280_Pixabay.jpg
END:VEVENT
BEGIN:VEVENT
DTSTART;TZID=Europe/Berlin:20251120T093000
DTEND;TZID=Europe/Berlin:20251120T103000
DTSTAMP:20260420T202754
CREATED:20250915T112328Z
LAST-MODIFIED:20250915T123135Z
UID:10309-1763631000-1763634600@kalender.seniorinnen.wien
SUMMARY:Fit in den Tag
DESCRIPTION:Fit in den Tag\nTeil 1: 25.09.2025-06.11.2025 | Do. 09:30-10:30\nTeil 2: 13.11.2025-08.01.2026 | Do. 09:30-10:30 \nje 7 UE | 7x | ab 8 TN | € 57\,-\nKursnr: 25LB2006a/25LB2006b\nHenriette Wachtberger \nKontakt:\nTel.: +43 1 891 74 111 001\nE-Mail: simmering@vhs.at \nFoto: Pixabay
URL:https://kalender.seniorinnen.wien/event/fit-in-den-tag/2025-11-20/
LOCATION:VHS Leberberg\, Rosa-Jochmann-Ring 5/2\, Wien\, Wien\, 1110\, Austria
CATEGORIES:Fit und Gesund
ATTACH;FMTTYPE=image/jpeg:https://kalender.seniorinnen.wien/wp-content/uploads/2024/11/Training_dumbbells-1621272_1280_Pixabay.jpg
END:VEVENT
BEGIN:VEVENT
DTSTART;TZID=Europe/Berlin:20251113T113000
DTEND;TZID=Europe/Berlin:20251113T123000
DTSTAMP:20260420T202754
CREATED:20250915T095415Z
LAST-MODIFIED:20250915T123853Z
UID:10244-1763033400-1763037000@kalender.seniorinnen.wien
SUMMARY:Muskelaufbau für Senior:innen zum Kennenlernen
DESCRIPTION:Muskelaufbau für Senior:innen zum Kennenlernen\nTeil 1: 06.11.2025-20.11.2025 | Do. 11:30-12:30 \nje 3 UE | 3x | ab 8 TN | € 24\,-\nKursnr: 25LB2030a\nUte Trunk \nKontakt:\nTel.: +43 1 891 74 111 001\nE-Mail: simmering@vhs.at \nFoto: Pixabay
URL:https://kalender.seniorinnen.wien/event/muskelaufbau-fuer-seniorinnen-zum-kennenlernen/2025-11-13/
LOCATION:VHS Leberberg\, Rosa-Jochmann-Ring 5/2\, Wien\, Wien\, 1110\, Austria
CATEGORIES:Fit und Gesund
ATTACH;FMTTYPE=image/jpeg:https://kalender.seniorinnen.wien/wp-content/uploads/2024/11/Training_dumbbells-1621272_1280_Pixabay.jpg
END:VEVENT
BEGIN:VEVENT
DTSTART;TZID=Europe/Berlin:20251113T093000
DTEND;TZID=Europe/Berlin:20251113T103000
DTSTAMP:20260420T202754
CREATED:20250915T112328Z
LAST-MODIFIED:20250915T123134Z
UID:10308-1763026200-1763029800@kalender.seniorinnen.wien
SUMMARY:Fit in den Tag
DESCRIPTION:Fit in den Tag\nTeil 1: 25.09.2025-06.11.2025 | Do. 09:30-10:30\nTeil 2: 13.11.2025-08.01.2026 | Do. 09:30-10:30 \nje 7 UE | 7x | ab 8 TN | € 57\,-\nKursnr: 25LB2006a/25LB2006b\nHenriette Wachtberger \nKontakt:\nTel.: +43 1 891 74 111 001\nE-Mail: simmering@vhs.at \nFoto: Pixabay
URL:https://kalender.seniorinnen.wien/event/fit-in-den-tag/2025-11-13/
LOCATION:VHS Leberberg\, Rosa-Jochmann-Ring 5/2\, Wien\, Wien\, 1110\, Austria
CATEGORIES:Fit und Gesund
ATTACH;FMTTYPE=image/jpeg:https://kalender.seniorinnen.wien/wp-content/uploads/2024/11/Training_dumbbells-1621272_1280_Pixabay.jpg
END:VEVENT
BEGIN:VEVENT
DTSTART;TZID=Europe/Berlin:20251106T113000
DTEND;TZID=Europe/Berlin:20251106T123000
DTSTAMP:20260420T202754
CREATED:20250915T095415Z
LAST-MODIFIED:20250915T123851Z
UID:10170-1762428600-1762432200@kalender.seniorinnen.wien
SUMMARY:Muskelaufbau für Senior:innen zum Kennenlernen
DESCRIPTION:Muskelaufbau für Senior:innen zum Kennenlernen\nTeil 1: 06.11.2025-20.11.2025 | Do. 11:30-12:30 \nje 3 UE | 3x | ab 8 TN | € 24\,-\nKursnr: 25LB2030a\nUte Trunk \nKontakt:\nTel.: +43 1 891 74 111 001\nE-Mail: simmering@vhs.at \nFoto: Pixabay
URL:https://kalender.seniorinnen.wien/event/muskelaufbau-fuer-seniorinnen-zum-kennenlernen/2025-11-06/
LOCATION:VHS Leberberg\, Rosa-Jochmann-Ring 5/2\, Wien\, Wien\, 1110\, Austria
CATEGORIES:Fit und Gesund
ATTACH;FMTTYPE=image/jpeg:https://kalender.seniorinnen.wien/wp-content/uploads/2024/11/Training_dumbbells-1621272_1280_Pixabay.jpg
END:VEVENT
END:VCALENDAR