BEGIN:VCALENDAR
VERSION:2.0
PRODID:-//Wien für Senior:innen - ECPv6.15.17.1//NONSGML v1.0//EN
CALSCALE:GREGORIAN
METHOD:PUBLISH
X-WR-CALNAME:Wien für Senior:innen
X-ORIGINAL-URL:https://kalender.seniorinnen.wien
X-WR-CALDESC:Veranstaltungen für Wien für Senior:innen
REFRESH-INTERVAL;VALUE=DURATION:PT1H
X-Robots-Tag:noindex
X-PUBLISHED-TTL:PT1H
BEGIN:VTIMEZONE
TZID:Europe/Berlin
BEGIN:DAYLIGHT
TZOFFSETFROM:+0100
TZOFFSETTO:+0200
TZNAME:CEST
DTSTART:20240331T010000
END:DAYLIGHT
BEGIN:STANDARD
TZOFFSETFROM:+0200
TZOFFSETTO:+0100
TZNAME:CET
DTSTART:20241027T010000
END:STANDARD
BEGIN:DAYLIGHT
TZOFFSETFROM:+0100
TZOFFSETTO:+0200
TZNAME:CEST
DTSTART:20250330T010000
END:DAYLIGHT
BEGIN:STANDARD
TZOFFSETFROM:+0200
TZOFFSETTO:+0100
TZNAME:CET
DTSTART:20251026T010000
END:STANDARD
BEGIN:DAYLIGHT
TZOFFSETFROM:+0100
TZOFFSETTO:+0200
TZNAME:CEST
DTSTART:20260329T010000
END:DAYLIGHT
BEGIN:STANDARD
TZOFFSETFROM:+0200
TZOFFSETTO:+0100
TZNAME:CET
DTSTART:20261025T010000
END:STANDARD
END:VTIMEZONE
BEGIN:VEVENT
DTSTART;TZID=Europe/Berlin:20251010T100000
DTEND;TZID=Europe/Berlin:20251010T113000
DTSTAMP:20260421T011352
CREATED:20250831T230055Z
LAST-MODIFIED:20250828T130556Z
UID:9628-1760090400-1760095800@kalender.seniorinnen.wien
SUMMARY:Fit und gesund im Alter
DESCRIPTION:Die Bedeutung einer ausgewogenen Ernährung\nWir laden Sie herzlich zu einem inspirierenden Vortrag über die Bedeutung einer ausgewogenen Ernährung im Alter ein. Unsere Expertin wird Ihnen praktische Tipps geben\, wie Sie Ihre Ernährung anpassen können\, um Ihre Vitalität zu erhalten\, altersbedingten Gesundheitsproblemen vorzubeugen und genussvolle Ernährung zu genießen. Darüber hinaus sprechen wir über die Bedeutung regelmäßiger Bewegung und wie sie mit einer gesunden Ernährung kombiniert werden kann. Der Vortrag wird informativ und interaktiv gestaltet sein\, mit ausreichend Raum für Fragen und Diskussionen. \nmax. 25 Teilnehmer:innen \nAnmeldung bis 9.10. \nTel.:01 891 74 117 000\nE-Mail: hernals@vhs.at \nFoto: Freepik
URL:https://kalender.seniorinnen.wien/event/fit-und-gesund-im-alter/
LOCATION:VHS Hernals\, Rötzergasse 15\, Wien\, Wien\, 1170\, Austria
CATEGORIES:Fit und Gesund,Monat der Senior:innen
ATTACH;FMTTYPE=image/jpeg:https://kalender.seniorinnen.wien/wp-content/uploads/2025/09/flat-lay-delicious-healthy-food-concept-scaled-e1756386340237.jpg
END:VEVENT
END:VCALENDAR