BEGIN:VCALENDAR
VERSION:2.0
PRODID:-//Wien für Senior:innen - ECPv6.15.17.1//NONSGML v1.0//EN
CALSCALE:GREGORIAN
METHOD:PUBLISH
X-ORIGINAL-URL:https://kalender.seniorinnen.wien
X-WR-CALDESC:Veranstaltungen für Wien für Senior:innen
REFRESH-INTERVAL;VALUE=DURATION:PT1H
X-Robots-Tag:noindex
X-PUBLISHED-TTL:PT1H
BEGIN:VTIMEZONE
TZID:Europe/Berlin
BEGIN:DAYLIGHT
TZOFFSETFROM:+0100
TZOFFSETTO:+0200
TZNAME:CEST
DTSTART:20240331T010000
END:DAYLIGHT
BEGIN:STANDARD
TZOFFSETFROM:+0200
TZOFFSETTO:+0100
TZNAME:CET
DTSTART:20241027T010000
END:STANDARD
BEGIN:DAYLIGHT
TZOFFSETFROM:+0100
TZOFFSETTO:+0200
TZNAME:CEST
DTSTART:20250330T010000
END:DAYLIGHT
BEGIN:STANDARD
TZOFFSETFROM:+0200
TZOFFSETTO:+0100
TZNAME:CET
DTSTART:20251026T010000
END:STANDARD
BEGIN:DAYLIGHT
TZOFFSETFROM:+0100
TZOFFSETTO:+0200
TZNAME:CEST
DTSTART:20260329T010000
END:DAYLIGHT
BEGIN:STANDARD
TZOFFSETFROM:+0200
TZOFFSETTO:+0100
TZNAME:CET
DTSTART:20261025T010000
END:STANDARD
END:VTIMEZONE
BEGIN:VEVENT
DTSTART;TZID=Europe/Berlin:20251002T150000
DTEND;TZID=Europe/Berlin:20251002T163000
DTSTAMP:20260420T203322
CREATED:20250831T230000Z
LAST-MODIFIED:20250826T113743Z
UID:8038-1759417200-1759422600@kalender.seniorinnen.wien
SUMMARY:Besuchen Sie mit dem Kontaktbesuchsdienst die UNO City
DESCRIPTION:Möchten Sie die UNO City von innen sehen und mehr über die Tätigkeit der Vereinten Nationen erfahren? Im Rahmen einer Führung erhalten Sie Einblick in die Zusammenarbeit von\nmehr als 190 Nationen zur Förderung von Frieden\, nachhaltiger Entwicklung und Menschenrechte. Erleben Sie mit dem Kontaktbesuchsdienst die beeindruckende Architektur und die pulsierende\, kosmopolitische Atmosphäre des Vienna International Centre aus nächster Nähe. \nWichtig:\nBringen Sie für den Sicherheitscheck einen gültigen amtlichen Lichtbildausweis im Original mit (keine Kopie oder digitale Version)!\nNur kleine Taschen oder Rucksäcke sind erlaubt und müssen während der Führung getragen werden. Es gibt keine Garderobe oder Schließfächer. \nMaximal 70 Teilnehmer:innen \nAnmeldung bis 19.9.2025 \nTel. 01 98 121-1730 oder -1740\nE-Mail: anmeldung@wiso.or.at\nWeb: www.wienersozialdienste.at/kbd \n  \nFoto: UNIS Vienna
URL:https://kalender.seniorinnen.wien/event/besuchen-sie-mit-dem-kontaktbesuchsdienst-die-uno-city/
LOCATION:Uno City\, Wagramer Straße 5\, Wien\, 1220\, Austria
CATEGORIES:Ausflüge,Monat der Senior:innen
ATTACH;FMTTYPE=image/jpeg:https://kalender.seniorinnen.wien/wp-content/uploads/2025/08/Uno-City-Wien_c_UNIS-Vienna-e1754312907909.jpg
END:VEVENT
END:VCALENDAR