BEGIN:VCALENDAR
VERSION:2.0
PRODID:-//Wien für Senior:innen - ECPv6.15.17.1//NONSGML v1.0//EN
CALSCALE:GREGORIAN
METHOD:PUBLISH
X-WR-CALNAME:Wien für Senior:innen
X-ORIGINAL-URL:https://kalender.seniorinnen.wien
X-WR-CALDESC:Veranstaltungen für Wien für Senior:innen
REFRESH-INTERVAL;VALUE=DURATION:PT1H
X-Robots-Tag:noindex
X-PUBLISHED-TTL:PT1H
BEGIN:VTIMEZONE
TZID:Europe/Berlin
BEGIN:DAYLIGHT
TZOFFSETFROM:+0100
TZOFFSETTO:+0200
TZNAME:CEST
DTSTART:20240331T010000
END:DAYLIGHT
BEGIN:STANDARD
TZOFFSETFROM:+0200
TZOFFSETTO:+0100
TZNAME:CET
DTSTART:20241027T010000
END:STANDARD
BEGIN:DAYLIGHT
TZOFFSETFROM:+0100
TZOFFSETTO:+0200
TZNAME:CEST
DTSTART:20250330T010000
END:DAYLIGHT
BEGIN:STANDARD
TZOFFSETFROM:+0200
TZOFFSETTO:+0100
TZNAME:CET
DTSTART:20251026T010000
END:STANDARD
BEGIN:DAYLIGHT
TZOFFSETFROM:+0100
TZOFFSETTO:+0200
TZNAME:CEST
DTSTART:20260329T010000
END:DAYLIGHT
BEGIN:STANDARD
TZOFFSETFROM:+0200
TZOFFSETTO:+0100
TZNAME:CET
DTSTART:20261025T010000
END:STANDARD
END:VTIMEZONE
BEGIN:VEVENT
DTSTART;TZID=Europe/Berlin:20251029T120000
DTEND;TZID=Europe/Berlin:20251029T130000
DTSTAMP:20260420T224221
CREATED:20250831T230009Z
LAST-MODIFIED:20251014T074010Z
UID:8320-1761739200-1761742800@kalender.seniorinnen.wien
SUMMARY:Sicher in den Öffis
DESCRIPTION:In den Wiener Öffis sollen sich alle sicher fühlen. Gemeinsam begehen wir die U-Bahnstation Karlsplatz. Dabei sehen wir uns mögliche Gefahrenstellen an\, etwa auf der Rolltreppe. Wir erfahren\, was passiert\, wenn man den Notstopp oder den Notruf drückt. Oder welche Unterstützung es gibt\, wenn man mal die Orientierung verlieren sollte. Am Bahnsteig schauen wir uns die Sicherheitszone und die Noteinrichtungen genauer an – sowie die neuen\, selbständig öffnenden Bahnsteigtüren. Wer sich in den neuen Stationen unwohl fühlt\, wird bis zum nächsten Halt begleitet und beim Ein- und Aussteigen unterstützt. \nAnmeldung: \nTermine: 7.10.\, 13.10. und 29.10.\, jeweils 9 bis 10 Uhr\, 10 bis 11 Uhr\, 11 bis 12 Uhr\, 12 bis 13 Uhr \nMax. 15 Teilnehermer:innen pro Termin \nTel.: 01 7909 45130-45 132 \nE-Mail: praevention@wienerlinien.at \nFoto: pixabay
URL:https://kalender.seniorinnen.wien/event/sicher-in-den-oeffis/2025-10-29/7/
LOCATION:U-Bahnstation Karlsplatz\, Servicepoint in der Passage\, U-Bahnstation Karlsplatz\, Servicepoint in der Passage (Stationsaufsicht)\, Wien\, Wien\, 1040\, Austria
ATTACH;FMTTYPE=image/jpeg:https://kalender.seniorinnen.wien/wp-content/uploads/2025/08/vienna-5103169_1280-e1754480449379.jpg
ORGANIZER;CN="Wiener Linien":MAILTO:u2u5@wienerlinien.at
END:VEVENT
BEGIN:VEVENT
DTSTART;TZID=Europe/Berlin:20251029T110000
DTEND;TZID=Europe/Berlin:20251029T120000
DTSTAMP:20260420T224221
CREATED:20250831T230009Z
LAST-MODIFIED:20251014T074010Z
UID:8319-1761735600-1761739200@kalender.seniorinnen.wien
SUMMARY:Sicher in den Öffis
DESCRIPTION:In den Wiener Öffis sollen sich alle sicher fühlen. Gemeinsam begehen wir die U-Bahnstation Karlsplatz. Dabei sehen wir uns mögliche Gefahrenstellen an\, etwa auf der Rolltreppe. Wir erfahren\, was passiert\, wenn man den Notstopp oder den Notruf drückt. Oder welche Unterstützung es gibt\, wenn man mal die Orientierung verlieren sollte. Am Bahnsteig schauen wir uns die Sicherheitszone und die Noteinrichtungen genauer an – sowie die neuen\, selbständig öffnenden Bahnsteigtüren. Wer sich in den neuen Stationen unwohl fühlt\, wird bis zum nächsten Halt begleitet und beim Ein- und Aussteigen unterstützt. \nAnmeldung: \nTermine: 7.10.\, 13.10. und 29.10.\, jeweils 9 bis 10 Uhr\, 10 bis 11 Uhr\, 11 bis 12 Uhr\, 12 bis 13 Uhr \nMax. 15 Teilnehermer:innen pro Termin \nTel.: 01 7909 45130-45 132 \nE-Mail: praevention@wienerlinien.at \nFoto: pixabay
URL:https://kalender.seniorinnen.wien/event/sicher-in-den-oeffis/2025-10-29/6/
LOCATION:U-Bahnstation Karlsplatz\, Servicepoint in der Passage\, U-Bahnstation Karlsplatz\, Servicepoint in der Passage (Stationsaufsicht)\, Wien\, Wien\, 1040\, Austria
ATTACH;FMTTYPE=image/jpeg:https://kalender.seniorinnen.wien/wp-content/uploads/2025/08/vienna-5103169_1280-e1754480449379.jpg
ORGANIZER;CN="Wiener Linien":MAILTO:u2u5@wienerlinien.at
END:VEVENT
BEGIN:VEVENT
DTSTART;TZID=Europe/Berlin:20251029T100000
DTEND;TZID=Europe/Berlin:20251029T110000
DTSTAMP:20260420T224221
CREATED:20250831T230009Z
LAST-MODIFIED:20251014T074009Z
UID:8318-1761732000-1761735600@kalender.seniorinnen.wien
SUMMARY:Sicher in den Öffis
DESCRIPTION:In den Wiener Öffis sollen sich alle sicher fühlen. Gemeinsam begehen wir die U-Bahnstation Karlsplatz. Dabei sehen wir uns mögliche Gefahrenstellen an\, etwa auf der Rolltreppe. Wir erfahren\, was passiert\, wenn man den Notstopp oder den Notruf drückt. Oder welche Unterstützung es gibt\, wenn man mal die Orientierung verlieren sollte. Am Bahnsteig schauen wir uns die Sicherheitszone und die Noteinrichtungen genauer an – sowie die neuen\, selbständig öffnenden Bahnsteigtüren. Wer sich in den neuen Stationen unwohl fühlt\, wird bis zum nächsten Halt begleitet und beim Ein- und Aussteigen unterstützt. \nAnmeldung: \nTermine: 7.10.\, 13.10. und 29.10.\, jeweils 9 bis 10 Uhr\, 10 bis 11 Uhr\, 11 bis 12 Uhr\, 12 bis 13 Uhr \nMax. 15 Teilnehermer:innen pro Termin \nTel.: 01 7909 45130-45 132 \nE-Mail: praevention@wienerlinien.at \nFoto: pixabay
URL:https://kalender.seniorinnen.wien/event/sicher-in-den-oeffis/2025-10-29/5/
LOCATION:U-Bahnstation Karlsplatz\, Servicepoint in der Passage\, U-Bahnstation Karlsplatz\, Servicepoint in der Passage (Stationsaufsicht)\, Wien\, Wien\, 1040\, Austria
ATTACH;FMTTYPE=image/jpeg:https://kalender.seniorinnen.wien/wp-content/uploads/2025/08/vienna-5103169_1280-e1754480449379.jpg
ORGANIZER;CN="Wiener Linien":MAILTO:u2u5@wienerlinien.at
END:VEVENT
BEGIN:VEVENT
DTSTART;TZID=Europe/Berlin:20251029T090000
DTEND;TZID=Europe/Berlin:20251029T100000
DTSTAMP:20260420T224221
CREATED:20250831T230009Z
LAST-MODIFIED:20251014T074008Z
UID:8317-1761728400-1761732000@kalender.seniorinnen.wien
SUMMARY:Sicher in den Öffis
DESCRIPTION:In den Wiener Öffis sollen sich alle sicher fühlen. Gemeinsam begehen wir die U-Bahnstation Karlsplatz. Dabei sehen wir uns mögliche Gefahrenstellen an\, etwa auf der Rolltreppe. Wir erfahren\, was passiert\, wenn man den Notstopp oder den Notruf drückt. Oder welche Unterstützung es gibt\, wenn man mal die Orientierung verlieren sollte. Am Bahnsteig schauen wir uns die Sicherheitszone und die Noteinrichtungen genauer an – sowie die neuen\, selbständig öffnenden Bahnsteigtüren. Wer sich in den neuen Stationen unwohl fühlt\, wird bis zum nächsten Halt begleitet und beim Ein- und Aussteigen unterstützt. \nAnmeldung: \nTermine: 7.10.\, 13.10. und 29.10.\, jeweils 9 bis 10 Uhr\, 10 bis 11 Uhr\, 11 bis 12 Uhr\, 12 bis 13 Uhr \nMax. 15 Teilnehermer:innen pro Termin \nTel.: 01 7909 45130-45 132 \nE-Mail: praevention@wienerlinien.at \nFoto: pixabay
URL:https://kalender.seniorinnen.wien/event/sicher-in-den-oeffis/2025-10-29/
LOCATION:U-Bahnstation Karlsplatz\, Servicepoint in der Passage\, U-Bahnstation Karlsplatz\, Servicepoint in der Passage (Stationsaufsicht)\, Wien\, Wien\, 1040\, Austria
ATTACH;FMTTYPE=image/jpeg:https://kalender.seniorinnen.wien/wp-content/uploads/2025/08/vienna-5103169_1280-e1754480449379.jpg
ORGANIZER;CN="Wiener Linien":MAILTO:u2u5@wienerlinien.at
END:VEVENT
BEGIN:VEVENT
DTSTART;TZID=Europe/Berlin:20251013T120000
DTEND;TZID=Europe/Berlin:20251013T130000
DTSTAMP:20260420T224221
CREATED:20250831T230009Z
LAST-MODIFIED:20251014T074007Z
UID:8316-1760356800-1760360400@kalender.seniorinnen.wien
SUMMARY:Sicher in den Öffis
DESCRIPTION:In den Wiener Öffis sollen sich alle sicher fühlen. Gemeinsam begehen wir die U-Bahnstation Karlsplatz. Dabei sehen wir uns mögliche Gefahrenstellen an\, etwa auf der Rolltreppe. Wir erfahren\, was passiert\, wenn man den Notstopp oder den Notruf drückt. Oder welche Unterstützung es gibt\, wenn man mal die Orientierung verlieren sollte. Am Bahnsteig schauen wir uns die Sicherheitszone und die Noteinrichtungen genauer an – sowie die neuen\, selbständig öffnenden Bahnsteigtüren. Wer sich in den neuen Stationen unwohl fühlt\, wird bis zum nächsten Halt begleitet und beim Ein- und Aussteigen unterstützt. \nAnmeldung: \nTermine: 7.10.\, 13.10. und 29.10.\, jeweils 9 bis 10 Uhr\, 10 bis 11 Uhr\, 11 bis 12 Uhr\, 12 bis 13 Uhr \nMax. 15 Teilnehermer:innen pro Termin \nTel.: 01 7909 45130-45 132 \nE-Mail: praevention@wienerlinien.at \nFoto: pixabay
URL:https://kalender.seniorinnen.wien/event/sicher-in-den-oeffis/2025-10-13/4/
LOCATION:U-Bahnstation Karlsplatz\, Servicepoint in der Passage\, U-Bahnstation Karlsplatz\, Servicepoint in der Passage (Stationsaufsicht)\, Wien\, Wien\, 1040\, Austria
ATTACH;FMTTYPE=image/jpeg:https://kalender.seniorinnen.wien/wp-content/uploads/2025/08/vienna-5103169_1280-e1754480449379.jpg
ORGANIZER;CN="Wiener Linien":MAILTO:u2u5@wienerlinien.at
END:VEVENT
BEGIN:VEVENT
DTSTART;TZID=Europe/Berlin:20251013T110000
DTEND;TZID=Europe/Berlin:20251013T120000
DTSTAMP:20260420T224221
CREATED:20250831T230009Z
LAST-MODIFIED:20251014T074006Z
UID:8315-1760353200-1760356800@kalender.seniorinnen.wien
SUMMARY:Sicher in den Öffis
DESCRIPTION:In den Wiener Öffis sollen sich alle sicher fühlen. Gemeinsam begehen wir die U-Bahnstation Karlsplatz. Dabei sehen wir uns mögliche Gefahrenstellen an\, etwa auf der Rolltreppe. Wir erfahren\, was passiert\, wenn man den Notstopp oder den Notruf drückt. Oder welche Unterstützung es gibt\, wenn man mal die Orientierung verlieren sollte. Am Bahnsteig schauen wir uns die Sicherheitszone und die Noteinrichtungen genauer an – sowie die neuen\, selbständig öffnenden Bahnsteigtüren. Wer sich in den neuen Stationen unwohl fühlt\, wird bis zum nächsten Halt begleitet und beim Ein- und Aussteigen unterstützt. \nAnmeldung: \nTermine: 7.10.\, 13.10. und 29.10.\, jeweils 9 bis 10 Uhr\, 10 bis 11 Uhr\, 11 bis 12 Uhr\, 12 bis 13 Uhr \nMax. 15 Teilnehermer:innen pro Termin \nTel.: 01 7909 45130-45 132 \nE-Mail: praevention@wienerlinien.at \nFoto: pixabay
URL:https://kalender.seniorinnen.wien/event/sicher-in-den-oeffis/2025-10-13/3/
LOCATION:U-Bahnstation Karlsplatz\, Servicepoint in der Passage\, U-Bahnstation Karlsplatz\, Servicepoint in der Passage (Stationsaufsicht)\, Wien\, Wien\, 1040\, Austria
ATTACH;FMTTYPE=image/jpeg:https://kalender.seniorinnen.wien/wp-content/uploads/2025/08/vienna-5103169_1280-e1754480449379.jpg
ORGANIZER;CN="Wiener Linien":MAILTO:u2u5@wienerlinien.at
END:VEVENT
BEGIN:VEVENT
DTSTART;TZID=Europe/Berlin:20251013T100000
DTEND;TZID=Europe/Berlin:20251013T110000
DTSTAMP:20260420T224221
CREATED:20250831T230009Z
LAST-MODIFIED:20251014T074005Z
UID:8314-1760349600-1760353200@kalender.seniorinnen.wien
SUMMARY:Sicher in den Öffis
DESCRIPTION:In den Wiener Öffis sollen sich alle sicher fühlen. Gemeinsam begehen wir die U-Bahnstation Karlsplatz. Dabei sehen wir uns mögliche Gefahrenstellen an\, etwa auf der Rolltreppe. Wir erfahren\, was passiert\, wenn man den Notstopp oder den Notruf drückt. Oder welche Unterstützung es gibt\, wenn man mal die Orientierung verlieren sollte. Am Bahnsteig schauen wir uns die Sicherheitszone und die Noteinrichtungen genauer an – sowie die neuen\, selbständig öffnenden Bahnsteigtüren. Wer sich in den neuen Stationen unwohl fühlt\, wird bis zum nächsten Halt begleitet und beim Ein- und Aussteigen unterstützt. \nAnmeldung: \nTermine: 7.10.\, 13.10. und 29.10.\, jeweils 9 bis 10 Uhr\, 10 bis 11 Uhr\, 11 bis 12 Uhr\, 12 bis 13 Uhr \nMax. 15 Teilnehermer:innen pro Termin \nTel.: 01 7909 45130-45 132 \nE-Mail: praevention@wienerlinien.at \nFoto: pixabay
URL:https://kalender.seniorinnen.wien/event/sicher-in-den-oeffis/2025-10-13/2/
LOCATION:U-Bahnstation Karlsplatz\, Servicepoint in der Passage\, U-Bahnstation Karlsplatz\, Servicepoint in der Passage (Stationsaufsicht)\, Wien\, Wien\, 1040\, Austria
ATTACH;FMTTYPE=image/jpeg:https://kalender.seniorinnen.wien/wp-content/uploads/2025/08/vienna-5103169_1280-e1754480449379.jpg
ORGANIZER;CN="Wiener Linien":MAILTO:u2u5@wienerlinien.at
END:VEVENT
BEGIN:VEVENT
DTSTART;TZID=Europe/Berlin:20251013T090000
DTEND;TZID=Europe/Berlin:20251013T100000
DTSTAMP:20260420T224221
CREATED:20250831T230009Z
LAST-MODIFIED:20251014T074002Z
UID:8313-1760346000-1760349600@kalender.seniorinnen.wien
SUMMARY:Sicher in den Öffis
DESCRIPTION:In den Wiener Öffis sollen sich alle sicher fühlen. Gemeinsam begehen wir die U-Bahnstation Karlsplatz. Dabei sehen wir uns mögliche Gefahrenstellen an\, etwa auf der Rolltreppe. Wir erfahren\, was passiert\, wenn man den Notstopp oder den Notruf drückt. Oder welche Unterstützung es gibt\, wenn man mal die Orientierung verlieren sollte. Am Bahnsteig schauen wir uns die Sicherheitszone und die Noteinrichtungen genauer an – sowie die neuen\, selbständig öffnenden Bahnsteigtüren. Wer sich in den neuen Stationen unwohl fühlt\, wird bis zum nächsten Halt begleitet und beim Ein- und Aussteigen unterstützt. \nAnmeldung: \nTermine: 7.10.\, 13.10. und 29.10.\, jeweils 9 bis 10 Uhr\, 10 bis 11 Uhr\, 11 bis 12 Uhr\, 12 bis 13 Uhr \nMax. 15 Teilnehermer:innen pro Termin \nTel.: 01 7909 45130-45 132 \nE-Mail: praevention@wienerlinien.at \nFoto: pixabay
URL:https://kalender.seniorinnen.wien/event/sicher-in-den-oeffis/2025-10-13/
LOCATION:U-Bahnstation Karlsplatz\, Servicepoint in der Passage\, U-Bahnstation Karlsplatz\, Servicepoint in der Passage (Stationsaufsicht)\, Wien\, Wien\, 1040\, Austria
ATTACH;FMTTYPE=image/jpeg:https://kalender.seniorinnen.wien/wp-content/uploads/2025/08/vienna-5103169_1280-e1754480449379.jpg
ORGANIZER;CN="Wiener Linien":MAILTO:u2u5@wienerlinien.at
END:VEVENT
BEGIN:VEVENT
DTSTART;TZID=Europe/Berlin:20251007T090000
DTEND;TZID=Europe/Berlin:20251007T100000
DTSTAMP:20260420T224221
CREATED:20250831T230009Z
LAST-MODIFIED:20251014T074002Z
UID:8306-1759827600-1759831200@kalender.seniorinnen.wien
SUMMARY:Sicher in den Öffis
DESCRIPTION:In den Wiener Öffis sollen sich alle sicher fühlen. Gemeinsam begehen wir die U-Bahnstation Karlsplatz. Dabei sehen wir uns mögliche Gefahrenstellen an\, etwa auf der Rolltreppe. Wir erfahren\, was passiert\, wenn man den Notstopp oder den Notruf drückt. Oder welche Unterstützung es gibt\, wenn man mal die Orientierung verlieren sollte. Am Bahnsteig schauen wir uns die Sicherheitszone und die Noteinrichtungen genauer an – sowie die neuen\, selbständig öffnenden Bahnsteigtüren. Wer sich in den neuen Stationen unwohl fühlt\, wird bis zum nächsten Halt begleitet und beim Ein- und Aussteigen unterstützt. \nAnmeldung: \nTermine: 7.10.\, 13.10. und 29.10.\, jeweils 9 bis 10 Uhr\, 10 bis 11 Uhr\, 11 bis 12 Uhr\, 12 bis 13 Uhr \nMax. 15 Teilnehermer:innen pro Termin \nTel.: 01 7909 45130-45 132 \nE-Mail: praevention@wienerlinien.at \nFoto: pixabay
URL:https://kalender.seniorinnen.wien/event/sicher-in-den-oeffis/2025-10-07/
LOCATION:U-Bahnstation Karlsplatz\, Servicepoint in der Passage\, U-Bahnstation Karlsplatz\, Servicepoint in der Passage (Stationsaufsicht)\, Wien\, Wien\, 1040\, Austria
ATTACH;FMTTYPE=image/jpeg:https://kalender.seniorinnen.wien/wp-content/uploads/2025/08/vienna-5103169_1280-e1754480449379.jpg
ORGANIZER;CN="Wiener Linien":MAILTO:u2u5@wienerlinien.at
END:VEVENT
END:VCALENDAR