BEGIN:VCALENDAR
VERSION:2.0
PRODID:-//Wien für Senior:innen - ECPv6.15.17.1//NONSGML v1.0//EN
CALSCALE:GREGORIAN
METHOD:PUBLISH
X-ORIGINAL-URL:https://kalender.seniorinnen.wien
X-WR-CALDESC:Veranstaltungen für Wien für Senior:innen
REFRESH-INTERVAL;VALUE=DURATION:PT1H
X-Robots-Tag:noindex
X-PUBLISHED-TTL:PT1H
BEGIN:VTIMEZONE
TZID:Europe/Berlin
BEGIN:DAYLIGHT
TZOFFSETFROM:+0100
TZOFFSETTO:+0200
TZNAME:CEST
DTSTART:20210328T010000
END:DAYLIGHT
BEGIN:STANDARD
TZOFFSETFROM:+0200
TZOFFSETTO:+0100
TZNAME:CET
DTSTART:20211031T010000
END:STANDARD
BEGIN:DAYLIGHT
TZOFFSETFROM:+0100
TZOFFSETTO:+0200
TZNAME:CEST
DTSTART:20220327T010000
END:DAYLIGHT
BEGIN:STANDARD
TZOFFSETFROM:+0200
TZOFFSETTO:+0100
TZNAME:CET
DTSTART:20221030T010000
END:STANDARD
BEGIN:DAYLIGHT
TZOFFSETFROM:+0100
TZOFFSETTO:+0200
TZNAME:CEST
DTSTART:20230326T010000
END:DAYLIGHT
BEGIN:STANDARD
TZOFFSETFROM:+0200
TZOFFSETTO:+0100
TZNAME:CET
DTSTART:20231029T010000
END:STANDARD
END:VTIMEZONE
BEGIN:VEVENT
DTSTART;TZID=Europe/Berlin:20221011T140000
DTEND;TZID=Europe/Berlin:20221011T160000
DTSTAMP:20260423T105945
CREATED:20220725T143405Z
LAST-MODIFIED:20220822T084356Z
UID:2874-1665496800-1665504000@kalender.seniorinnen.wien
SUMMARY:Monat der Senior:innen: Frauen* in Rudolfsheim-Fünfhaus
DESCRIPTION:Frauen* haben auch im 15. Bezirk Geschichte geschrieben. Lange Zeit war vor allem die jüdische Geschichte des Bezirks verschüttet und nicht erinnert. \nIm „Dreieck meiner Kindheit“ gab es lebendiges\, jüdisches Leben\, eine Synagoge\, Widerstandskämpferinnen und eine bedeutende Schule für Erwachsene. \nPetra Unger\, Akademische Referentin für feministische Bildung und Politik\, Expertin für Gender Studies und Feministische Forschung und Kulturvermittlerin führt Sie durch den wenig bekannten Teil des Bezirks! \nDie Teilnehmer:innenanzahl ist auf 25 Personen beschränkt. Melden Sie sich ab 01.09.2022 bis 10.10.2022 telefonisch über 01 /24 5 24 – FSW-Kund:innentelefon für die Veranstaltung an. \nSollten Sie trotz Anmeldung nicht an der Veranstaltung teilnehmen können\, sagen Sie bitte ab. So haben weitere Interessierte die Möglichkeit Ihren Platz einzunehmen. \nBitte beachten Sie: Aufgrund COVID-19 sind kurzfristige Änderungen oder auch Absagen möglich. Das Team der Senior:innenbeauftragten und die Veranstalter:innen bitten um Verständnis. \n(c) Petra Unger
URL:https://kalender.seniorinnen.wien/event/monat-der-seniorinnen-frauen-in-rudolfsheim-fuenfhaus/
LOCATION:Treffpunkt Storchengasse\, Storchengasse 21-23\, Wien\, 1150
CATEGORIES:Monat der Senior:innen
END:VEVENT
END:VCALENDAR