BEGIN:VCALENDAR
VERSION:2.0
PRODID:-//Wien für Senior:innen - ECPv6.15.17.1//NONSGML v1.0//EN
CALSCALE:GREGORIAN
METHOD:PUBLISH
X-WR-CALNAME:Wien für Senior:innen
X-ORIGINAL-URL:https://kalender.seniorinnen.wien
X-WR-CALDESC:Veranstaltungen für Wien für Senior:innen
REFRESH-INTERVAL;VALUE=DURATION:PT1H
X-Robots-Tag:noindex
X-PUBLISHED-TTL:PT1H
BEGIN:VTIMEZONE
TZID:Europe/Berlin
BEGIN:DAYLIGHT
TZOFFSETFROM:+0100
TZOFFSETTO:+0200
TZNAME:CEST
DTSTART:20230326T010000
END:DAYLIGHT
BEGIN:STANDARD
TZOFFSETFROM:+0200
TZOFFSETTO:+0100
TZNAME:CET
DTSTART:20231029T010000
END:STANDARD
BEGIN:DAYLIGHT
TZOFFSETFROM:+0100
TZOFFSETTO:+0200
TZNAME:CEST
DTSTART:20240331T010000
END:DAYLIGHT
BEGIN:STANDARD
TZOFFSETFROM:+0200
TZOFFSETTO:+0100
TZNAME:CET
DTSTART:20241027T010000
END:STANDARD
BEGIN:DAYLIGHT
TZOFFSETFROM:+0100
TZOFFSETTO:+0200
TZNAME:CEST
DTSTART:20250330T010000
END:DAYLIGHT
BEGIN:STANDARD
TZOFFSETFROM:+0200
TZOFFSETTO:+0100
TZNAME:CET
DTSTART:20251026T010000
END:STANDARD
END:VTIMEZONE
BEGIN:VEVENT
DTSTART;TZID=Europe/Berlin:20241021T080000
DTEND;TZID=Europe/Berlin:20241021T112000
DTSTAMP:20260423T151217
CREATED:20240830T134755Z
LAST-MODIFIED:20240830T134755Z
UID:6549-1729497600-1729509600@kalender.seniorinnen.wien
SUMMARY:Öffi-Denkwerkstatt: Digital fit mit der WienMobil App
DESCRIPTION:Die WienMobil App bietet vom Ticketkauf über den Routenplaner und alternative Mobilitätsformen (Leih-Autos und -Räder) noch viele weitere Funktionen. Lernen Sie diese gemeinsam mit den Wiener Linien kennen und bleiben Sie digital fit. \nAnmeldung und Registrierung erforderlich von 2.9. bis 30.9.: www.wienerlinien.at/oeffi-denkwerkstatt \nDie Teilnehmer:innen müssen sich auf der Website anmelden und registrieren\, damit sie an diesem Workshop teilnehmen können. \nMax. Teilnehmer:innenzahl: 3 Zeitslots zu je 10 Personen \n\n8:00-9:00 Uhr\n9:10-10:10 Uhr\n10:20-11:20 Uhr\n\nOrt: 1030 Wien\, Thomas Klestil Platz 15\, Talent Hub
URL:https://kalender.seniorinnen.wien/event/oeffi-denkwerkstatt-digital-fit-mit-der-wienmobil-app/
LOCATION:talent hub\, Thomas Klestil Platz 15\, Wien\, 1030
CATEGORIES:Digital und Online,Monat der Senior:innen
ORGANIZER;CN="Wiener Linien":MAILTO:u2u5@wienerlinien.at
END:VEVENT
END:VCALENDAR