BEGIN:VCALENDAR
VERSION:2.0
PRODID:-//Wien für Senior:innen - ECPv6.15.17.1//NONSGML v1.0//EN
CALSCALE:GREGORIAN
METHOD:PUBLISH
X-WR-CALNAME:Wien für Senior:innen
X-ORIGINAL-URL:https://kalender.seniorinnen.wien
X-WR-CALDESC:Veranstaltungen für Wien für Senior:innen
REFRESH-INTERVAL;VALUE=DURATION:PT1H
X-Robots-Tag:noindex
X-PUBLISHED-TTL:PT1H
BEGIN:VTIMEZONE
TZID:Europe/Berlin
BEGIN:DAYLIGHT
TZOFFSETFROM:+0100
TZOFFSETTO:+0200
TZNAME:CEST
DTSTART:20240331T010000
END:DAYLIGHT
BEGIN:STANDARD
TZOFFSETFROM:+0200
TZOFFSETTO:+0100
TZNAME:CET
DTSTART:20241027T010000
END:STANDARD
BEGIN:DAYLIGHT
TZOFFSETFROM:+0100
TZOFFSETTO:+0200
TZNAME:CEST
DTSTART:20250330T010000
END:DAYLIGHT
BEGIN:STANDARD
TZOFFSETFROM:+0200
TZOFFSETTO:+0100
TZNAME:CET
DTSTART:20251026T010000
END:STANDARD
BEGIN:DAYLIGHT
TZOFFSETFROM:+0100
TZOFFSETTO:+0200
TZNAME:CEST
DTSTART:20260329T010000
END:DAYLIGHT
BEGIN:STANDARD
TZOFFSETFROM:+0200
TZOFFSETTO:+0100
TZNAME:CET
DTSTART:20261025T010000
END:STANDARD
END:VTIMEZONE
BEGIN:VEVENT
DTSTART;TZID=Europe/Berlin:20251015T160000
DTEND;TZID=Europe/Berlin:20251015T173000
DTSTAMP:20260420T172009
CREATED:20250904T131917Z
LAST-MODIFIED:20250904T132752Z
UID:9860-1760544000-1760549400@kalender.seniorinnen.wien
SUMMARY:GEMEINSAMER SPAZIERGANG im Prater
DESCRIPTION:Lust auf neue Kontakte?\nEinfach mal rauskommen\, neue Leute kennenlernen und plaudern – bei unserem gemeinsamen Spaziergang ist alles möglich! Das Projekt „Plattform gegen Einsamkeit in Österreich“ lädt zu einem weiteren GEMEINSAMEN SPAZIERGANG in Wien ein. Interessierte können sich in entspannter Atmosphäre über Alltagsthemen unterhalten\, Erfahrungen und Geschichten teilen\, gemeinsame Interessen entdecken und Kontakte knüpfen. \nmax. 30 Teilnehmer:innen \nAnmeldung bis 14.10. \nTel.: 0676 41 823 35\nE-Mail: hallo@socialcity.at \nTreffpunkt: Straßenbahn 1 Endstation „Prater Hauptallee“ \nFoto: Leonhard Niederwimmer auf Pixabay
URL:https://kalender.seniorinnen.wien/event/gemeinsamer-spaziergang-im-prater/
LOCATION:Straßenbahn 1 Endstation Prater Hauptallee\, Prater Hauptallee\, Wien\, Wien\, 1020\, Austria
CATEGORIES:Monat der Senior:innen
ATTACH;FMTTYPE=image/jpeg:https://kalender.seniorinnen.wien/wp-content/uploads/2025/09/ferris-wheel-6312596_1920-e1756991862812.jpg
ORGANIZER;CN="Social City Wien Plattform gegen Einsamkeit":MAILTO:hallo@socialcity.at
END:VEVENT
END:VCALENDAR