BEGIN:VCALENDAR
VERSION:2.0
PRODID:-//Wien für Senior:innen - ECPv6.15.17.1//NONSGML v1.0//EN
CALSCALE:GREGORIAN
METHOD:PUBLISH
X-ORIGINAL-URL:https://kalender.seniorinnen.wien
X-WR-CALDESC:Veranstaltungen für Wien für Senior:innen
REFRESH-INTERVAL;VALUE=DURATION:PT1H
X-Robots-Tag:noindex
X-PUBLISHED-TTL:PT1H
BEGIN:VTIMEZONE
TZID:Europe/Berlin
BEGIN:DAYLIGHT
TZOFFSETFROM:+0100
TZOFFSETTO:+0200
TZNAME:CEST
DTSTART:20220327T010000
END:DAYLIGHT
BEGIN:STANDARD
TZOFFSETFROM:+0200
TZOFFSETTO:+0100
TZNAME:CET
DTSTART:20221030T010000
END:STANDARD
BEGIN:DAYLIGHT
TZOFFSETFROM:+0100
TZOFFSETTO:+0200
TZNAME:CEST
DTSTART:20230326T010000
END:DAYLIGHT
BEGIN:STANDARD
TZOFFSETFROM:+0200
TZOFFSETTO:+0100
TZNAME:CET
DTSTART:20231029T010000
END:STANDARD
BEGIN:DAYLIGHT
TZOFFSETFROM:+0100
TZOFFSETTO:+0200
TZNAME:CEST
DTSTART:20240331T010000
END:DAYLIGHT
BEGIN:STANDARD
TZOFFSETFROM:+0200
TZOFFSETTO:+0100
TZNAME:CET
DTSTART:20241027T010000
END:STANDARD
END:VTIMEZONE
BEGIN:VEVENT
DTSTART;TZID=Europe/Berlin:20231116T093000
DTEND;TZID=Europe/Berlin:20231116T103000
DTSTAMP:20260423T121808
CREATED:20231116T093854Z
LAST-MODIFIED:20231116T093854Z
UID:4588-1700127000-1700130600@kalender.seniorinnen.wien
SUMMARY:Frauentisch Meidling: "Gewalt an älteren Frauen - Filmvorführung & Gespräch"
DESCRIPTION:Wir werden uns gemeinsam den Kurzfilm „Unsichtbare Gewalt an älteren Frauen“ anschauen. \nErzählt werden fünf Geschichten von Frauen\, die verschiedene Formen von Gewalt erlebt haben. Danach sprechen wir über den Film und das Thema Gewalt an älteren Frauen. \nEs gibt im Veranstaltungsraum leider keine Heizung\, aber wärmenden Tee\, Kaffee & Kuchen!
URL:https://kalender.seniorinnen.wien/event/frauentisch-meidling-gewalt-an-aelteren-frauen-filmvorfuehrung-gespraech/
LOCATION:Stadtraum 15 der Gebietsbetreuung Süd\, Rustensteg 1\, Wien\, 1150
END:VEVENT
END:VCALENDAR