BEGIN:VCALENDAR
VERSION:2.0
PRODID:-//Wien für Senior:innen - ECPv6.15.17.1//NONSGML v1.0//EN
CALSCALE:GREGORIAN
METHOD:PUBLISH
X-ORIGINAL-URL:https://kalender.seniorinnen.wien
X-WR-CALDESC:Veranstaltungen für Wien für Senior:innen
REFRESH-INTERVAL;VALUE=DURATION:PT1H
X-Robots-Tag:noindex
X-PUBLISHED-TTL:PT1H
BEGIN:VTIMEZONE
TZID:Europe/Berlin
BEGIN:DAYLIGHT
TZOFFSETFROM:+0100
TZOFFSETTO:+0200
TZNAME:CEST
DTSTART:20230326T010000
END:DAYLIGHT
BEGIN:STANDARD
TZOFFSETFROM:+0200
TZOFFSETTO:+0100
TZNAME:CET
DTSTART:20231029T010000
END:STANDARD
BEGIN:DAYLIGHT
TZOFFSETFROM:+0100
TZOFFSETTO:+0200
TZNAME:CEST
DTSTART:20240331T010000
END:DAYLIGHT
BEGIN:STANDARD
TZOFFSETFROM:+0200
TZOFFSETTO:+0100
TZNAME:CET
DTSTART:20241027T010000
END:STANDARD
BEGIN:DAYLIGHT
TZOFFSETFROM:+0100
TZOFFSETTO:+0200
TZNAME:CEST
DTSTART:20250330T010000
END:DAYLIGHT
BEGIN:STANDARD
TZOFFSETFROM:+0200
TZOFFSETTO:+0100
TZNAME:CET
DTSTART:20251026T010000
END:STANDARD
BEGIN:DAYLIGHT
TZOFFSETFROM:+0100
TZOFFSETTO:+0200
TZNAME:CEST
DTSTART:20260329T010000
END:DAYLIGHT
BEGIN:STANDARD
TZOFFSETFROM:+0200
TZOFFSETTO:+0100
TZNAME:CET
DTSTART:20261025T010000
END:STANDARD
END:VTIMEZONE
BEGIN:VEVENT
DTSTART;TZID=Europe/Berlin:20251024T090000
DTEND;TZID=Europe/Berlin:20251024T160000
DTSTAMP:20260420T164422
CREATED:20250831T230004Z
LAST-MODIFIED:20250828T125510Z
UID:9625-1761296400-1761321600@kalender.seniorinnen.wien
SUMMARY:Messe für Gesundheit und Prävention
DESCRIPTION:Gesundheit für alle! Gesundheitsberatung und Selbsthilfe.\n\nGesundheitsstraße mit kostenloser Fit-Card: Hier können Sie Ihre Fitness und Gesundheit testen.\nVorträge und Schnupper-Workshops: Holen Sie sich Anregungen wie Sie Ihr Wohlbefinden erhalten und verbessern können.\nSie können an informativen Workshops teilnehmen und gleich Neues ausprobieren.\nGesundheitsberatung und Selbsthilfe: Nehmen Sie Ihre Gesundheit selbst in die Hand!\nBühnenprogramm\n\nKeine Anmeldung erforderlich. \nWebsite: www.nachbarschaftszentren.at
URL:https://kalender.seniorinnen.wien/event/messe-fuer-gesundheit-und-praevention-2/
LOCATION:SkyDome – Wiener Hilfswerk\, Schottenfeldgasse 29\, Wien\, Wien\, 1070\, Österreich
CATEGORIES:Fit und Gesund,Monat der Senior:innen
ATTACH;FMTTYPE=image/jpeg:https://kalender.seniorinnen.wien/wp-content/uploads/2024/08/Fotolia_11544484_L_©styf-e1756385638283.jpg
ORGANIZER;CN="Wiener Hilfswerk%2C Nachbarschaftszentrum 15 - Rudolfsheim-F%C3%BCnfhaus":MAILTO:nbz15@wiener.hilfswerk.at
END:VEVENT
BEGIN:VEVENT
DTSTART;TZID=Europe/Berlin:20241018T090000
DTEND;TZID=Europe/Berlin:20241018T160000
DTSTAMP:20260420T164422
CREATED:20240822T111814Z
LAST-MODIFIED:20240822T111814Z
UID:6018-1729242000-1729267200@kalender.seniorinnen.wien
SUMMARY:Messe für Gesundheit und Prävention
DESCRIPTION:Holen Sie sich Inputs von Expert:innen\, wie Sie Ihr Wohlbefinden erhalten und verbessern können! \n\nGesundheitsstraße mit kostenloser Fit-Card: Hier können Sie Ihre Fitness und Gesundheit testen.\nGesundheitsberatung und Selbsthilfe: Nehmen Sie Ihre Gesundheit selbst in die Hand.\nVorträge und Schnupper-Workshops: Erfahren Sie\, wie sie Ihre Gesundheit erhalten und verbessern können. Bei abwechslungsreiche Schnupper-Workshops können Sie teilnehmen und gleich Neues ausprobieren.\nBühnenprogramm\n\nEintritt frei!
URL:https://kalender.seniorinnen.wien/event/messe-fuer-gesundheit-und-praevention/
LOCATION:SkyDome – Wiener Hilfswerk\, Schottenfeldgasse 29\, Wien\, Wien\, 1070\, Österreich
CATEGORIES:Bildung,Information,Monat der Senior:innen
ATTACH;FMTTYPE=image/jpeg:https://kalender.seniorinnen.wien/wp-content/uploads/2024/08/Fotolia_11544484_L_©styf-e1756385638283.jpg
END:VEVENT
END:VCALENDAR