BEGIN:VCALENDAR
VERSION:2.0
PRODID:-//Wien für Senior:innen - ECPv6.15.17.1//NONSGML v1.0//EN
CALSCALE:GREGORIAN
METHOD:PUBLISH
X-ORIGINAL-URL:https://kalender.seniorinnen.wien
X-WR-CALDESC:Veranstaltungen für Wien für Senior:innen
REFRESH-INTERVAL;VALUE=DURATION:PT1H
X-Robots-Tag:noindex
X-PUBLISHED-TTL:PT1H
BEGIN:VTIMEZONE
TZID:Europe/Berlin
BEGIN:DAYLIGHT
TZOFFSETFROM:+0100
TZOFFSETTO:+0200
TZNAME:CEST
DTSTART:20230326T010000
END:DAYLIGHT
BEGIN:STANDARD
TZOFFSETFROM:+0200
TZOFFSETTO:+0100
TZNAME:CET
DTSTART:20231029T010000
END:STANDARD
BEGIN:DAYLIGHT
TZOFFSETFROM:+0100
TZOFFSETTO:+0200
TZNAME:CEST
DTSTART:20240331T010000
END:DAYLIGHT
BEGIN:STANDARD
TZOFFSETFROM:+0200
TZOFFSETTO:+0100
TZNAME:CET
DTSTART:20241027T010000
END:STANDARD
BEGIN:DAYLIGHT
TZOFFSETFROM:+0100
TZOFFSETTO:+0200
TZNAME:CEST
DTSTART:20250330T010000
END:DAYLIGHT
BEGIN:STANDARD
TZOFFSETFROM:+0200
TZOFFSETTO:+0100
TZNAME:CET
DTSTART:20251026T010000
END:STANDARD
END:VTIMEZONE
BEGIN:VEVENT
DTSTART;TZID=Europe/Berlin:20241017T150000
DTEND;TZID=Europe/Berlin:20241017T193000
DTSTAMP:20260421T095004
CREATED:20240906T130200Z
LAST-MODIFIED:20240906T135647Z
UID:6676-1729177200-1729193400@kalender.seniorinnen.wien
SUMMARY:Kürbisfest und Umzug 2024
DESCRIPTION:Am Siebenbrunnenplatz beginnt das Kürbisfest am 17.10.2024 mit verschiedenen Aktivitäten wie Kürbisschnitzen\, Kinderschminken und Geschichtenlesen. Die Stelzentänzer:innen von Soluna Rising werden die Besucher:innen mit ihrem spektakulären Stelzentheater und fantasievollen Kostümen begeistern. Zur musikalischen Begleitung tragen die stimmungsvollen Klänge des Musiktrios Perinhard & Freunde bei. \nMit Einbruch der Dunkelheit startet ein musikalischer Umzug durch Margareten in Richtung Reumannhof\, wo eine künstlerische Darbietung die Kinder zum Lachen bringen wird. Etwa eine Stunde später bewegt sich der Umzug zurück zum Siebenbrunnenplatz\, wo das Publikum eingeladen ist\, bei einer Kürbissuppe den Abschluss und Ausklang des Festes zu genießen. Die Kinder können ihre geschnitzten Kürbisse natürlich mit nach Hause nehmen. \n\nKeine Anmeldung erforderlich.
URL:https://kalender.seniorinnen.wien/event/kuerbisfest-und-umzug-2024/
LOCATION:Siebenbrunnenplatz\, 1050 Wien\, Siebenbrunnenplatz\, Wien\, 1050
CATEGORIES:Ausflüge,Begegnung,Grätzel,Monat der Senior:innen
END:VEVENT
END:VCALENDAR