BEGIN:VCALENDAR
VERSION:2.0
PRODID:-//Wien für Senior:innen - ECPv6.15.17.1//NONSGML v1.0//EN
CALSCALE:GREGORIAN
METHOD:PUBLISH
X-WR-CALNAME:Wien für Senior:innen
X-ORIGINAL-URL:https://kalender.seniorinnen.wien
X-WR-CALDESC:Veranstaltungen für Wien für Senior:innen
REFRESH-INTERVAL;VALUE=DURATION:PT1H
X-Robots-Tag:noindex
X-PUBLISHED-TTL:PT1H
BEGIN:VTIMEZONE
TZID:Europe/Berlin
BEGIN:DAYLIGHT
TZOFFSETFROM:+0100
TZOFFSETTO:+0200
TZNAME:CEST
DTSTART:20250330T010000
END:DAYLIGHT
BEGIN:STANDARD
TZOFFSETFROM:+0200
TZOFFSETTO:+0100
TZNAME:CET
DTSTART:20251026T010000
END:STANDARD
BEGIN:DAYLIGHT
TZOFFSETFROM:+0100
TZOFFSETTO:+0200
TZNAME:CEST
DTSTART:20260329T010000
END:DAYLIGHT
BEGIN:STANDARD
TZOFFSETFROM:+0200
TZOFFSETTO:+0100
TZNAME:CET
DTSTART:20261025T010000
END:STANDARD
BEGIN:DAYLIGHT
TZOFFSETFROM:+0100
TZOFFSETTO:+0200
TZNAME:CEST
DTSTART:20270328T010000
END:DAYLIGHT
BEGIN:STANDARD
TZOFFSETFROM:+0200
TZOFFSETTO:+0100
TZNAME:CET
DTSTART:20271031T010000
END:STANDARD
END:VTIMEZONE
BEGIN:VEVENT
DTSTART;TZID=Europe/Berlin:20260507T093000
DTEND;TZID=Europe/Berlin:20260507T123000
DTSTAMP:20260425T204353
CREATED:20260420T065947Z
LAST-MODIFIED:20260420T092516Z
UID:12790-1778146200-1778157000@kalender.seniorinnen.wien
SUMMARY:Älterwerden in Wien: Ältere Migrant:innen in Wien
DESCRIPTION:Gekommen um zu bleiben: Ältere Migrant:innen in Wien\nHerausforderungen und Chancen im urbanen Raum\n \nDonnerstag\, 7. Mai 2026\, 9.30 bis 12.30 Uhr \nDer Vortrag gibt Einblick in demografische Entwicklungen in Wien mit dem Fokus auf ältere Menschen mit Migrationshintergrund bzw. deren Herkunftsländer. Ebenso werden die Herausforderungen für ältere Migrant*innen\, wie beispielsweise Sprachbarrieren\, Zugang zum Gesundheitssystem\, kulturelle Unterschiede im Umgang mit Älteren thematisiert und bestehende Unterstützungsangebote wie etwa soziale Dienstleistungen und Initiativen in der Stadt vorgestellt. \nReferentin: Katharina Zahradnik-Stanzel (Leiterin Diversitätsmanagement und Grundlagen der Stadt Wien – Integration und Diversität)\nKostenloses Ticket: ticket.wien.gv.at/M17/eb3ab \nDie Vortragsreihe „Älterwerden in Wien“ der Abteilung Stadt Wien – Integration und Diversität setzt sich mit der Thematik auseinander wie es älteren Menschen mit Migrationsbiografie in unserer Stadtgesellschaft geht. Im Mittelpunkt stehen dabei Fragen der Inklusion und Partizipation\, der sozialen Ungleichheiten und Mehrfachdiskriminierung. \nZielgruppe: Mitarbeiter:innen von sozialen Einrichtungen und Organisationen\, Mitarbeiter:innen der Stadt Wien\, interessierte Wiener:innen\nVeranstaltungsort: Seminarraum der Stadt Wien – Integration und Diversität\n15.\, Gasgasse 8-10/ Amtshaus\, Stiege 1\, 1. Stock\, links\nDie Teilnahme ist kostenlos.\nNähere Informationen unter:\nTel: +43 1 4000-20924\nE-Mail: nord@ma17.wien.gv.at \nFoto: Pixabay
URL:https://kalender.seniorinnen.wien/event/aelterwerden-in-wien-aeltere-migrantinnen-in-wien/
LOCATION:Seminarraum der Abteilung Integration und Diversität (MA 17)\, Gasgasse 8-10\, Wien\, 1150
CATEGORIES:Begegnung,Bildung,Information
ATTACH;FMTTYPE=image/jpeg:https://kalender.seniorinnen.wien/wp-content/uploads/2026/04/planet_fox-senior-6658552-scaled.jpg
END:VEVENT
BEGIN:VEVENT
DTSTART;TZID=Europe/Berlin:20260528T093000
DTEND;TZID=Europe/Berlin:20260528T123000
DTSTAMP:20260425T204353
CREATED:20260420T070549Z
LAST-MODIFIED:20260420T070745Z
UID:12794-1779960600-1779971400@kalender.seniorinnen.wien
SUMMARY:Älterwerden in Wien
DESCRIPTION:Bildliche und sprachliche Ausdrucksformen der Altersmigration \nDonnerstag\, 28. Mai 2026\, 9.30 bis 12.30 Uhr \nIn diesem Vortrag wird die Altersmigration am Beispiel der Gastarbeiterbewegung aus der Türkei beleuchtet. Durch die Analyse von Geschichten\, Bildern und Dokumenten im Rahmen der Forschung der Referent*in wird ein vielschichtiges Verständnis von Migration und Alter entwickelt\, welches den Teilnehmer*innen näher gebracht werden soll. \nReferentin: Faime Alpagu (Institut für Soziologie der Universität Wien)\nKostenloses Ticket: ticket.wien.gv.at/M17/rm9mv \nDie Vortragsreihe „Älterwerden in Wien“ der Abteilung Stadt Wien – Integration und Diversität setzt sich mit der Thematik auseinander wie es älteren Menschen mit Migrationsbiografie in unserer Stadtgesellschaft geht. Im Mittelpunkt stehen dabei Fragen der Inklusion und Partizipation\, der sozialen Ungleichheiten und Mehrfachdiskriminierung. \nZielgruppe: Mitarbeiter:innen von sozialen Einrichtungen und Organisationen\, Mitarbeiter:innen der Stadt Wien\, interessierte Wiener:innen\nVeranstaltungsort: Seminarraum der Stadt Wien – Integration und Diversität\n15.\, Gasgasse 8-10/ Amtshaus\, Stiege 1\, 1. Stock\, links\nDie Teilnahme ist kostenlos.\nNähere Informationen unter:\nTel: +43 1 4000-20924\nE-Mail: nord@ma17.wien.gv.at \nFoto: Pixabay
URL:https://kalender.seniorinnen.wien/event/aelterwerden-in-wien/
LOCATION:Seminarraum der Abteilung Integration und Diversität (MA 17)\, Gasgasse 8-10\, Wien\, 1150
CATEGORIES:Begegnung,Information
ATTACH;FMTTYPE=image/jpeg:https://kalender.seniorinnen.wien/wp-content/uploads/2026/04/planet_fox-senior-6658552-scaled.jpg
END:VEVENT
BEGIN:VEVENT
DTSTART;TZID=Europe/Berlin:20261111T093000
DTEND;TZID=Europe/Berlin:20261111T123000
DTSTAMP:20260425T204353
CREATED:20260420T071912Z
LAST-MODIFIED:20260420T092552Z
UID:12803-1794389400-1794400200@kalender.seniorinnen.wien
SUMMARY:Älterwerden in Wien
DESCRIPTION:Ältere Menschen mit Migrationsbiografie: Intersektionale Perspektiven auf eine super-diverse Bevölkerungsgruppe\nDer Vortrag stellt Erfahrungen aus Begegnungen mit rund 150 Personen in unterschiedlichen partizipativen Settings vor und gibt Einblicke in das Projekt „Caring-Living-Labs Graz: Gut leben im Alter“ (2022 – 2024)“. Aus einer intersektionalen Perspektive wird analysiert\, wie Alter\, Migrationsbiografie\, Geschlecht\, soziale Ungleichheiten und Care-Beziehungen gemeinsam die Möglichkeiten gesellschaftlicher Teilhabe und Sorge im Alter prägen. \nMittwoch\, 11. November 2026\, 9.30 bis 12.30 Uhr \nDer Vortrag stellt Erfahrungen aus Begegnungen mit rund 150 Personen in unterschiedlichen partizipativen Settings vor und gibt Einblicke in das Projekt „Caring-Living-Labs Graz: Gut leben im Alter“ (2022 – 2024)“. Aus einer intersektionalen Perspektive wird analysiert\, wie Alter\, Migrationsbiografie\, Geschlecht\, soziale Ungleichheiten und Care-Beziehungen gemeinsam die Möglichkeiten gesellschaftlicher Teilhabe und Sorge im Alter prägen. \nReferentin: Anna Christina Kainradl (Zentrum für interdisziplinäre Alters- und Care Forschung an der Universität Graz)\nKostenloses Ticket: ticket.wien.gv.at/M17/8k3uk \nDie Vortragsreihe „Älterwerden in Wien“ der Abteilung Stadt Wien – Integration und Diversität setzt sich mit der Thematik auseinander wie es älteren Menschen mit Migrationsbiografie in unserer Stadtgesellschaft geht. Im Mittelpunkt stehen dabei Fragen der Inklusion und Partizipation\, der sozialen Ungleichheiten und Mehrfachdiskriminierung. \nZielgruppe: Mitarbeiter:innen von sozialen Einrichtungen und Organisationen\, Mitarbeiter:innen der Stadt Wien\, interessierte Wiener:innen\nVeranstaltungsort: Seminarraum der Stadt Wien – Integration und Diversität\n15.\, Gasgasse 8-10/ Amtshaus\, Stiege 1\, 1. Stock\, links\nDie Teilnahme ist kostenlos.\nNähere Informationen unter:\nTel: +43 1 4000-20924\nE-Mail: nord@ma17.wien.gv.at \nFoto: Pixabay
URL:https://kalender.seniorinnen.wien/event/aelterwerden-in-wien-3/
LOCATION:Seminarraum der Abteilung Integration und Diversität (MA 17)\, Gasgasse 8-10\, Wien\, 1150
CATEGORIES:Begegnung,Information
ATTACH;FMTTYPE=image/jpeg:https://kalender.seniorinnen.wien/wp-content/uploads/2026/04/planet_fox-senior-6658552-scaled.jpg
END:VEVENT
BEGIN:VEVENT
DTSTART;TZID=Europe/Berlin:20261203T093000
DTEND;TZID=Europe/Berlin:20261203T123000
DTSTAMP:20260425T204353
CREATED:20260420T093002Z
LAST-MODIFIED:20260420T093059Z
UID:12806-1796290200-1796301000@kalender.seniorinnen.wien
SUMMARY:Älterwerden in Wien
DESCRIPTION:Ältere Menschen mit Migrationsbiografie in Palliative Care und Hospiz \nDonnerstag\, 3. Dezember 2026\, 9.30 bis 12.30 Uhr \nDer Vortrag beschäftigt sich mit den über das Leben erworbenen Ressourcen\, mit Bedürfnissen und Herausforderungen älterer Menschen mit Migrationsbiografie im hohen Alter und bis ans Lebensende. Es zeigt Potenziale\, aber auch Grenzen von Palliative Care und Hospizarbeit für ältere Menschen mit Migrationsbiografie auf und diskutiert deren Bedeutung in kommunalen Sorgenetzwerken. \nReferentin: Anna-Christina Kainradl (Zentrum für interdisziplinäre Alters- und Care Forschung an der Universität Graz)\nKostenloses Ticket: ticket.wien.gv.at/M17/8aemz \nStadt Wien – Integration und Diversität setzt sich mit der Thematik auseinander wie es älteren Menschen mit Migrationsbiografie in unserer Stadtgesellschaft geht. Im Mittelpunkt stehen dabei Fragen der Inklusion und Partizipation\, der sozialen Ungleichheiten und Mehrfachdiskriminierung. \nZielgruppe: Mitarbeiter:innen von sozialen Einrichtungen und Organisationen\, Mitarbeiter:innen der Stadt Wien\, interessierte Wiener:innen\nVeranstaltungsort: Seminarraum der Stadt Wien – Integration und Diversität\n15.\, Gasgasse 8-10/ Amtshaus\, Stiege 1\, 1. Stock\, links\nDie Teilnahme ist kostenlos.\nNähere Informationen unter:\nTel: +43 1 4000-20924\nE-Mail: nord@ma17.wien.gv.at \nFoto: Pixabay
URL:https://kalender.seniorinnen.wien/event/aelterwerden-in-wien-4/
LOCATION:Seminarraum der Abteilung Integration und Diversität (MA 17)\, Gasgasse 8-10\, Wien\, 1150
CATEGORIES:Begegnung,Information
ATTACH;FMTTYPE=image/jpeg:https://kalender.seniorinnen.wien/wp-content/uploads/2026/04/planet_fox-senior-6658552-scaled.jpg
END:VEVENT
END:VCALENDAR