BEGIN:VCALENDAR
VERSION:2.0
PRODID:-//Wien für Senior:innen - ECPv6.15.17.1//NONSGML v1.0//EN
CALSCALE:GREGORIAN
METHOD:PUBLISH
X-WR-CALNAME:Wien für Senior:innen
X-ORIGINAL-URL:https://kalender.seniorinnen.wien
X-WR-CALDESC:Veranstaltungen für Wien für Senior:innen
REFRESH-INTERVAL;VALUE=DURATION:PT1H
X-Robots-Tag:noindex
X-PUBLISHED-TTL:PT1H
BEGIN:VTIMEZONE
TZID:Europe/Berlin
BEGIN:DAYLIGHT
TZOFFSETFROM:+0100
TZOFFSETTO:+0200
TZNAME:CEST
DTSTART:20240331T010000
END:DAYLIGHT
BEGIN:STANDARD
TZOFFSETFROM:+0200
TZOFFSETTO:+0100
TZNAME:CET
DTSTART:20241027T010000
END:STANDARD
BEGIN:DAYLIGHT
TZOFFSETFROM:+0100
TZOFFSETTO:+0200
TZNAME:CEST
DTSTART:20250330T010000
END:DAYLIGHT
BEGIN:STANDARD
TZOFFSETFROM:+0200
TZOFFSETTO:+0100
TZNAME:CET
DTSTART:20251026T010000
END:STANDARD
BEGIN:DAYLIGHT
TZOFFSETFROM:+0100
TZOFFSETTO:+0200
TZNAME:CEST
DTSTART:20260329T010000
END:DAYLIGHT
BEGIN:STANDARD
TZOFFSETFROM:+0200
TZOFFSETTO:+0100
TZNAME:CET
DTSTART:20261025T010000
END:STANDARD
END:VTIMEZONE
BEGIN:VEVENT
DTSTART;TZID=Europe/Berlin:20251016T104500
DTEND;TZID=Europe/Berlin:20251016T124500
DTSTAMP:20260420T202226
CREATED:20250831T230025Z
LAST-MODIFIED:20250904T073310Z
UID:8463-1760611500-1760618700@kalender.seniorinnen.wien
SUMMARY:AUSGEBUCHT Schifffahrt in Wien
DESCRIPTION:Sie möchten Wien vom Wasser aus entdecken und die Kombination aus Geschichte\, Architektur und Natur entlang der Donau genießen? Dann kommen Sie an Bord der eleganten MS Vienna für eine entspannte Rundfahrt. Hier können Sie sich von der Schönheit der Donau verzaubern lassen und den urbanen Charme der Hauptstadt aus einer einzigartigen Perspektive erleben: So entführt Sie die Donau Panorama Tour auf eine Reise entlang Wiens beeindruckender Skyline. Während der Fahrt sehen Sie markante Wahrzeichen wie den Millennium Tower\, Donauturm\, DC Tower\, die Friedenspagode sowie weiters die Donauinsel\, Nussdorf\, das Kahlenbergerdorf und die Kuchelau. \nBoarding 10 Minuten vor Abfahrt! \n  \nMax. 50 Teilnehmer:innen.  \nAnmeldung bis 26.9. \nE-Mail: melanie.maurer@ddsg-blue-danube.at \nWebsite: www.ddsg-blue-danube.at \nFoto: DDSG Blue Danube_RenevanBakel
URL:https://kalender.seniorinnen.wien/event/schifffahrt-in-wien/
LOCATION:Schifffahrtszentrum unterhalb der Reichsbrücke (Anlegestelle 6)\, Handelskai 265\, 1020 Wien\, Handelskai 265\, Wien\, Wien\, 1020\, Austria
CATEGORIES:Ausflüge,Begegnung,Monat der Senior:innen
ATTACH;FMTTYPE=image/jpeg:https://kalender.seniorinnen.wien/wp-content/uploads/2025/08/MS-Vienna-Luftaufnahme-Skyline_CDDSG-Blue-Danube_RenevanBakel-e1754917408409.jpg
END:VEVENT
END:VCALENDAR