BEGIN:VCALENDAR
VERSION:2.0
PRODID:-//Wien für Senior:innen - ECPv6.15.17.1//NONSGML v1.0//EN
CALSCALE:GREGORIAN
METHOD:PUBLISH
X-ORIGINAL-URL:https://kalender.seniorinnen.wien
X-WR-CALDESC:Veranstaltungen für Wien für Senior:innen
REFRESH-INTERVAL;VALUE=DURATION:PT1H
X-Robots-Tag:noindex
X-PUBLISHED-TTL:PT1H
BEGIN:VTIMEZONE
TZID:Europe/Berlin
BEGIN:DAYLIGHT
TZOFFSETFROM:+0100
TZOFFSETTO:+0200
TZNAME:CEST
DTSTART:20240331T010000
END:DAYLIGHT
BEGIN:STANDARD
TZOFFSETFROM:+0200
TZOFFSETTO:+0100
TZNAME:CET
DTSTART:20241027T010000
END:STANDARD
BEGIN:DAYLIGHT
TZOFFSETFROM:+0100
TZOFFSETTO:+0200
TZNAME:CEST
DTSTART:20250330T010000
END:DAYLIGHT
BEGIN:STANDARD
TZOFFSETFROM:+0200
TZOFFSETTO:+0100
TZNAME:CET
DTSTART:20251026T010000
END:STANDARD
BEGIN:DAYLIGHT
TZOFFSETFROM:+0100
TZOFFSETTO:+0200
TZNAME:CEST
DTSTART:20260329T010000
END:DAYLIGHT
BEGIN:STANDARD
TZOFFSETFROM:+0200
TZOFFSETTO:+0100
TZNAME:CET
DTSTART:20261025T010000
END:STANDARD
END:VTIMEZONE
BEGIN:VEVENT
DTSTART;TZID=Europe/Berlin:20251017T110000
DTEND;TZID=Europe/Berlin:20251017T123000
DTSTAMP:20260420T220212
CREATED:20250831T230057Z
LAST-MODIFIED:20250827T133744Z
UID:8662-1760698800-1760704200@kalender.seniorinnen.wien
SUMMARY:Senior:innen-Wohngemeinschaften – Tag der offenen Tür - 1110 Wien
DESCRIPTION:Gemeinsam statt einsam: Lernen Sie die Senior:innen-WGs des Samariterbund Wiens kennen! \nAnmeldung bis 10.10. \nTel.: 01 891 45 283\nE-Mail: gsd-info@samariterbund.net \nFoto: Samariterbund/Veranstalter
URL:https://kalender.seniorinnen.wien/event/seniorinnen-wohngemeinschaften-tag-der-offenen-tuer-1110-wien/
LOCATION:Samariterbund Senior:innen Wohngemeinschaft 1110 Wien\, Herbortgasse 35/1\, Wien\, Wien\, 1110\, Austria
CATEGORIES:Monat der Senior:innen
ATTACH;FMTTYPE=image/webp:https://kalender.seniorinnen.wien/wp-content/uploads/2025/08/20250812-Samariterbund-Senioren-WG-e1756301519122.webp
ORGANIZER;CN="Samariterbund Wien":MAILTO:gsd-info@samariterbund.net
END:VEVENT
END:VCALENDAR