BEGIN:VCALENDAR
VERSION:2.0
PRODID:-//Wien für Senior:innen - ECPv6.15.17.1//NONSGML v1.0//EN
CALSCALE:GREGORIAN
METHOD:PUBLISH
X-WR-CALNAME:Wien für Senior:innen
X-ORIGINAL-URL:https://kalender.seniorinnen.wien
X-WR-CALDESC:Veranstaltungen für Wien für Senior:innen
REFRESH-INTERVAL;VALUE=DURATION:PT1H
X-Robots-Tag:noindex
X-PUBLISHED-TTL:PT1H
BEGIN:VTIMEZONE
TZID:Europe/Berlin
BEGIN:DAYLIGHT
TZOFFSETFROM:+0100
TZOFFSETTO:+0200
TZNAME:CEST
DTSTART:20220327T010000
END:DAYLIGHT
BEGIN:STANDARD
TZOFFSETFROM:+0200
TZOFFSETTO:+0100
TZNAME:CET
DTSTART:20221030T010000
END:STANDARD
BEGIN:DAYLIGHT
TZOFFSETFROM:+0100
TZOFFSETTO:+0200
TZNAME:CEST
DTSTART:20230326T010000
END:DAYLIGHT
BEGIN:STANDARD
TZOFFSETFROM:+0200
TZOFFSETTO:+0100
TZNAME:CET
DTSTART:20231029T010000
END:STANDARD
BEGIN:DAYLIGHT
TZOFFSETFROM:+0100
TZOFFSETTO:+0200
TZNAME:CEST
DTSTART:20240331T010000
END:DAYLIGHT
BEGIN:STANDARD
TZOFFSETFROM:+0200
TZOFFSETTO:+0100
TZNAME:CET
DTSTART:20241027T010000
END:STANDARD
END:VTIMEZONE
BEGIN:VEVENT
DTSTART;TZID=Europe/Berlin:20231014T150000
DTEND;TZID=Europe/Berlin:20231014T180000
DTSTAMP:20260420T172728
CREATED:20230810T085837Z
LAST-MODIFIED:20230821T132108Z
UID:3639-1697295600-1697306400@kalender.seniorinnen.wien
SUMMARY:Monat der Senior:innen: Alles Walzer – Tanznachmittag im Herbst
DESCRIPTION:Die Caritas Wien lädt ein\, zu Live-Musik (www.cpnlive.at/cnmusic.at) das Tanzbein zu schwingen. Schunkeln Sie mit uns zu aktuellen Hits\, Oldies und Evergreens und genießen Sie in geselliger Runde die Musik. Menschen mit Vergesslichkeit oder Demenzdiagnose sind herzlich willkommen. Auch für Verpflegung ist gesorgt. \nDie Teilnehmer:innenzahl ist auf 30 Personen beschränkt. Bitte melden Sie sich von 1.9. bis 7.10.2023 an unter 0676/6618068 oder unter sabrina.forster@caritas-wien.at. \nSollten Sie nicht an der Veranstaltung teilnehmen können\, sagen Sie bitte ab. So haben Interessierte die Möglichkeit\, Ihren Platz einzunehmen. \nAuf vielen Veranstaltungen wird fotografiert und/oder gefilmt. Mit der Teilnahme an einer Veranstaltung stimmen Sie einer möglichen Veröffentlichung auf Websites\, Social Media-Kanälen\, Print- und Onlinemedien und dergleichen zu. \n(c) Caritas der Erzdiözese Wien
URL:https://kalender.seniorinnen.wien/event/alles-walzer-tanznachmittag-im-herbst/
LOCATION:Rötzergasse 15\, Saal im Erdgeschoß\, Rötzergasse 15\, Wien\, 1170
CATEGORIES:Monat der Senior:innen
ATTACH;FMTTYPE=image/jpeg:https://kalender.seniorinnen.wien/wp-content/uploads/2023/08/Alles-Walzer-scaled.jpg
END:VEVENT
END:VCALENDAR