BEGIN:VCALENDAR
VERSION:2.0
PRODID:-//Wien für Senior:innen - ECPv6.15.17.1//NONSGML v1.0//EN
CALSCALE:GREGORIAN
METHOD:PUBLISH
X-ORIGINAL-URL:https://kalender.seniorinnen.wien
X-WR-CALDESC:Veranstaltungen für Wien für Senior:innen
REFRESH-INTERVAL;VALUE=DURATION:PT1H
X-Robots-Tag:noindex
X-PUBLISHED-TTL:PT1H
BEGIN:VTIMEZONE
TZID:Europe/Berlin
BEGIN:DAYLIGHT
TZOFFSETFROM:+0100
TZOFFSETTO:+0200
TZNAME:CEST
DTSTART:20230326T010000
END:DAYLIGHT
BEGIN:STANDARD
TZOFFSETFROM:+0200
TZOFFSETTO:+0100
TZNAME:CET
DTSTART:20231029T010000
END:STANDARD
BEGIN:DAYLIGHT
TZOFFSETFROM:+0100
TZOFFSETTO:+0200
TZNAME:CEST
DTSTART:20240331T010000
END:DAYLIGHT
BEGIN:STANDARD
TZOFFSETFROM:+0200
TZOFFSETTO:+0100
TZNAME:CET
DTSTART:20241027T010000
END:STANDARD
BEGIN:DAYLIGHT
TZOFFSETFROM:+0100
TZOFFSETTO:+0200
TZNAME:CEST
DTSTART:20250330T010000
END:DAYLIGHT
BEGIN:STANDARD
TZOFFSETFROM:+0200
TZOFFSETTO:+0100
TZNAME:CET
DTSTART:20251026T010000
END:STANDARD
END:VTIMEZONE
BEGIN:VEVENT
DTSTART;TZID=Europe/Berlin:20241128T100000
DTEND;TZID=Europe/Berlin:20241128T120000
DTSTAMP:20260424T061339
CREATED:20241111T130120Z
LAST-MODIFIED:20241111T130120Z
UID:6942-1732788000-1732795200@kalender.seniorinnen.wien
SUMMARY:Vortrag: Verkehrsrecht - was sich in den letzten Jahren geändert hat
DESCRIPTION:Am 28. November findet um 10 Uhr in der PVÖ Leopoldstadt ein Vortrag zum Verkehrsrecht statt.\nInteressant vor allem für all jene\, deren Führerscheinprüfung schon länger zurück liegt. Der Vortragende widmet sich dabei vor allem den Veränderungen und Neuerungen der letzten Jahre\, wie \n\n\nStVO Novelle 33 und 34\nVormerksystem §30a FSG\nUpdate EU – Führerscheinrichtlinie\n\nVortragender:\nDaniel Lindinger\, Chefinstruktur\, ARBÖ Fahrsicherheit \nVeranstaltungsort:\nPVÖ-Leopoldstadt\, 1020 Wien\, Ybbsstraße 15-21 \nTeilnahmegebühr:\nKostenlos für PVÖ-Mitglieder\nEUR 29\,00 für Nichtmitglieder \n\nAnmeldung:\nBitte um Anmeldung unter: https://newsletter.pvoe.at/h/WdfmF
URL:https://kalender.seniorinnen.wien/event/vortrag-verkehrsrecht-was-sich-in-den-letzten-jahren-geaendert-hat/
LOCATION:PVÖ-Leopoldstadt\, Ybbsstraße 15-21\, Wien\, Wien\, 1020
CATEGORIES:Bildung,Sicherheit
ATTACH;FMTTYPE=image/jpeg:https://kalender.seniorinnen.wien/wp-content/uploads/2024/11/vintage-1950s-887272_1280.jpg
END:VEVENT
END:VCALENDAR