BEGIN:VCALENDAR
VERSION:2.0
PRODID:-//Wien für Senior:innen - ECPv6.15.17.1//NONSGML v1.0//EN
CALSCALE:GREGORIAN
METHOD:PUBLISH
X-ORIGINAL-URL:https://kalender.seniorinnen.wien
X-WR-CALDESC:Veranstaltungen für Wien für Senior:innen
REFRESH-INTERVAL;VALUE=DURATION:PT1H
X-Robots-Tag:noindex
X-PUBLISHED-TTL:PT1H
BEGIN:VTIMEZONE
TZID:Europe/Berlin
BEGIN:DAYLIGHT
TZOFFSETFROM:+0100
TZOFFSETTO:+0200
TZNAME:CEST
DTSTART:20240331T010000
END:DAYLIGHT
BEGIN:STANDARD
TZOFFSETFROM:+0200
TZOFFSETTO:+0100
TZNAME:CET
DTSTART:20241027T010000
END:STANDARD
BEGIN:DAYLIGHT
TZOFFSETFROM:+0100
TZOFFSETTO:+0200
TZNAME:CEST
DTSTART:20250330T010000
END:DAYLIGHT
BEGIN:STANDARD
TZOFFSETFROM:+0200
TZOFFSETTO:+0100
TZNAME:CET
DTSTART:20251026T010000
END:STANDARD
BEGIN:DAYLIGHT
TZOFFSETFROM:+0100
TZOFFSETTO:+0200
TZNAME:CEST
DTSTART:20260329T010000
END:DAYLIGHT
BEGIN:STANDARD
TZOFFSETFROM:+0200
TZOFFSETTO:+0100
TZNAME:CET
DTSTART:20261025T010000
END:STANDARD
END:VTIMEZONE
BEGIN:VEVENT
DTSTART;TZID=Europe/Berlin:20251104T100000
DTEND;TZID=Europe/Berlin:20251104T113000
DTSTAMP:20260420T235712
CREATED:20250930T113634Z
LAST-MODIFIED:20250930T113634Z
UID:10697-1762250400-1762255800@kalender.seniorinnen.wien
SUMMARY:Kontaktbesuchsdienst: Infotisch im 12. Bezirk
DESCRIPTION:Der Kontaktbesuchsdienst informiert beim Infotisch über die sozialen Dienstleistungen der Stadt: passende Ansprechpartner\, Telefonnummern und Adressen rund um Themen wie Freizeitaktivitäten\, Unterstützung für pflegende Angehörige\, Wohnen\, Vorsorge und das digitale Angebot der Stadt. \nInfotisch Sozialmarkt Caritas\nPfarre Maria Lourdes\, Haschkagasse 5\, 1120 Wien\nDi.\, 4.11.2025\, 10:00 – 11:30 \nDer Kontaktbesuchsdienst ist auch telefonisch und per E-Mail erreichbar: \nTelefon: 001 98121 DW 1730 oder 1740\n(Montag bis Freitag von 9:00 – 15:00 Uhr) \nE-Mail: kontaktbesuchsdienst@wiso.or.at \nFoto (c) Pixabay \n 
URL:https://kalender.seniorinnen.wien/event/kontaktbesuchsdienst-infotisch-im-12-bezirk/
LOCATION:Pfarre Maria Lourdes\, Haschkagasse 5\, Wien\, Wien\, 1120
CATEGORIES:Grätzel,Information
ATTACH;FMTTYPE=image/jpeg:https://kalender.seniorinnen.wien/wp-content/uploads/2024/08/mobile-4515151_1920-e1725025926670.jpg
END:VEVENT
BEGIN:VEVENT
DTSTART;VALUE=DATE:20251027
DTEND;VALUE=DATE:20251031
DTSTAMP:20260420T235712
CREATED:20251001T085529Z
LAST-MODIFIED:20251001T085529Z
UID:10748-1761523200-1761868799@kalender.seniorinnen.wien
SUMMARY:Pilgerfahrt nach Maria Lourdes
DESCRIPTION:Pilgerfahrt nach Maria Lourdes\n4-tägige Pilgerreise der Pfarre Maria Lourdes\n27. bis 30. Oktober 2025 \nAnmeldungen bitte an:\nPfarre Maria Lourdes\nTivoligasse 20\, 1120 Wien\nE-Mail: office@maria-lourdes.at\nTel.: 01/813 22 68 \nFoto: W. Bulach\, wikimedia commons
URL:https://kalender.seniorinnen.wien/event/pilgerfahrt-nach-maria-lourdes/
LOCATION:Pfarre Maria Lourdes\, Haschkagasse 5\, Wien\, Wien\, 1120
CATEGORIES:Begegnung,Unterhaltung
ATTACH;FMTTYPE=image/jpeg:https://kalender.seniorinnen.wien/wp-content/uploads/2025/10/Maria-Lourdes-e1759308905151.jpg
END:VEVENT
END:VCALENDAR