BEGIN:VCALENDAR
VERSION:2.0
PRODID:-//Wien für Senior:innen - ECPv6.15.17.1//NONSGML v1.0//EN
CALSCALE:GREGORIAN
METHOD:PUBLISH
X-WR-CALNAME:Wien für Senior:innen
X-ORIGINAL-URL:https://kalender.seniorinnen.wien
X-WR-CALDESC:Veranstaltungen für Wien für Senior:innen
REFRESH-INTERVAL;VALUE=DURATION:PT1H
X-Robots-Tag:noindex
X-PUBLISHED-TTL:PT1H
BEGIN:VTIMEZONE
TZID:Europe/Berlin
BEGIN:DAYLIGHT
TZOFFSETFROM:+0100
TZOFFSETTO:+0200
TZNAME:CEST
DTSTART:20240331T010000
END:DAYLIGHT
BEGIN:STANDARD
TZOFFSETFROM:+0200
TZOFFSETTO:+0100
TZNAME:CET
DTSTART:20241027T010000
END:STANDARD
BEGIN:DAYLIGHT
TZOFFSETFROM:+0100
TZOFFSETTO:+0200
TZNAME:CEST
DTSTART:20250330T010000
END:DAYLIGHT
BEGIN:STANDARD
TZOFFSETFROM:+0200
TZOFFSETTO:+0100
TZNAME:CET
DTSTART:20251026T010000
END:STANDARD
BEGIN:DAYLIGHT
TZOFFSETFROM:+0100
TZOFFSETTO:+0200
TZNAME:CEST
DTSTART:20260329T010000
END:DAYLIGHT
BEGIN:STANDARD
TZOFFSETFROM:+0200
TZOFFSETTO:+0100
TZNAME:CET
DTSTART:20261025T010000
END:STANDARD
BEGIN:DAYLIGHT
TZOFFSETFROM:+0100
TZOFFSETTO:+0200
TZNAME:CEST
DTSTART:20270328T010000
END:DAYLIGHT
BEGIN:STANDARD
TZOFFSETFROM:+0200
TZOFFSETTO:+0100
TZNAME:CET
DTSTART:20271031T010000
END:STANDARD
END:VTIMEZONE
BEGIN:VEVENT
DTSTART;TZID=Europe/Berlin:20260112T140000
DTEND;TZID=Europe/Berlin:20260112T160000
DTSTAMP:20260420T220205
CREATED:20260109T085808Z
LAST-MODIFIED:20260109T085808Z
UID:11417-1768226400-1768233600@kalender.seniorinnen.wien
SUMMARY:Kontaktbesuchsdienst: Infotisch Sozialmarkt Caritas
DESCRIPTION:Mo.\, 12.01.2026\, 14 bis 16 Uhr\n \nPfarre Gumpendorf\nBrückengasse 7\n1060 Wien \nFoto: Wiener Sozialdienste
URL:https://kalender.seniorinnen.wien/event/kontaktbesuchsdienst-infotisch-sozialmarkt-caritas/
LOCATION:Pfarre Gumpendorf\, Brückengasse 7\, Wien\, 1060
CATEGORIES:Information
ATTACH;FMTTYPE=image/jpeg:https://kalender.seniorinnen.wien/wp-content/uploads/2019/08/WISO_Kontaktbesuchsdienst.jpg
END:VEVENT
BEGIN:VEVENT
DTSTART;TZID=Europe/Berlin:20251110T140000
DTEND;TZID=Europe/Berlin:20251110T160000
DTSTAMP:20260420T220205
CREATED:20250930T112949Z
LAST-MODIFIED:20250930T120111Z
UID:10690-1762783200-1762790400@kalender.seniorinnen.wien
SUMMARY:Kontaktbesuchsdienst: Infotisch im 6. Bezirk
DESCRIPTION:Der Kontaktbesuchsdienst informiert beim Infotisch über die sozialen Dienstleistungen der Stadt: passende Ansprechpartner\, Telefonnummern und Adressen rund um Themen wie Freizeitaktivitäten\, Unterstützung für pflegende Angehörige\, Wohnen\, Vorsorge und das digitale Angebot der Stadt. \nInfotisch Sozialmarkt Caritas\nPfarre Gumpendorf\, Brückengasse 7\, 1060 Wien \nMo.\, 10.11.2025\, 14.00 – 16.00 \nDer Kontaktbesuchsdienst ist auch telefonisch und per E-Mail erreichbar: \nTelefon: 001 98121 DW 1730 oder 1740\n(Montag bis Freitag von 9:00 – 15:00 Uhr) \nE-Mail: kontaktbesuchsdienst@wiso.or.at \nFoto (c) Pixabay
URL:https://kalender.seniorinnen.wien/event/kontaktbesuchsdienst-infotische-im-6-bezirk/
LOCATION:Pfarre Gumpendorf\, Brückengasse 7\, Wien\, 1060
CATEGORIES:Grätzel,Information
ATTACH;FMTTYPE=image/jpeg:https://kalender.seniorinnen.wien/wp-content/uploads/2024/08/mobile-4515151_1920-e1725025926670.jpg
END:VEVENT
END:VCALENDAR