BEGIN:VCALENDAR
VERSION:2.0
PRODID:-//Wien für Senior:innen - ECPv6.15.17.1//NONSGML v1.0//EN
CALSCALE:GREGORIAN
METHOD:PUBLISH
X-ORIGINAL-URL:https://kalender.seniorinnen.wien
X-WR-CALDESC:Veranstaltungen für Wien für Senior:innen
REFRESH-INTERVAL;VALUE=DURATION:PT1H
X-Robots-Tag:noindex
X-PUBLISHED-TTL:PT1H
BEGIN:VTIMEZONE
TZID:Europe/Berlin
BEGIN:DAYLIGHT
TZOFFSETFROM:+0100
TZOFFSETTO:+0200
TZNAME:CEST
DTSTART:20230326T010000
END:DAYLIGHT
BEGIN:STANDARD
TZOFFSETFROM:+0200
TZOFFSETTO:+0100
TZNAME:CET
DTSTART:20231029T010000
END:STANDARD
BEGIN:DAYLIGHT
TZOFFSETFROM:+0100
TZOFFSETTO:+0200
TZNAME:CEST
DTSTART:20240331T010000
END:DAYLIGHT
BEGIN:STANDARD
TZOFFSETFROM:+0200
TZOFFSETTO:+0100
TZNAME:CET
DTSTART:20241027T010000
END:STANDARD
BEGIN:DAYLIGHT
TZOFFSETFROM:+0100
TZOFFSETTO:+0200
TZNAME:CEST
DTSTART:20250330T010000
END:DAYLIGHT
BEGIN:STANDARD
TZOFFSETFROM:+0200
TZOFFSETTO:+0100
TZNAME:CET
DTSTART:20251026T010000
END:STANDARD
END:VTIMEZONE
BEGIN:VEVENT
DTSTART;TZID=Europe/Berlin:20241024T090000
DTEND;TZID=Europe/Berlin:20241024T120000
DTSTAMP:20260420T133734
CREATED:20240822T145955Z
LAST-MODIFIED:20240822T145955Z
UID:6235-1729760400-1729771200@kalender.seniorinnen.wien
SUMMARY:Herzblatt gesucht
DESCRIPTION:Auf der Suche nach Ihrem Herzblatt? Wir laden herzlich zu einem exklusiven Speeddating für Singles ab 60 ein! \nVerbringen Sie einen bezaubernden Vormittag in angenehmer Gesellschaft\, lernen Sie interessante Menschen kennen und genießen Sie ein prickelndes Sektfrühstück. \n  \nAnmeldung: 2.9. bis 23.10.2024\, max. Teilnehmer:innen: 40 \nTel.: 01 31 39 92 88 101 \nE-Mail:  pk.gersthoferstrasse@kwp.at \nWebsite: www.dieklubs.at \n  \nFoto: Wien für Senior:innen via Centre for Ageing Better
URL:https://kalender.seniorinnen.wien/event/herzblatt-gesucht/
LOCATION:Pensionist*innenklub Gersthoferstraße\, Gersthoferstraße 77\, Wien\, 1180
CATEGORIES:Begegnung,Monat der Senior:innen
ATTACH;FMTTYPE=image/jpeg:https://kalender.seniorinnen.wien/wp-content/uploads/2024/08/Wien-fuer-SeniorInnen-via-Centre-for-Ageing-Better-scaled-e1724338705684.jpg
END:VEVENT
END:VCALENDAR