BEGIN:VCALENDAR
VERSION:2.0
PRODID:-//Wien für Senior:innen - ECPv6.15.17.1//NONSGML v1.0//EN
CALSCALE:GREGORIAN
METHOD:PUBLISH
X-WR-CALNAME:Wien für Senior:innen
X-ORIGINAL-URL:https://kalender.seniorinnen.wien
X-WR-CALDESC:Veranstaltungen für Wien für Senior:innen
REFRESH-INTERVAL;VALUE=DURATION:PT1H
X-Robots-Tag:noindex
X-PUBLISHED-TTL:PT1H
BEGIN:VTIMEZONE
TZID:Europe/Berlin
BEGIN:DAYLIGHT
TZOFFSETFROM:+0100
TZOFFSETTO:+0200
TZNAME:CEST
DTSTART:20230326T010000
END:DAYLIGHT
BEGIN:STANDARD
TZOFFSETFROM:+0200
TZOFFSETTO:+0100
TZNAME:CET
DTSTART:20231029T010000
END:STANDARD
BEGIN:DAYLIGHT
TZOFFSETFROM:+0100
TZOFFSETTO:+0200
TZNAME:CEST
DTSTART:20240331T010000
END:DAYLIGHT
BEGIN:STANDARD
TZOFFSETFROM:+0200
TZOFFSETTO:+0100
TZNAME:CET
DTSTART:20241027T010000
END:STANDARD
BEGIN:DAYLIGHT
TZOFFSETFROM:+0100
TZOFFSETTO:+0200
TZNAME:CEST
DTSTART:20250330T010000
END:DAYLIGHT
BEGIN:STANDARD
TZOFFSETFROM:+0200
TZOFFSETTO:+0100
TZNAME:CET
DTSTART:20251026T010000
END:STANDARD
END:VTIMEZONE
BEGIN:VEVENT
DTSTART;TZID=Europe/Berlin:20241015T140000
DTEND;TZID=Europe/Berlin:20241015T170000
DTSTAMP:20260420T114847
CREATED:20240822T085717Z
LAST-MODIFIED:20240822T085717Z
UID:6069-1729000800-1729011600@kalender.seniorinnen.wien
SUMMARY:Oktoberfest in Neubau
DESCRIPTION:Es ist wieder soweit: Wir laden Sie herzlich ein\, gemeinsam mit uns das traditionelle Oktoberfest zu feiern! \nFreuen Sie sich auf einen fröhlichen Tag mit bayrischer Musik\, leckerem Essen und natürlich gutem Bier. \n  \nAnmeldung: 2.9. bis 30.9.2024 \nTel.: 01 31 39 92 77 131 \nE-Mail:  pk.ahornergasse@kwp.at \nWebsite: www.dieklubs.at \n  \nFoto: Häuser zum Leben – Bereich Pensionist*innenklubs
URL:https://kalender.seniorinnen.wien/event/oktoberfest-in-neubau/
LOCATION:Pensionist*innenklub Ahornergasse\, Ahornergasse 11\, Wien\, Wien\, 1070\, Österreich
CATEGORIES:Begegnung,Monat der Senior:innen,Unterhaltung
ATTACH;FMTTYPE=image/jpeg:https://kalender.seniorinnen.wien/wp-content/uploads/2024/08/Oktoberfest_Neubau_Foto-scaled-e1724223324105.jpg
END:VEVENT
END:VCALENDAR