BEGIN:VCALENDAR
VERSION:2.0
PRODID:-//Wien für Senior:innen - ECPv6.15.17.1//NONSGML v1.0//EN
CALSCALE:GREGORIAN
METHOD:PUBLISH
X-ORIGINAL-URL:https://kalender.seniorinnen.wien
X-WR-CALDESC:Veranstaltungen für Wien für Senior:innen
REFRESH-INTERVAL;VALUE=DURATION:PT1H
X-Robots-Tag:noindex
X-PUBLISHED-TTL:PT1H
BEGIN:VTIMEZONE
TZID:Europe/Berlin
BEGIN:DAYLIGHT
TZOFFSETFROM:+0100
TZOFFSETTO:+0200
TZNAME:CEST
DTSTART:20230326T010000
END:DAYLIGHT
BEGIN:STANDARD
TZOFFSETFROM:+0200
TZOFFSETTO:+0100
TZNAME:CET
DTSTART:20231029T010000
END:STANDARD
BEGIN:DAYLIGHT
TZOFFSETFROM:+0100
TZOFFSETTO:+0200
TZNAME:CEST
DTSTART:20240331T010000
END:DAYLIGHT
BEGIN:STANDARD
TZOFFSETFROM:+0200
TZOFFSETTO:+0100
TZNAME:CET
DTSTART:20241027T010000
END:STANDARD
BEGIN:DAYLIGHT
TZOFFSETFROM:+0100
TZOFFSETTO:+0200
TZNAME:CEST
DTSTART:20250330T010000
END:DAYLIGHT
BEGIN:STANDARD
TZOFFSETFROM:+0200
TZOFFSETTO:+0100
TZNAME:CET
DTSTART:20251026T010000
END:STANDARD
END:VTIMEZONE
BEGIN:VEVENT
DTSTART;TZID=Europe/Berlin:20241018T140000
DTEND;TZID=Europe/Berlin:20241018T170000
DTSTAMP:20260420T164507
CREATED:20240822T084732Z
LAST-MODIFIED:20240822T084732Z
UID:6111-1729260000-1729270800@kalender.seniorinnen.wien
SUMMARY:Baklava trifft Apfelstrudel
DESCRIPTION:Verbringen Sie einen gemeinsamen Nachmittag mit türkischen und österreichischen Besucher:innen. Bei regem Austausch gibt es Baklava und Apfelstrudel. \nDer Musiker Mansur Bildik sorgt für Unterhaltung. In Kooperation mit der MA 17 für Integration und Diversität der Stadt Wien. \n  \nAnmeldung: 2.9. bis 15.10.2024 \nTel.: 01 313 99 290 111 \nE-Mail: pk.karlmeisslstrasse@kwp.at \nWebsite: www.dieklubs.at
URL:https://kalender.seniorinnen.wien/event/baklava-trifft-apfelstrudel/
LOCATION:Pensionist*innenklub 20\, Karl-Meißl-Straße 11\, Wien\, Wien\, 1200\, Österreich
CATEGORIES:Begegnung,Monat der Senior:innen
ATTACH;FMTTYPE=image/jpeg:https://kalender.seniorinnen.wien/wp-content/uploads/2024/08/tea-2522955_1280-e1724316439729.jpg
END:VEVENT
END:VCALENDAR