BEGIN:VCALENDAR
VERSION:2.0
PRODID:-//Wien für Senior:innen - ECPv6.15.17.1//NONSGML v1.0//EN
CALSCALE:GREGORIAN
METHOD:PUBLISH
X-ORIGINAL-URL:https://kalender.seniorinnen.wien
X-WR-CALDESC:Veranstaltungen für Wien für Senior:innen
REFRESH-INTERVAL;VALUE=DURATION:PT1H
X-Robots-Tag:noindex
X-PUBLISHED-TTL:PT1H
BEGIN:VTIMEZONE
TZID:Europe/Berlin
BEGIN:DAYLIGHT
TZOFFSETFROM:+0100
TZOFFSETTO:+0200
TZNAME:CEST
DTSTART:20240331T010000
END:DAYLIGHT
BEGIN:STANDARD
TZOFFSETFROM:+0200
TZOFFSETTO:+0100
TZNAME:CET
DTSTART:20241027T010000
END:STANDARD
BEGIN:DAYLIGHT
TZOFFSETFROM:+0100
TZOFFSETTO:+0200
TZNAME:CEST
DTSTART:20250330T010000
END:DAYLIGHT
BEGIN:STANDARD
TZOFFSETFROM:+0200
TZOFFSETTO:+0100
TZNAME:CET
DTSTART:20251026T010000
END:STANDARD
BEGIN:DAYLIGHT
TZOFFSETFROM:+0100
TZOFFSETTO:+0200
TZNAME:CEST
DTSTART:20260329T010000
END:DAYLIGHT
BEGIN:STANDARD
TZOFFSETFROM:+0200
TZOFFSETTO:+0100
TZNAME:CET
DTSTART:20261025T010000
END:STANDARD
END:VTIMEZONE
BEGIN:VEVENT
DTSTART;TZID=Europe/Berlin:20251020T150000
DTEND;TZID=Europe/Berlin:20251020T170000
DTSTAMP:20260420T202226
CREATED:20250831T230029Z
LAST-MODIFIED:20250829T113103Z
UID:9722-1760972400-1760979600@kalender.seniorinnen.wien
SUMMARY:Ernährung und Bewegung - Gesundheitsinfos in arabischer Sprache
DESCRIPTION:Gesundheitsinfos in arabischer Sprache: Ernährung und Bewegung \nAnmeldung unter:\nE-Mail: gesundheitslots_innen@volkshilfe-wien.at \n  \nFoto: Freepik
URL:https://kalender.seniorinnen.wien/event/ernaehrung-und-bewegung-gesundheitsinfos-in-arabischer-sprache/
LOCATION:Pensionistenklub 1170 Wien\, Dr. Josef Resch Platz 6\, Wien\, Wien\, 1170\, Austria
CATEGORIES:Fit und Gesund,Monat der Senior:innen
ATTACH;FMTTYPE=image/jpeg:https://kalender.seniorinnen.wien/wp-content/uploads/2025/09/top-view-green-red-food-scaled-e1756466769182.jpg
END:VEVENT
BEGIN:VEVENT
DTSTART;TZID=Europe/Berlin:20251006T150000
DTEND;TZID=Europe/Berlin:20251006T170000
DTSTAMP:20260420T202226
CREATED:20250831T230052Z
LAST-MODIFIED:20250829T113109Z
UID:9716-1759762800-1759770000@kalender.seniorinnen.wien
SUMMARY:Ernährung und Diabetes - Gesundheitsinfos in arabischer Sprache
DESCRIPTION:Gesundheitsinfos in arabischer Sprache: Ernährung und Diabetes \nAnmeldung unter:\nE-Mail: gesundheitslots_innen@volkshilfe-wien.at \n  \nFoto: Freepik
URL:https://kalender.seniorinnen.wien/event/ernaehrung-und-diabetes-gesundheitsinfos-in-arabischer-sprache/
LOCATION:Pensionistenklub 1170 Wien\, Dr. Josef Resch Platz 6\, Wien\, Wien\, 1170\, Austria
CATEGORIES:Fit und Gesund,Monat der Senior:innen
ATTACH;FMTTYPE=image/jpeg:https://kalender.seniorinnen.wien/wp-content/uploads/2025/09/top-view-green-red-food-scaled-e1756466769182.jpg
END:VEVENT
END:VCALENDAR