BEGIN:VCALENDAR
VERSION:2.0
PRODID:-//Wien für Senior:innen - ECPv6.15.17.1//NONSGML v1.0//EN
CALSCALE:GREGORIAN
METHOD:PUBLISH
X-WR-CALNAME:Wien für Senior:innen
X-ORIGINAL-URL:https://kalender.seniorinnen.wien
X-WR-CALDESC:Veranstaltungen für Wien für Senior:innen
REFRESH-INTERVAL;VALUE=DURATION:PT1H
X-Robots-Tag:noindex
X-PUBLISHED-TTL:PT1H
BEGIN:VTIMEZONE
TZID:Europe/Berlin
BEGIN:DAYLIGHT
TZOFFSETFROM:+0100
TZOFFSETTO:+0200
TZNAME:CEST
DTSTART:20240331T010000
END:DAYLIGHT
BEGIN:STANDARD
TZOFFSETFROM:+0200
TZOFFSETTO:+0100
TZNAME:CET
DTSTART:20241027T010000
END:STANDARD
BEGIN:DAYLIGHT
TZOFFSETFROM:+0100
TZOFFSETTO:+0200
TZNAME:CEST
DTSTART:20250330T010000
END:DAYLIGHT
BEGIN:STANDARD
TZOFFSETFROM:+0200
TZOFFSETTO:+0100
TZNAME:CET
DTSTART:20251026T010000
END:STANDARD
BEGIN:DAYLIGHT
TZOFFSETFROM:+0100
TZOFFSETTO:+0200
TZNAME:CEST
DTSTART:20260329T010000
END:DAYLIGHT
BEGIN:STANDARD
TZOFFSETFROM:+0200
TZOFFSETTO:+0100
TZNAME:CET
DTSTART:20261025T010000
END:STANDARD
END:VTIMEZONE
BEGIN:VEVENT
DTSTART;TZID=Europe/Berlin:20251125T190000
DTEND;TZID=Europe/Berlin:20251125T190000
DTSTAMP:20260421T031600
CREATED:20251110T081855Z
LAST-MODIFIED:20251110T081855Z
UID:11157-1764097200-1764097200@kalender.seniorinnen.wien
SUMMARY:Imperial Gala Concert im Palais Auersperg in Wien
DESCRIPTION:Gruppenangebot-Seniorenreisen für Imperial Gala Concert im Palais Auersperg in Wien \nAb dem 25. November 2025 präsentieren wir das Imperial Gala Concert im Palais Auersperg (Zu Beginn 4x wöchentlich – ab April täglich und ganzjährig) – ein exklusives Erlebnis im Herzen Wiens. \nImperial Gala Concert im Palais Auersperg \nDie Solisten des Wiener Mozart Orchesters\, weltbekannte Sopran-Sängerinnen und das Wiener Royal Ballett interpretieren die bekanntesten Meisterwerke von Mozart\, Strauss\, Vivaldi und vielen mehr mit höchster Exzellenz – von festlichen Konzertwalzern bis zu virtuoser Ballettmusik. Eine Zeitreise zurück in die Kaiserzeit\, in die goldene Ära der Wiener Musiktradition\, als der Walzer die Ball- und Tanzkultur Wiens prägte. So entsteht ein Abend\, der kaiserliche Eleganz\, Kulinarik und musikalische Perfektion vereint. \nExklusives Gruppenangebot \nFür Gruppen ab 10 Personen bieten wir ein Sonderangebot von 35€ pro Person inklusive eines Glases Sekt.\nOptional kann der Abend mit einem 4-Gänge-Dinner vor dem Konzert ergänzt werden (Aufpreis: 50 € pro Person). \n  \nSämtliche weitere Informationen entnehmen Sie bitte direkt auf unserer Homepage www.imperialgalaconcert.com \nFoto: www.imperialgalaconcert.com
URL:https://kalender.seniorinnen.wien/event/imperial-gala-concert-im-palais-auersperg-in-wien/
LOCATION:Palais Ausperg\, Auerspergstraße 1\, Wien\, Wien\, 1080\, Austria
CATEGORIES:Kunst und Kultur,Unterhaltung
ATTACH;FMTTYPE=image/webp:https://kalender.seniorinnen.wien/wp-content/uploads/2025/11/145-ImperiorGala_2025_9_0145.webp
ORGANIZER;CN="Palais Auersperg":MAILTO:office@palaisauersperg.events
END:VEVENT
END:VCALENDAR