BEGIN:VCALENDAR
VERSION:2.0
PRODID:-//Wien für Senior:innen - ECPv6.15.17.1//NONSGML v1.0//EN
CALSCALE:GREGORIAN
METHOD:PUBLISH
X-WR-CALNAME:Wien für Senior:innen
X-ORIGINAL-URL:https://kalender.seniorinnen.wien
X-WR-CALDESC:Veranstaltungen für Wien für Senior:innen
REFRESH-INTERVAL;VALUE=DURATION:PT1H
X-Robots-Tag:noindex
X-PUBLISHED-TTL:PT1H
BEGIN:VTIMEZONE
TZID:Europe/Berlin
BEGIN:DAYLIGHT
TZOFFSETFROM:+0100
TZOFFSETTO:+0200
TZNAME:CEST
DTSTART:20230326T010000
END:DAYLIGHT
BEGIN:STANDARD
TZOFFSETFROM:+0200
TZOFFSETTO:+0100
TZNAME:CET
DTSTART:20231029T010000
END:STANDARD
BEGIN:DAYLIGHT
TZOFFSETFROM:+0100
TZOFFSETTO:+0200
TZNAME:CEST
DTSTART:20240331T010000
END:DAYLIGHT
BEGIN:STANDARD
TZOFFSETFROM:+0200
TZOFFSETTO:+0100
TZNAME:CET
DTSTART:20241027T010000
END:STANDARD
BEGIN:DAYLIGHT
TZOFFSETFROM:+0100
TZOFFSETTO:+0200
TZNAME:CEST
DTSTART:20250330T010000
END:DAYLIGHT
BEGIN:STANDARD
TZOFFSETFROM:+0200
TZOFFSETTO:+0100
TZNAME:CET
DTSTART:20251026T010000
END:STANDARD
END:VTIMEZONE
BEGIN:VEVENT
DTSTART;TZID=Europe/Berlin:20241017T100000
DTEND;TZID=Europe/Berlin:20241017T110000
DTSTAMP:20260421T085059
CREATED:20240917T154349Z
LAST-MODIFIED:20240917T155123Z
UID:6738-1729159200-1729162800@kalender.seniorinnen.wien
SUMMARY:Zusatzführung: Original Wiener Schneekugelmuseum
DESCRIPTION:Lassen Sie sich verzaubern: Im über 250 Jahre alten Betriebsgebäude zeigen wir Historisches und Aktuelles rund um die Herstellung der Wiener Schneekugel. Tauchen Sie ein in die kleinen Winterwelten und erfahren Sie mehr über die Motive und Sonderanfertigungen. \nAufgrund der hohen Nachfrage bietet das Wiener Hilfswerk Nachbarschaftszentrum 22 am Donnerstag\, 17.10. um 10 Uhr einen Zusatztermin für einen Ausflug ins Schneekugelmuseum inkl. Führung an (Treffpunkt im Museum). \nAnmeldung im Nachbarschaftszentrum 22\, Rennbahnweg 27 / 3 / R1 (Eingang Austerlitzgasse)\, 1220 Wien: \n\nTel.: 01 512 36 61 36 50\nE-Mail: nbz22@wiener.hilfswerk.at\nmax. Teilnehmer:innen: 10
URL:https://kalender.seniorinnen.wien/event/zusatzfuehrung-original-wiener-schneekugelmuseum/
LOCATION:Original Wiener Schneekugelmanufaktur\, Schumanngasse 87\, Wien\, Wien\, 1170\, Österreich
CATEGORIES:Ausflüge,Kunst und Kultur,Monat der Senior:innen
ATTACH;FMTTYPE=image/jpeg:https://kalender.seniorinnen.wien/wp-content/uploads/2024/08/snow-globe-260745_1280-e1724316981487.jpg
ORGANIZER;CN="Nachbarschaftszentrum 22":MAILTO:nbz22@wiener.hilfswerk.at
END:VEVENT
BEGIN:VEVENT
DTSTART;TZID=Europe/Berlin:20241016T100000
DTEND;TZID=Europe/Berlin:20241016T110000
DTSTAMP:20260421T085059
CREATED:20240822T085627Z
LAST-MODIFIED:20240917T154535Z
UID:6083-1729072800-1729076400@kalender.seniorinnen.wien
SUMMARY:AUSGEBUCHT: Führung: Original Wiener Schneekugelmuseum
DESCRIPTION:Bitte beachten Sie: Alle Plätze für die Veranstaltung sind bereits vergeben. Wir danken Ihnen für Ihr Verständnis. \nDas Wiener Hilfswerk Nachbarschaftszentrum 22 bietet am Donnerstag\, 17.10. um 10 Uhr einen Zusatztermin für einen Ausflug ins Schneekugelmuseum inkl. Führung an (Treffpunkt im Museum): https://kalender.seniorinnen.wien/event/zusatzfuehrung-original-wiener-schneekugelmuseum/ \nAnmeldung für den 17.10. im Nachbarschaftszentrum 22\, Rennbahnweg 27 / 3 / R1 (Eingang Austerlitzgasse)\, 1220 Wien: \n\nTel.: 01 512 36 61 36 50\nE-Mail: nbz22@wiener.hilfswerk.at\nmax. Teilnehmer:innen: 10\n\n  \nLassen Sie sich verzaubern: Im über 250 Jahre alten Betriebsgebäude zeigen wir Historisches und Aktuelles rund um die Herstellung der Wiener Schneekugel. Tauchen Sie ein in die kleinen Winterwelten und erfahren Sie mehr über die Motive und Sonderanfertigungen.
URL:https://kalender.seniorinnen.wien/event/fuehrung-original-wiener-schneekugelmuseum/
LOCATION:Original Wiener Schneekugelmanufaktur\, Schumanngasse 87\, Wien\, Wien\, 1170\, Österreich
CATEGORIES:Kunst und Kultur,Monat der Senior:innen
ATTACH;FMTTYPE=image/jpeg:https://kalender.seniorinnen.wien/wp-content/uploads/2024/08/snow-globe-260745_1280-e1724316981487.jpg
END:VEVENT
END:VCALENDAR