BEGIN:VCALENDAR
VERSION:2.0
PRODID:-//Wien für Senior:innen - ECPv6.15.17.1//NONSGML v1.0//EN
CALSCALE:GREGORIAN
METHOD:PUBLISH
X-WR-CALNAME:Wien für Senior:innen
X-ORIGINAL-URL:https://kalender.seniorinnen.wien
X-WR-CALDESC:Veranstaltungen für Wien für Senior:innen
REFRESH-INTERVAL;VALUE=DURATION:PT1H
X-Robots-Tag:noindex
X-PUBLISHED-TTL:PT1H
BEGIN:VTIMEZONE
TZID:Europe/Berlin
BEGIN:DAYLIGHT
TZOFFSETFROM:+0100
TZOFFSETTO:+0200
TZNAME:CEST
DTSTART:20240331T010000
END:DAYLIGHT
BEGIN:STANDARD
TZOFFSETFROM:+0200
TZOFFSETTO:+0100
TZNAME:CET
DTSTART:20241027T010000
END:STANDARD
BEGIN:DAYLIGHT
TZOFFSETFROM:+0100
TZOFFSETTO:+0200
TZNAME:CEST
DTSTART:20250330T010000
END:DAYLIGHT
BEGIN:STANDARD
TZOFFSETFROM:+0200
TZOFFSETTO:+0100
TZNAME:CET
DTSTART:20251026T010000
END:STANDARD
BEGIN:DAYLIGHT
TZOFFSETFROM:+0100
TZOFFSETTO:+0200
TZNAME:CEST
DTSTART:20260329T010000
END:DAYLIGHT
BEGIN:STANDARD
TZOFFSETFROM:+0200
TZOFFSETTO:+0100
TZNAME:CET
DTSTART:20261025T010000
END:STANDARD
END:VTIMEZONE
BEGIN:VEVENT
DTSTART;TZID=Europe/Berlin:20251015T150000
DTEND;TZID=Europe/Berlin:20251015T160000
DTSTAMP:20260420T234500
CREATED:20250831T230040Z
LAST-MODIFIED:20250923T063015Z
UID:8589-1760540400-1760544000@kalender.seniorinnen.wien
SUMMARY:AUSGEBUCHT Führung: „Ein Jahrhundert in Bildern. Österreich 1925-2025“
DESCRIPTION:Sonderausstellung im Prunksaal der Österreichischen Nationalbibliothek\nHeuer jährt sich zum 80. Mal das Ende des Zweiten Weltkrieges mit der Befreiung Österreichs vom Nationalsozialismus\, zum 70. Mal der Staatsvertrag von 1955 und zum 30. Mal der Beitritt Österreichs zur Europäischen Union am 1. Jänner 1995. Diese drei Jubiläen sind Anlass\, anhand ausgewählter Bildikonen auf die bewegte Geschichte Österreichs zurückzublicken und daran zu erinnern\, wer wir sind\, woher wir kommen und wohin wir gehen. \nIm Rahmen der Führung erfahren Sie mehr über die „Jahrhundertschau“\, in der herausragende Werke österreichischer Fotograf:innen die Geschichte Österreichs von den Anfängen der Republik bis zur Gegenwart präsentieren. \n  \nMax. 50 Teilnehmer:innen \nAnmeldung bis 10.10. \nTel.: 01 534 10 520 \nMail: kulturvermittlung@onb.ac.at \n  \nFoto: ONB/Hloch
URL:https://kalender.seniorinnen.wien/event/fuehrung-ein-jahrhundert-in-bildern-oesterreich-1925-2025-oesterreichische-nationalbibliothek/
LOCATION:Österreichische Nationalbibliothek (im Kassabereich)\, Josefsplatz 1\, Wien\, Wien\, 1010\, Austria
CATEGORIES:Monat der Senior:innen
ATTACH;FMTTYPE=image/jpeg:https://kalender.seniorinnen.wien/wp-content/uploads/2025/08/Prunksaal--e1754930135128.jpg
ORGANIZER;CN="%C3%96sterreichische Nationalbibliothek":MAILTO:kulturvermittlung@onb.ac.at
END:VEVENT
END:VCALENDAR