BEGIN:VCALENDAR
VERSION:2.0
PRODID:-//Wien für Senior:innen - ECPv6.15.17.1//NONSGML v1.0//EN
CALSCALE:GREGORIAN
METHOD:PUBLISH
X-ORIGINAL-URL:https://kalender.seniorinnen.wien
X-WR-CALDESC:Veranstaltungen für Wien für Senior:innen
REFRESH-INTERVAL;VALUE=DURATION:PT1H
X-Robots-Tag:noindex
X-PUBLISHED-TTL:PT1H
BEGIN:VTIMEZONE
TZID:Europe/Berlin
BEGIN:DAYLIGHT
TZOFFSETFROM:+0100
TZOFFSETTO:+0200
TZNAME:CEST
DTSTART:20250330T010000
END:DAYLIGHT
BEGIN:STANDARD
TZOFFSETFROM:+0200
TZOFFSETTO:+0100
TZNAME:CET
DTSTART:20251026T010000
END:STANDARD
BEGIN:DAYLIGHT
TZOFFSETFROM:+0100
TZOFFSETTO:+0200
TZNAME:CEST
DTSTART:20260329T010000
END:DAYLIGHT
BEGIN:STANDARD
TZOFFSETFROM:+0200
TZOFFSETTO:+0100
TZNAME:CET
DTSTART:20261025T010000
END:STANDARD
BEGIN:DAYLIGHT
TZOFFSETFROM:+0100
TZOFFSETTO:+0200
TZNAME:CEST
DTSTART:20270328T010000
END:DAYLIGHT
BEGIN:STANDARD
TZOFFSETFROM:+0200
TZOFFSETTO:+0100
TZNAME:CET
DTSTART:20271031T010000
END:STANDARD
END:VTIMEZONE
BEGIN:VEVENT
DTSTART;TZID=Europe/Berlin:20260616T150000
DTEND;TZID=Europe/Berlin:20260616T170000
DTSTAMP:20260421T003710
CREATED:20260204T092626Z
LAST-MODIFIED:20260204T092626Z
UID:11733-1781622000-1781629200@kalender.seniorinnen.wien
SUMMARY:Freizeitbuddies: Kultur gemeinsam erleben
DESCRIPTION:Oberes Belvedere\nDas Projekt bietet gemeinsame Gruppenausflüge in den demenzsensiblen Räumen von Wiener Kultureinrichtungen an. Unter der Begleitung speziell geschulter Freiwilliger (den Freizeitbuddies) erhalten Menschen mit Demenz die Möglichkeit\, Kunst\, Geschichte und Musik in der Gruppe zu erleben. Das Angebot weckt Erinnerungen\, regt die Sinne an und fördert die Teilhabe an der Gesellschaft. Optional wird parallel zu den Führungen eine moderierte Angehörigengruppe angeboten – eine wertvolle Gelegenheit zum Austausch\, um Erfahrungen zu teilen und Entlastung zu finden. \nDauer: ca. 2 Stunden\nUm Anmeldung telefonisch oder via E-Mail wird gebeten. \nBei Teilnahme an der Führung bitten wir für Organisation\, Eintrittskosten und Verpflegung um einen Beitrag von 20€.\nBei Teilnahme an der Angehörigengruppe bitten wir um eine freie Spende. \nTelefon: +43 676 661 80 68 oder +43 664 621 72 30 \nE-Mail: demenz@caritas-wien.at \nhttps://www.caritas-pflege.at/demenz/freizeitbuddies-bei-demenz/\nVoranmeldung notwendig \nZielgruppe: Demenzbetroffene\, An- und Zugehörige \nFoto: Pixabay
URL:https://kalender.seniorinnen.wien/event/freizeitbuddies-kultur-gemeinsam-erleben-2/
LOCATION:Oberes Belvedere\, Prinz Eugen-Straße 27\, Wien\, 1030
CATEGORIES:Demenz,Kunst und Kultur
ATTACH;FMTTYPE=image/jpeg:https://kalender.seniorinnen.wien/wp-content/uploads/2025/08/Schriftzug-Demenz-©Pixabay-e1754396077386.jpg
END:VEVENT
END:VCALENDAR