BEGIN:VCALENDAR
VERSION:2.0
PRODID:-//Wien für Senior:innen - ECPv6.15.17.1//NONSGML v1.0//EN
CALSCALE:GREGORIAN
METHOD:PUBLISH
X-ORIGINAL-URL:https://kalender.seniorinnen.wien
X-WR-CALDESC:Veranstaltungen für Wien für Senior:innen
REFRESH-INTERVAL;VALUE=DURATION:PT1H
X-Robots-Tag:noindex
X-PUBLISHED-TTL:PT1H
BEGIN:VTIMEZONE
TZID:Europe/Berlin
BEGIN:DAYLIGHT
TZOFFSETFROM:+0100
TZOFFSETTO:+0200
TZNAME:CEST
DTSTART:20230326T010000
END:DAYLIGHT
BEGIN:STANDARD
TZOFFSETFROM:+0200
TZOFFSETTO:+0100
TZNAME:CET
DTSTART:20231029T010000
END:STANDARD
BEGIN:DAYLIGHT
TZOFFSETFROM:+0100
TZOFFSETTO:+0200
TZNAME:CEST
DTSTART:20240331T010000
END:DAYLIGHT
BEGIN:STANDARD
TZOFFSETFROM:+0200
TZOFFSETTO:+0100
TZNAME:CET
DTSTART:20241027T010000
END:STANDARD
BEGIN:DAYLIGHT
TZOFFSETFROM:+0100
TZOFFSETTO:+0200
TZNAME:CEST
DTSTART:20250330T010000
END:DAYLIGHT
BEGIN:STANDARD
TZOFFSETFROM:+0200
TZOFFSETTO:+0100
TZNAME:CET
DTSTART:20251026T010000
END:STANDARD
BEGIN:DAYLIGHT
TZOFFSETFROM:+0100
TZOFFSETTO:+0200
TZNAME:CEST
DTSTART:20260329T010000
END:DAYLIGHT
BEGIN:STANDARD
TZOFFSETFROM:+0200
TZOFFSETTO:+0100
TZNAME:CET
DTSTART:20261025T010000
END:STANDARD
END:VTIMEZONE
BEGIN:VEVENT
DTSTART;TZID=Europe/Berlin:20251009T091500
DTEND;TZID=Europe/Berlin:20251009T110000
DTSTAMP:20260421T003813
CREATED:20250925T134249Z
LAST-MODIFIED:20250925T134249Z
UID:10529-1760001300-1760007600@kalender.seniorinnen.wien
SUMMARY:Mit Freude in den Herbst!
DESCRIPTION:Mit Freude in den Herbst!\nEin abwechslungsreiches Programm für alle Sinne! Zur Stärkung der Muskeln\, zur Steigerung der Koordinationsfähigkeit und zur Förderung des Gedächtnisses – gemeinsam macht es einfach mehr Spaß! Für alle Interessierten. \nMit Anmeldung unter: \nE-Mail: nbz16@wiener.hilfswerk.at oder\nTel.: 01 5123661 3550 \nNachbarschaftszentrum 16\nhttps://www.nachbarschaftszentren.at/standorte/nbz16 \nFotocredit© AdobeStock_280990839(c)Nattal_Sritongcom.jpg
URL:https://kalender.seniorinnen.wien/event/mit-freude-in-den-herbst/
LOCATION:Nachbarschaftzentrum 16\, Stöberplatz 2/3\, Wien\, 1160
CATEGORIES:Monat der Senior:innen
ATTACH;FMTTYPE=image/jpeg:https://kalender.seniorinnen.wien/wp-content/uploads/2025/09/AdobeStock_280990839-cNattapol_Sritongcom-e1758807673495.jpg
ORGANIZER;CN="Wiener Hilfswerk%2C Nachbarschaftszentrum 16 - Ottakring":MAILTO:nz16@wiener.hilfswerk.at
END:VEVENT
BEGIN:VEVENT
DTSTART;TZID=Europe/Berlin:20240502T100000
DTEND;TZID=Europe/Berlin:20240502T113000
DTSTAMP:20260421T003813
CREATED:20240403T072631Z
LAST-MODIFIED:20240403T072631Z
UID:5611-1714644000-1714649400@kalender.seniorinnen.wien
SUMMARY:Gesundheits-Infothek
DESCRIPTION:Information und Austausch zu aktuellen gesundheitlichen Themen. \nDiesmal: \nEin gutes Arztgespräch führen – Wie bin ich bestens vorbereitet? \nDonnerstag\, 2.5. von 10:15 – 11:15 Uhr \nWiener Hilfswerk Nachbarschaftszentrum 16 – Ottakring \n1160 Wien\, Stöberplatz 2 \nAnmeldung unter 01 5123661 3550 oder nbz16@wiener.hilfswerk.at
URL:https://kalender.seniorinnen.wien/event/gesundheits-infothek-2/
LOCATION:Nachbarschaftzentrum 16\, Stöberplatz 2/3\, Wien\, 1160
CATEGORIES:Fit und Gesund
ATTACH;FMTTYPE=image/jpeg:https://kalender.seniorinnen.wien/wp-content/uploads/2024/04/blood-pressure-1573037_1920-e1712129184600.jpg
END:VEVENT
BEGIN:VEVENT
DTSTART;TZID=Europe/Berlin:20240404T100000
DTEND;TZID=Europe/Berlin:20240404T113000
DTSTAMP:20260421T003813
CREATED:20240403T072416Z
LAST-MODIFIED:20240403T072416Z
UID:5609-1712224800-1712230200@kalender.seniorinnen.wien
SUMMARY:Gesundheits-Infothek
DESCRIPTION:Information und Austausch zu aktuellen gesundheitlichen Themen. \nDiesmal: \nSuperfood aus Österreich – Alternativen zu Chiasamen\, Quinoa\, Algen und Co. \nDonnerstag\, 4.4. von 10:15 – 11:15 Uhr \nWiener Hilfswerk Nachbarschaftszentrum 16 – Ottakring \n1160 Wien\, Stöberplatz 2 \nAnmeldung unter 01 5123661 3550 oder nbz16@wiener.hilfswerk.at
URL:https://kalender.seniorinnen.wien/event/gesundheits-infothek/
LOCATION:Nachbarschaftzentrum 16\, Stöberplatz 2/3\, Wien\, 1160
CATEGORIES:Fit und Gesund
ATTACH;FMTTYPE=image/jpeg:https://kalender.seniorinnen.wien/wp-content/uploads/2024/01/salad-2756467_1920.jpg
END:VEVENT
END:VCALENDAR