BEGIN:VCALENDAR
VERSION:2.0
PRODID:-//Wien für Senior:innen - ECPv6.15.17.1//NONSGML v1.0//EN
CALSCALE:GREGORIAN
METHOD:PUBLISH
X-WR-CALNAME:Wien für Senior:innen
X-ORIGINAL-URL:https://kalender.seniorinnen.wien
X-WR-CALDESC:Veranstaltungen für Wien für Senior:innen
REFRESH-INTERVAL;VALUE=DURATION:PT1H
X-Robots-Tag:noindex
X-PUBLISHED-TTL:PT1H
BEGIN:VTIMEZONE
TZID:Europe/Berlin
BEGIN:DAYLIGHT
TZOFFSETFROM:+0100
TZOFFSETTO:+0200
TZNAME:CEST
DTSTART:20250330T010000
END:DAYLIGHT
BEGIN:STANDARD
TZOFFSETFROM:+0200
TZOFFSETTO:+0100
TZNAME:CET
DTSTART:20251026T010000
END:STANDARD
BEGIN:DAYLIGHT
TZOFFSETFROM:+0100
TZOFFSETTO:+0200
TZNAME:CEST
DTSTART:20260329T010000
END:DAYLIGHT
BEGIN:STANDARD
TZOFFSETFROM:+0200
TZOFFSETTO:+0100
TZNAME:CET
DTSTART:20261025T010000
END:STANDARD
BEGIN:DAYLIGHT
TZOFFSETFROM:+0100
TZOFFSETTO:+0200
TZNAME:CEST
DTSTART:20270328T010000
END:DAYLIGHT
BEGIN:STANDARD
TZOFFSETFROM:+0200
TZOFFSETTO:+0100
TZNAME:CET
DTSTART:20271031T010000
END:STANDARD
END:VTIMEZONE
BEGIN:VEVENT
DTSTART;TZID=Europe/Berlin:20260512T160000
DTEND;TZID=Europe/Berlin:20260512T180000
DTSTAMP:20260420T153436
CREATED:20260416T093229Z
LAST-MODIFIED:20260416T093229Z
UID:12550-1778601600-1778608800@kalender.seniorinnen.wien
SUMMARY:Energie-Treffpunkt für alle
DESCRIPTION:Verstehst du deine Strom- oder Heizrechnung nicht? Was bedeuten die Zahlen? Warum ist die Rechnung so hoch? Zahlen\, Begriffe und Zeichen sind oft kompliziert und schwer durchschaubar.\n\n\n\n\n\n\n\n\n\n\n\n\n\n\n\n\n\n\n\n\n\n\n\n\n\nBeim kostenlosen Energie-Treffpunkt schauen wir gemeinsam auf deine Rechnung\, erklären alles verständlich und geben dir hilfreiche Tipps zum Energiesparen und zu Unterstützungsangeboten. \nDienstag\, 12. Mai 2026\, 16 bis 18 Uhr\nNachbarschaftszentrum 7 – Neubau\n7.\, Schottenfeldgasse 29\, Eingang 2\nT: +43 1 512 36 61-3360 \nhttps://www.nachbarschaftszentren.at/projekte/energie-treffpunkt \nFoto: Pixabay
URL:https://kalender.seniorinnen.wien/event/energie-treffpunkt-fuer-alle-3/
LOCATION:Nachbarschaftszentrum Neubau Wiener Hilfswerk\, Schottenfeldgasse 29 / 2\, Wien\, Wien\, 1070
CATEGORIES:Grätzel,Information
ATTACH;FMTTYPE=image/jpeg:https://kalender.seniorinnen.wien/wp-content/uploads/2026/04/pix1861-power-outlet-643721-scaled.jpg
END:VEVENT
BEGIN:VEVENT
DTSTART;TZID=Europe/Berlin:20260609T160000
DTEND;TZID=Europe/Berlin:20260609T180000
DTSTAMP:20260420T153436
CREATED:20260416T093912Z
LAST-MODIFIED:20260416T093912Z
UID:12556-1781020800-1781028000@kalender.seniorinnen.wien
SUMMARY:Energie-Treffpunkt für alle
DESCRIPTION:Verstehst du deine Strom- oder Heizrechnung nicht? Was bedeuten die Zahlen? Warum ist die Rechnung so hoch? Zahlen\, Begriffe und Zeichen sind oft kompliziert und schwer durchschaubar.\n\n\n\n\n\n\n\n\n\n\n\n\n\n\n\n\n\n\n\n\n\n\n\n\n\nBeim kostenlosen Energie-Treffpunkt schauen wir gemeinsam auf deine Rechnung\, erklären alles verständlich und geben dir hilfreiche Tipps zum Energiesparen und zu Unterstützungsangeboten. \nDienstag\, 9. Juni 2026\, 16 bis 18 Uhr\nNachbarschaftszentrum 7 – Neubau\n7.\, Schottenfeldgasse 29\, Eingang 2\nT: +43 1 512 36 61-3360 \nhttps://www.nachbarschaftszentren.at/projekte/energie-treffpunkt \nFoto: Pixabay
URL:https://kalender.seniorinnen.wien/event/energie-treffpunkt-fuer-alle-5/
LOCATION:Nachbarschaftszentrum Neubau Wiener Hilfswerk\, Schottenfeldgasse 29 / 2\, Wien\, Wien\, 1070
CATEGORIES:Grätzel,Information
ATTACH;FMTTYPE=image/jpeg:https://kalender.seniorinnen.wien/wp-content/uploads/2026/04/pix1861-power-outlet-643721-scaled.jpg
END:VEVENT
BEGIN:VEVENT
DTSTART;TZID=Europe/Berlin:20260714T160000
DTEND;TZID=Europe/Berlin:20260714T180000
DTSTAMP:20260420T153436
CREATED:20260416T094751Z
LAST-MODIFIED:20260416T094751Z
UID:12563-1784044800-1784052000@kalender.seniorinnen.wien
SUMMARY:Energie-Treffpunkt für alle
DESCRIPTION:Verstehst du deine Strom- oder Heizrechnung nicht? Was bedeuten die Zahlen? Warum ist die Rechnung so hoch? Zahlen\, Begriffe und Zeichen sind oft kompliziert und schwer durchschaubar.\n\n\n\n\n\n\n\n\n\n\n\n\n\n\n\n\n\n\n\n\n\n\n\n\n\nBeim kostenlosen Energie-Treffpunkt schauen wir gemeinsam auf deine Rechnung\, erklären alles verständlich und geben dir hilfreiche Tipps zum Energiesparen und zu Unterstützungsangeboten. \nDienstag\, 14. Juli 2026\, 16 bis 18 Uhr\nNachbarschaftszentrum 7 – Neubau\n7.\, Schottenfeldgasse 29\, Eingang 2\nT: +43 1 512 36 61-3360 \nhttps://www.nachbarschaftszentren.at/projekte/energie-treffpunkt \nFoto: Pixabay
URL:https://kalender.seniorinnen.wien/event/energie-treffpunkt-fuer-alle-8/
LOCATION:Nachbarschaftszentrum Neubau Wiener Hilfswerk\, Schottenfeldgasse 29 / 2\, Wien\, Wien\, 1070
CATEGORIES:Grätzel,Information
ATTACH;FMTTYPE=image/jpeg:https://kalender.seniorinnen.wien/wp-content/uploads/2026/04/pix1861-power-outlet-643721-scaled.jpg
END:VEVENT
END:VCALENDAR