BEGIN:VCALENDAR
VERSION:2.0
PRODID:-//Wien für Senior:innen - ECPv6.15.17.1//NONSGML v1.0//EN
CALSCALE:GREGORIAN
METHOD:PUBLISH
X-WR-CALNAME:Wien für Senior:innen
X-ORIGINAL-URL:https://kalender.seniorinnen.wien
X-WR-CALDESC:Veranstaltungen für Wien für Senior:innen
REFRESH-INTERVAL;VALUE=DURATION:PT1H
X-Robots-Tag:noindex
X-PUBLISHED-TTL:PT1H
BEGIN:VTIMEZONE
TZID:Europe/Berlin
BEGIN:DAYLIGHT
TZOFFSETFROM:+0100
TZOFFSETTO:+0200
TZNAME:CEST
DTSTART:20230326T010000
END:DAYLIGHT
BEGIN:STANDARD
TZOFFSETFROM:+0200
TZOFFSETTO:+0100
TZNAME:CET
DTSTART:20231029T010000
END:STANDARD
BEGIN:DAYLIGHT
TZOFFSETFROM:+0100
TZOFFSETTO:+0200
TZNAME:CEST
DTSTART:20240331T010000
END:DAYLIGHT
BEGIN:STANDARD
TZOFFSETFROM:+0200
TZOFFSETTO:+0100
TZNAME:CET
DTSTART:20241027T010000
END:STANDARD
BEGIN:DAYLIGHT
TZOFFSETFROM:+0100
TZOFFSETTO:+0200
TZNAME:CEST
DTSTART:20250330T010000
END:DAYLIGHT
BEGIN:STANDARD
TZOFFSETFROM:+0200
TZOFFSETTO:+0100
TZNAME:CET
DTSTART:20251026T010000
END:STANDARD
BEGIN:DAYLIGHT
TZOFFSETFROM:+0100
TZOFFSETTO:+0200
TZNAME:CEST
DTSTART:20260329T010000
END:DAYLIGHT
BEGIN:STANDARD
TZOFFSETFROM:+0200
TZOFFSETTO:+0100
TZNAME:CET
DTSTART:20261025T010000
END:STANDARD
END:VTIMEZONE
BEGIN:VEVENT
DTSTART;TZID=Europe/Berlin:20251027T100000
DTEND;TZID=Europe/Berlin:20251027T120000
DTSTAMP:20260420T165458
CREATED:20250831T230049Z
LAST-MODIFIED:20250829T073019Z
UID:8171-1761559200-1761566400@kalender.seniorinnen.wien
SUMMARY:Montagmorgen - Fit in die neue Woche
DESCRIPTION:Ein guter Wochenstart für Körper und Geist: Mobilitätsübungen im Sitzen und Liegen stärken unsere wichtigsten Muskeln. Anschließende Entspannung bei Gesprächen\, Obst\, Kuchen und Getränken. \nMax. 15 Teilnehmer:innen \nAnmeldung bis 17.10. bzw. 24.10. \nTel.: 01 512 36 61-3360\nE – Mail: nbz7@wiener.hilfswerk.at \nWeitere Infos: https://www.nachbarschaftszentren.at/standorte/nbz7 \nbarrierefrei \nFoto: WHW NBZ7
URL:https://kalender.seniorinnen.wien/event/montagmorgen-fit-in-die-neue-woche/2025-10-27/
LOCATION:Nachbarschaftszentrum Neubau Wiener Hilfswerk\, Schottenfeldgasse 29 / 2\, Wien\, Wien\, 1070
CATEGORIES:Fit und Gesund,Monat der Senior:innen
ATTACH;FMTTYPE=image/jpeg:https://kalender.seniorinnen.wien/wp-content/uploads/2025/08/SeniorInnenmonat-2025-scaled-e1754046193304.jpg
ORGANIZER;CN="Wiener Hilfswerk Nachbarschaftszentrum Neubau":MAILTO:nbz7@wiener.hilfswerk.at
END:VEVENT
BEGIN:VEVENT
DTSTART;TZID=Europe/Berlin:20251020T100000
DTEND;TZID=Europe/Berlin:20251020T120000
DTSTAMP:20260420T165458
CREATED:20250831T230049Z
LAST-MODIFIED:20250829T073019Z
UID:8167-1760954400-1760961600@kalender.seniorinnen.wien
SUMMARY:Montagmorgen - Fit in die neue Woche
DESCRIPTION:Ein guter Wochenstart für Körper und Geist: Mobilitätsübungen im Sitzen und Liegen stärken unsere wichtigsten Muskeln. Anschließende Entspannung bei Gesprächen\, Obst\, Kuchen und Getränken. \nMax. 15 Teilnehmer:innen \nAnmeldung bis 17.10. bzw. 24.10. \nTel.: 01 512 36 61-3360\nE – Mail: nbz7@wiener.hilfswerk.at \nWeitere Infos: https://www.nachbarschaftszentren.at/standorte/nbz7 \nbarrierefrei \nFoto: WHW NBZ7
URL:https://kalender.seniorinnen.wien/event/montagmorgen-fit-in-die-neue-woche/2025-10-20/
LOCATION:Nachbarschaftszentrum Neubau Wiener Hilfswerk\, Schottenfeldgasse 29 / 2\, Wien\, Wien\, 1070
CATEGORIES:Fit und Gesund,Monat der Senior:innen
ATTACH;FMTTYPE=image/jpeg:https://kalender.seniorinnen.wien/wp-content/uploads/2025/08/SeniorInnenmonat-2025-scaled-e1754046193304.jpg
ORGANIZER;CN="Wiener Hilfswerk Nachbarschaftszentrum Neubau":MAILTO:nbz7@wiener.hilfswerk.at
END:VEVENT
BEGIN:VEVENT
DTSTART;TZID=Europe/Berlin:20241028T100000
DTEND;TZID=Europe/Berlin:20241028T120000
DTSTAMP:20260420T165458
CREATED:20240830T115127Z
LAST-MODIFIED:20240830T161900Z
UID:6367-1730109600-1730116800@kalender.seniorinnen.wien
SUMMARY:Oktober in Bewegung: Montag Morgen
DESCRIPTION:Erst Mobilitätsübungen\, dann plaudern bei Obst\, Kuchen und Getränken: Ein guter Start in die Woche für Körper und Geist! \nWir starten mit Mobilitätsübungen für den ganzen Körper im Sitzen und Liegen (optional). Im Zeitrahmen von 45 Min. stärken und trainieren wir unsere wichtigsten Muskeln rund um den Stützapparat. Anschließend entspannen und plaudern wir bei Obst\, Kuchen und Getränken. Teilnahme kostenlos! \nAnmeldung unter Tel: 01 512 36 61 33 60 oder E-Mail: nbz7@wiener.hilfswerk.at \nFoto: agewithoutlimits
URL:https://kalender.seniorinnen.wien/event/oktober-in-bewegung-montag-morgen/2024-10-28/
LOCATION:Nachbarschaftszentrum Neubau Wiener Hilfswerk\, Schottenfeldgasse 29 / 2\, Wien\, Wien\, 1070
CATEGORIES:Fit und Gesund,Monat der Senior:innen
ATTACH;FMTTYPE=image/jpeg:https://kalender.seniorinnen.wien/wp-content/uploads/2023/11/cup-829527_1920-e1707313924705.jpg
END:VEVENT
BEGIN:VEVENT
DTSTART;TZID=Europe/Berlin:20241021T100000
DTEND;TZID=Europe/Berlin:20241021T120000
DTSTAMP:20260420T165458
CREATED:20240830T115127Z
LAST-MODIFIED:20240830T161900Z
UID:6366-1729504800-1729512000@kalender.seniorinnen.wien
SUMMARY:Oktober in Bewegung: Montag Morgen
DESCRIPTION:Erst Mobilitätsübungen\, dann plaudern bei Obst\, Kuchen und Getränken: Ein guter Start in die Woche für Körper und Geist! \nWir starten mit Mobilitätsübungen für den ganzen Körper im Sitzen und Liegen (optional). Im Zeitrahmen von 45 Min. stärken und trainieren wir unsere wichtigsten Muskeln rund um den Stützapparat. Anschließend entspannen und plaudern wir bei Obst\, Kuchen und Getränken. Teilnahme kostenlos! \nAnmeldung unter Tel: 01 512 36 61 33 60 oder E-Mail: nbz7@wiener.hilfswerk.at \nFoto: agewithoutlimits
URL:https://kalender.seniorinnen.wien/event/oktober-in-bewegung-montag-morgen/2024-10-21/
LOCATION:Nachbarschaftszentrum Neubau Wiener Hilfswerk\, Schottenfeldgasse 29 / 2\, Wien\, Wien\, 1070
CATEGORIES:Fit und Gesund,Monat der Senior:innen
ATTACH;FMTTYPE=image/jpeg:https://kalender.seniorinnen.wien/wp-content/uploads/2023/11/cup-829527_1920-e1707313924705.jpg
END:VEVENT
BEGIN:VEVENT
DTSTART;TZID=Europe/Berlin:20241014T100000
DTEND;TZID=Europe/Berlin:20241014T120000
DTSTAMP:20260420T165458
CREATED:20240830T115127Z
LAST-MODIFIED:20240830T161859Z
UID:6365-1728900000-1728907200@kalender.seniorinnen.wien
SUMMARY:Oktober in Bewegung: Montag Morgen
DESCRIPTION:Erst Mobilitätsübungen\, dann plaudern bei Obst\, Kuchen und Getränken: Ein guter Start in die Woche für Körper und Geist! \nWir starten mit Mobilitätsübungen für den ganzen Körper im Sitzen und Liegen (optional). Im Zeitrahmen von 45 Min. stärken und trainieren wir unsere wichtigsten Muskeln rund um den Stützapparat. Anschließend entspannen und plaudern wir bei Obst\, Kuchen und Getränken. Teilnahme kostenlos! \nAnmeldung unter Tel: 01 512 36 61 33 60 oder E-Mail: nbz7@wiener.hilfswerk.at \nFoto: agewithoutlimits
URL:https://kalender.seniorinnen.wien/event/oktober-in-bewegung-montag-morgen/2024-10-14/
LOCATION:Nachbarschaftszentrum Neubau Wiener Hilfswerk\, Schottenfeldgasse 29 / 2\, Wien\, Wien\, 1070
CATEGORIES:Fit und Gesund,Monat der Senior:innen
ATTACH;FMTTYPE=image/jpeg:https://kalender.seniorinnen.wien/wp-content/uploads/2023/11/cup-829527_1920-e1707313924705.jpg
END:VEVENT
BEGIN:VEVENT
DTSTART;TZID=Europe/Berlin:20241007T100000
DTEND;TZID=Europe/Berlin:20241007T120000
DTSTAMP:20260420T165458
CREATED:20240830T115127Z
LAST-MODIFIED:20240830T161859Z
UID:6360-1728295200-1728302400@kalender.seniorinnen.wien
SUMMARY:Oktober in Bewegung: Montag Morgen
DESCRIPTION:Erst Mobilitätsübungen\, dann plaudern bei Obst\, Kuchen und Getränken: Ein guter Start in die Woche für Körper und Geist! \nWir starten mit Mobilitätsübungen für den ganzen Körper im Sitzen und Liegen (optional). Im Zeitrahmen von 45 Min. stärken und trainieren wir unsere wichtigsten Muskeln rund um den Stützapparat. Anschließend entspannen und plaudern wir bei Obst\, Kuchen und Getränken. Teilnahme kostenlos! \nAnmeldung unter Tel: 01 512 36 61 33 60 oder E-Mail: nbz7@wiener.hilfswerk.at \nFoto: agewithoutlimits
URL:https://kalender.seniorinnen.wien/event/oktober-in-bewegung-montag-morgen/2024-10-07/
LOCATION:Nachbarschaftszentrum Neubau Wiener Hilfswerk\, Schottenfeldgasse 29 / 2\, Wien\, Wien\, 1070
CATEGORIES:Fit und Gesund,Monat der Senior:innen
ATTACH;FMTTYPE=image/jpeg:https://kalender.seniorinnen.wien/wp-content/uploads/2023/11/cup-829527_1920-e1707313924705.jpg
END:VEVENT
END:VCALENDAR