BEGIN:VCALENDAR
VERSION:2.0
PRODID:-//Wien für Senior:innen - ECPv6.15.17.1//NONSGML v1.0//EN
CALSCALE:GREGORIAN
METHOD:PUBLISH
X-WR-CALNAME:Wien für Senior:innen
X-ORIGINAL-URL:https://kalender.seniorinnen.wien
X-WR-CALDESC:Veranstaltungen für Wien für Senior:innen
REFRESH-INTERVAL;VALUE=DURATION:PT1H
X-Robots-Tag:noindex
X-PUBLISHED-TTL:PT1H
BEGIN:VTIMEZONE
TZID:Europe/Berlin
BEGIN:DAYLIGHT
TZOFFSETFROM:+0100
TZOFFSETTO:+0200
TZNAME:CEST
DTSTART:20250330T010000
END:DAYLIGHT
BEGIN:STANDARD
TZOFFSETFROM:+0200
TZOFFSETTO:+0100
TZNAME:CET
DTSTART:20251026T010000
END:STANDARD
BEGIN:DAYLIGHT
TZOFFSETFROM:+0100
TZOFFSETTO:+0200
TZNAME:CEST
DTSTART:20260329T010000
END:DAYLIGHT
BEGIN:STANDARD
TZOFFSETFROM:+0200
TZOFFSETTO:+0100
TZNAME:CET
DTSTART:20261025T010000
END:STANDARD
BEGIN:DAYLIGHT
TZOFFSETFROM:+0100
TZOFFSETTO:+0200
TZNAME:CEST
DTSTART:20270328T010000
END:DAYLIGHT
BEGIN:STANDARD
TZOFFSETFROM:+0200
TZOFFSETTO:+0100
TZNAME:CET
DTSTART:20271031T010000
END:STANDARD
END:VTIMEZONE
BEGIN:VEVENT
DTSTART;TZID=Europe/Berlin:20261107T080000
DTEND;TZID=Europe/Berlin:20261107T170000
DTSTAMP:20260421T003758
CREATED:20260302T085125Z
LAST-MODIFIED:20260302T090306Z
UID:12268-1794038400-1794070800@kalender.seniorinnen.wien
SUMMARY:Kontaktbesuchsdienst: Infotisch im Rahmen der Vorsorgewochen
DESCRIPTION:Montag\, 7. November 2026  \nTerminvereinbarung:\nNachbarschaftszentrum 2 – Leopoldstadt\nVorgartenstraße 145-157\, Stiege 1\, EG\n1020 Wien \nTelefon: +43 1 512 36 61-3200\nE-Mail: nbz2@wiener.hilfswerk.at \nFoto: Wiener Sozialdienste
URL:https://kalender.seniorinnen.wien/event/kontaktbesuchsdienst-infotisch-im-rahmen-der-vorsorgewochen/
LOCATION:Nachbarschaftszentrum Leopoldstadt\, Vorgartenstraße 145-147 Stiege 1\, EG\, Wien\, 1020\, Österreich
ATTACH;FMTTYPE=image/jpeg:https://kalender.seniorinnen.wien/wp-content/uploads/2019/08/WISO_Kontaktbesuchsdienst.jpg
END:VEVENT
END:VCALENDAR