BEGIN:VCALENDAR
VERSION:2.0
PRODID:-//Wien für Senior:innen - ECPv6.15.17.1//NONSGML v1.0//EN
CALSCALE:GREGORIAN
METHOD:PUBLISH
X-WR-CALNAME:Wien für Senior:innen
X-ORIGINAL-URL:https://kalender.seniorinnen.wien
X-WR-CALDESC:Veranstaltungen für Wien für Senior:innen
REFRESH-INTERVAL;VALUE=DURATION:PT1H
X-Robots-Tag:noindex
X-PUBLISHED-TTL:PT1H
BEGIN:VTIMEZONE
TZID:Europe/Berlin
BEGIN:DAYLIGHT
TZOFFSETFROM:+0100
TZOFFSETTO:+0200
TZNAME:CEST
DTSTART:20230326T010000
END:DAYLIGHT
BEGIN:STANDARD
TZOFFSETFROM:+0200
TZOFFSETTO:+0100
TZNAME:CET
DTSTART:20231029T010000
END:STANDARD
BEGIN:DAYLIGHT
TZOFFSETFROM:+0100
TZOFFSETTO:+0200
TZNAME:CEST
DTSTART:20240331T010000
END:DAYLIGHT
BEGIN:STANDARD
TZOFFSETFROM:+0200
TZOFFSETTO:+0100
TZNAME:CET
DTSTART:20241027T010000
END:STANDARD
BEGIN:DAYLIGHT
TZOFFSETFROM:+0100
TZOFFSETTO:+0200
TZNAME:CEST
DTSTART:20250330T010000
END:DAYLIGHT
BEGIN:STANDARD
TZOFFSETFROM:+0200
TZOFFSETTO:+0100
TZNAME:CET
DTSTART:20251026T010000
END:STANDARD
BEGIN:DAYLIGHT
TZOFFSETFROM:+0100
TZOFFSETTO:+0200
TZNAME:CEST
DTSTART:20260329T010000
END:DAYLIGHT
BEGIN:STANDARD
TZOFFSETFROM:+0200
TZOFFSETTO:+0100
TZNAME:CET
DTSTART:20261025T010000
END:STANDARD
END:VTIMEZONE
BEGIN:VEVENT
DTSTART;TZID=Europe/Berlin:20251203T133000
DTEND;TZID=Europe/Berlin:20251203T180000
DTSTAMP:20260420T224537
CREATED:20250905T092403Z
LAST-MODIFIED:20250905T092403Z
UID:9901-1764768600-1764784800@kalender.seniorinnen.wien
SUMMARY:Klick & Kreation – deine digitale Medienwerkstatt
DESCRIPTION:Verwandle dein Smartphone in ein kreatives Werkzeug!\nLerne in diesem kostenlosen Workshop\, Smartphone-Fotos zu verbessern und diese am Computer oder am Smartphone zu bearbeiten. Von den Kamera-Funktionen bis zum fertigen Produkt! In nur 4 Wochen (4x ein halber Tag) arbeiten wir mit Präsenz- und Online-Einheiten an deinem individuellen Projekt! \n\n18 Unterrichtseinheiten à 50 Minuten geblockt auf 4 Termine\nBlended Learning: der dritte Termin findet Online statt!\nmaximal 12 Teilnehmer:innen\nIndividuell: Sie arbeiten an Ihrem eigenen Projekt\nBonus: Optional können Sie ein 30- minütiges 1:1 Online Coaching für Ihre individuellen Fragen in Anspruch nehmen!\n\nAnmeldung unter: https://makethedifference.at/digital-workshops/ \nFoto: Make the Difference
URL:https://kalender.seniorinnen.wien/event/klick-kreation-deine-digitale-medienwerkstatt/2025-12-03/
LOCATION:Nachbarschaftszentrum 22\, Rennbahnweg 27/3/R1\, Wien\, 1220\, Österreich
CATEGORIES:Digital und Online
ATTACH;FMTTYPE=image/png:https://kalender.seniorinnen.wien/wp-content/uploads/2025/09/Karte_Foto-e1757063689200.png
ORGANIZER;CN="Make the Difference":MAILTO:theres@makethedifference.at
END:VEVENT
BEGIN:VEVENT
DTSTART;TZID=Europe/Berlin:20251126T133000
DTEND;TZID=Europe/Berlin:20251126T180000
DTSTAMP:20260420T224537
CREATED:20250905T092403Z
LAST-MODIFIED:20250905T092403Z
UID:9900-1764163800-1764180000@kalender.seniorinnen.wien
SUMMARY:Klick & Kreation – deine digitale Medienwerkstatt
DESCRIPTION:Verwandle dein Smartphone in ein kreatives Werkzeug!\nLerne in diesem kostenlosen Workshop\, Smartphone-Fotos zu verbessern und diese am Computer oder am Smartphone zu bearbeiten. Von den Kamera-Funktionen bis zum fertigen Produkt! In nur 4 Wochen (4x ein halber Tag) arbeiten wir mit Präsenz- und Online-Einheiten an deinem individuellen Projekt! \n\n18 Unterrichtseinheiten à 50 Minuten geblockt auf 4 Termine\nBlended Learning: der dritte Termin findet Online statt!\nmaximal 12 Teilnehmer:innen\nIndividuell: Sie arbeiten an Ihrem eigenen Projekt\nBonus: Optional können Sie ein 30- minütiges 1:1 Online Coaching für Ihre individuellen Fragen in Anspruch nehmen!\n\nAnmeldung unter: https://makethedifference.at/digital-workshops/ \nFoto: Make the Difference
URL:https://kalender.seniorinnen.wien/event/klick-kreation-deine-digitale-medienwerkstatt/2025-11-26/
LOCATION:Nachbarschaftszentrum 22\, Rennbahnweg 27/3/R1\, Wien\, 1220\, Österreich
CATEGORIES:Digital und Online
ATTACH;FMTTYPE=image/png:https://kalender.seniorinnen.wien/wp-content/uploads/2025/09/Karte_Foto-e1757063689200.png
ORGANIZER;CN="Make the Difference":MAILTO:theres@makethedifference.at
END:VEVENT
BEGIN:VEVENT
DTSTART;TZID=Europe/Berlin:20251119T133000
DTEND;TZID=Europe/Berlin:20251119T180000
DTSTAMP:20260420T224537
CREATED:20250905T092403Z
LAST-MODIFIED:20250905T092403Z
UID:9899-1763559000-1763575200@kalender.seniorinnen.wien
SUMMARY:Klick & Kreation – deine digitale Medienwerkstatt
DESCRIPTION:Verwandle dein Smartphone in ein kreatives Werkzeug!\nLerne in diesem kostenlosen Workshop\, Smartphone-Fotos zu verbessern und diese am Computer oder am Smartphone zu bearbeiten. Von den Kamera-Funktionen bis zum fertigen Produkt! In nur 4 Wochen (4x ein halber Tag) arbeiten wir mit Präsenz- und Online-Einheiten an deinem individuellen Projekt! \n\n18 Unterrichtseinheiten à 50 Minuten geblockt auf 4 Termine\nBlended Learning: der dritte Termin findet Online statt!\nmaximal 12 Teilnehmer:innen\nIndividuell: Sie arbeiten an Ihrem eigenen Projekt\nBonus: Optional können Sie ein 30- minütiges 1:1 Online Coaching für Ihre individuellen Fragen in Anspruch nehmen!\n\nAnmeldung unter: https://makethedifference.at/digital-workshops/ \nFoto: Make the Difference
URL:https://kalender.seniorinnen.wien/event/klick-kreation-deine-digitale-medienwerkstatt/2025-11-19/
LOCATION:Nachbarschaftszentrum 22\, Rennbahnweg 27/3/R1\, Wien\, 1220\, Österreich
CATEGORIES:Digital und Online
ATTACH;FMTTYPE=image/png:https://kalender.seniorinnen.wien/wp-content/uploads/2025/09/Karte_Foto-e1757063689200.png
ORGANIZER;CN="Make the Difference":MAILTO:theres@makethedifference.at
END:VEVENT
BEGIN:VEVENT
DTSTART;TZID=Europe/Berlin:20251105T133000
DTEND;TZID=Europe/Berlin:20251105T180000
DTSTAMP:20260420T224537
CREATED:20250905T092403Z
LAST-MODIFIED:20250905T092403Z
UID:9897-1762349400-1762365600@kalender.seniorinnen.wien
SUMMARY:Klick & Kreation – deine digitale Medienwerkstatt
DESCRIPTION:Verwandle dein Smartphone in ein kreatives Werkzeug!\nLerne in diesem kostenlosen Workshop\, Smartphone-Fotos zu verbessern und diese am Computer oder am Smartphone zu bearbeiten. Von den Kamera-Funktionen bis zum fertigen Produkt! In nur 4 Wochen (4x ein halber Tag) arbeiten wir mit Präsenz- und Online-Einheiten an deinem individuellen Projekt! \n\n18 Unterrichtseinheiten à 50 Minuten geblockt auf 4 Termine\nBlended Learning: der dritte Termin findet Online statt!\nmaximal 12 Teilnehmer:innen\nIndividuell: Sie arbeiten an Ihrem eigenen Projekt\nBonus: Optional können Sie ein 30- minütiges 1:1 Online Coaching für Ihre individuellen Fragen in Anspruch nehmen!\n\nAnmeldung unter: https://makethedifference.at/digital-workshops/ \nFoto: Make the Difference
URL:https://kalender.seniorinnen.wien/event/klick-kreation-deine-digitale-medienwerkstatt/2025-11-05/
LOCATION:Nachbarschaftszentrum 22\, Rennbahnweg 27/3/R1\, Wien\, 1220\, Österreich
CATEGORIES:Digital und Online
ATTACH;FMTTYPE=image/png:https://kalender.seniorinnen.wien/wp-content/uploads/2025/09/Karte_Foto-e1757063689200.png
ORGANIZER;CN="Make the Difference":MAILTO:theres@makethedifference.at
END:VEVENT
BEGIN:VEVENT
DTSTART;TZID=Europe/Berlin:20250617T150000
DTEND;TZID=Europe/Berlin:20250617T160000
DTSTAMP:20260420T224537
CREATED:20250616T065832Z
LAST-MODIFIED:20250616T065832Z
UID:7954-1750172400-1750176000@kalender.seniorinnen.wien
SUMMARY:Klassisches Wiener Musik Kabarett "De Zwa Schmäh Lauser"
DESCRIPTION:Karl Tatyrek & Nikolaus Firmkranz bieten MundArtige & UnArtige Schmähtandlerein.\n„Es wird a potzn Gaude und kana geht ohne an Grinser ham!“ \nMusik von Gabis Zither Ensemble „Muckendorfer SAITENKLANG“. \nMit Anmeldung. \nKontakt:\nNachbarschaftszentrum 22 Donaustadt\nRennbahnweg 27/3/R1\, 1220 Wien \nInfotelefon: o1/512 36 61-3650\nE-Mail: nbz22@wiener.hilfswerk.at\nFacebook: facebook.com/nbz22.donaustadt
URL:https://kalender.seniorinnen.wien/event/klassisches-wiener-musik-kabarett-de-zwa-schmaeh-lauser/
LOCATION:Nachbarschaftszentrum 22\, Rennbahnweg 27/3/R1\, Wien\, 1220\, Österreich
CATEGORIES:Kunst und Kultur,Unterhaltung
ATTACH;FMTTYPE=image/jpeg:https://kalender.seniorinnen.wien/wp-content/uploads/2025/06/MusikKabarett_Nachbarschaftszentrum-Donaustadt-1.jpg
END:VEVENT
BEGIN:VEVENT
DTSTART;TZID=Europe/Berlin:20241016T103000
DTEND;TZID=Europe/Berlin:20241016T113000
DTSTAMP:20260420T224537
CREATED:20240822T085523Z
LAST-MODIFIED:20240911T125628Z
UID:6085-1729074600-1729078200@kalender.seniorinnen.wien
SUMMARY:Bio2People - Holen Sie sich gratis Biogemüse
DESCRIPTION:Holen Sie sich einen Vitamin-Kick: Ein frisches Gemüse-Sackerl mit saisonalen Rezepten wartet auf Sie. \n  \nAnmeldung: 2.9. bis 14.10.2024\, max. Teilnehmer:innen: 10 \nTel.: 01 512 36 61 36 50 \nE-Mail:  nbz22@wiener.hilfswerk.at \nWebsite: www.nachbarschaftszentren.at \nInfo: Eingang Austerlitzgasse
URL:https://kalender.seniorinnen.wien/event/bio2people-holen-sie-sich-gratis-biogemuese/
LOCATION:Nachbarschaftszentrum 22\, Rennbahnweg 27/3/R1\, Wien\, 1220\, Österreich
CATEGORIES:Monat der Senior:innen
ATTACH;FMTTYPE=image/jpeg:https://kalender.seniorinnen.wien/wp-content/uploads/2024/08/Bio2People-Foto-e1724319802814.jpg
ORGANIZER;CN="Nachbarschaftszentrum 22":MAILTO:nbz22@wiener.hilfswerk.at
END:VEVENT
END:VCALENDAR