BEGIN:VCALENDAR
VERSION:2.0
PRODID:-//Wien für Senior:innen - ECPv6.15.17.1//NONSGML v1.0//EN
CALSCALE:GREGORIAN
METHOD:PUBLISH
X-ORIGINAL-URL:https://kalender.seniorinnen.wien
X-WR-CALDESC:Veranstaltungen für Wien für Senior:innen
REFRESH-INTERVAL;VALUE=DURATION:PT1H
X-Robots-Tag:noindex
X-PUBLISHED-TTL:PT1H
BEGIN:VTIMEZONE
TZID:Europe/Berlin
BEGIN:DAYLIGHT
TZOFFSETFROM:+0100
TZOFFSETTO:+0200
TZNAME:CEST
DTSTART:20230326T010000
END:DAYLIGHT
BEGIN:STANDARD
TZOFFSETFROM:+0200
TZOFFSETTO:+0100
TZNAME:CET
DTSTART:20231029T010000
END:STANDARD
BEGIN:DAYLIGHT
TZOFFSETFROM:+0100
TZOFFSETTO:+0200
TZNAME:CEST
DTSTART:20240331T010000
END:DAYLIGHT
BEGIN:STANDARD
TZOFFSETFROM:+0200
TZOFFSETTO:+0100
TZNAME:CET
DTSTART:20241027T010000
END:STANDARD
BEGIN:DAYLIGHT
TZOFFSETFROM:+0100
TZOFFSETTO:+0200
TZNAME:CEST
DTSTART:20250330T010000
END:DAYLIGHT
BEGIN:STANDARD
TZOFFSETFROM:+0200
TZOFFSETTO:+0100
TZNAME:CET
DTSTART:20251026T010000
END:STANDARD
END:VTIMEZONE
BEGIN:VEVENT
DTSTART;VALUE=DATE:20240711
DTEND;VALUE=DATE:20240812
DTSTAMP:20260423T151222
CREATED:20240705T085422Z
LAST-MODIFIED:20240705T085422Z
UID:5803-1720656000-1723420799@kalender.seniorinnen.wien
SUMMARY:Impulstanz Festival: Workshops zu Tanz und (Self-)Care
DESCRIPTION:Das Impulstanz-Festival bietet im Juli und August über 250 Workshops und Klassen an. Internationale Dozent:innen und Choreograf:innen vermitteln ihr Wissen an Anfänger:innen sowie Profis. Von zeitgenössischem Tanz bis Selbstfürsorge legen die Workshops unterschiedliche Schwerpunkte. \nÜbersicht zu den angebotenen Workshops: www.impulstanz.com \nGesamtes Programm und Anmeldung auf der Festival-Website. \nFoto (c) Pixabay
URL:https://kalender.seniorinnen.wien/event/impulstanz-festival-workshops-zu-tanz-und-self-care/
LOCATION:Museumsquartier\, Museumsplatz 1\, Wien\, Wien\, 1070\, Österreich
ATTACH;FMTTYPE=image/jpeg:https://kalender.seniorinnen.wien/wp-content/uploads/2024/07/dance-7247907_1280-1-e1720169006809.jpg
ORGANIZER;CN="Wiener Tanzwochen Verein":MAILTO:info@impulstanz.com
END:VEVENT
END:VCALENDAR