BEGIN:VCALENDAR
VERSION:2.0
PRODID:-//Wien für Senior:innen - ECPv6.15.17.1//NONSGML v1.0//EN
CALSCALE:GREGORIAN
METHOD:PUBLISH
X-WR-CALNAME:Wien für Senior:innen
X-ORIGINAL-URL:https://kalender.seniorinnen.wien
X-WR-CALDESC:Veranstaltungen für Wien für Senior:innen
REFRESH-INTERVAL;VALUE=DURATION:PT1H
X-Robots-Tag:noindex
X-PUBLISHED-TTL:PT1H
BEGIN:VTIMEZONE
TZID:Europe/Berlin
BEGIN:DAYLIGHT
TZOFFSETFROM:+0100
TZOFFSETTO:+0200
TZNAME:CEST
DTSTART:20240331T010000
END:DAYLIGHT
BEGIN:STANDARD
TZOFFSETFROM:+0200
TZOFFSETTO:+0100
TZNAME:CET
DTSTART:20241027T010000
END:STANDARD
BEGIN:DAYLIGHT
TZOFFSETFROM:+0100
TZOFFSETTO:+0200
TZNAME:CEST
DTSTART:20250330T010000
END:DAYLIGHT
BEGIN:STANDARD
TZOFFSETFROM:+0200
TZOFFSETTO:+0100
TZNAME:CET
DTSTART:20251026T010000
END:STANDARD
BEGIN:DAYLIGHT
TZOFFSETFROM:+0100
TZOFFSETTO:+0200
TZNAME:CEST
DTSTART:20260329T010000
END:DAYLIGHT
BEGIN:STANDARD
TZOFFSETFROM:+0200
TZOFFSETTO:+0100
TZNAME:CET
DTSTART:20261025T010000
END:STANDARD
END:VTIMEZONE
BEGIN:VEVENT
DTSTART;TZID=Europe/Berlin:20251021T170000
DTEND;TZID=Europe/Berlin:20251021T183000
DTSTAMP:20260421T024021
CREATED:20250831T230048Z
LAST-MODIFIED:20250904T073356Z
UID:8526-1761066000-1761071400@kalender.seniorinnen.wien
SUMMARY:AUSGEBUCHT Museum der Illusionen: Staunen erlaubt!
DESCRIPTION:Kopf verdrehen\, Spaß verstehen: Tauchen Sie ein in eine Welt voller Illusionen\, optischer Täuschungen und interaktiver Exponate! Im Museum der Illusionen ist Mitmachen ausdrücklich erwünscht. Neugier\, Staunen\, Lachen und neue Perspektiven sind garantiert. Wir machen einen unterhaltsamen Rundgang durch eine Welt voller verblüffender Räume und spielerischer Perspektivwechsel. Egal ob Ames-Raum\, Vortex-Tunnel oder der berühmte Kopf auf dem Teller: Nichts ist so\, wie es auf den ersten Blick scheint. Als besonderes Highlight wartet am Ende eine magische Überraschung auf alle Teilnehmer:innen. \nMax. 50 Teilnehmer:innen pro Termin \nAnmeldung bis 10.10. \nTel.: 01 53 222 55\nMail: info@illusionen.at \nFoto: Museum der Illusionen Wien
URL:https://kalender.seniorinnen.wien/event/museum-der-illusionen-staunen-erlaubt/2025-10-21/
LOCATION:Museum der Illusionen\, Wallnerstraße 4\, 1010 Wien\, Wallnerstraße 4\, Wien\, Wien\, 1010\, Austria
CATEGORIES:Monat der Senior:innen
ATTACH;FMTTYPE=image/jpeg:https://kalender.seniorinnen.wien/wp-content/uploads/2025/08/Senioren-5.jpg
END:VEVENT
BEGIN:VEVENT
DTSTART;TZID=Europe/Berlin:20251016T170000
DTEND;TZID=Europe/Berlin:20251016T183000
DTSTAMP:20260421T024021
CREATED:20250831T230048Z
LAST-MODIFIED:20250904T073356Z
UID:8498-1760634000-1760639400@kalender.seniorinnen.wien
SUMMARY:AUSGEBUCHT Museum der Illusionen: Staunen erlaubt!
DESCRIPTION:Kopf verdrehen\, Spaß verstehen: Tauchen Sie ein in eine Welt voller Illusionen\, optischer Täuschungen und interaktiver Exponate! Im Museum der Illusionen ist Mitmachen ausdrücklich erwünscht. Neugier\, Staunen\, Lachen und neue Perspektiven sind garantiert. Wir machen einen unterhaltsamen Rundgang durch eine Welt voller verblüffender Räume und spielerischer Perspektivwechsel. Egal ob Ames-Raum\, Vortex-Tunnel oder der berühmte Kopf auf dem Teller: Nichts ist so\, wie es auf den ersten Blick scheint. Als besonderes Highlight wartet am Ende eine magische Überraschung auf alle Teilnehmer:innen. \nMax. 50 Teilnehmer:innen pro Termin \nAnmeldung bis 10.10. \nTel.: 01 53 222 55\nMail: info@illusionen.at \nFoto: Museum der Illusionen Wien
URL:https://kalender.seniorinnen.wien/event/museum-der-illusionen-staunen-erlaubt/2025-10-16/
LOCATION:Museum der Illusionen\, Wallnerstraße 4\, 1010 Wien\, Wallnerstraße 4\, Wien\, Wien\, 1010\, Austria
CATEGORIES:Monat der Senior:innen
ATTACH;FMTTYPE=image/jpeg:https://kalender.seniorinnen.wien/wp-content/uploads/2025/08/Senioren-5.jpg
END:VEVENT
END:VCALENDAR