BEGIN:VCALENDAR
VERSION:2.0
PRODID:-//Wien für Senior:innen - ECPv6.15.17.1//NONSGML v1.0//EN
CALSCALE:GREGORIAN
METHOD:PUBLISH
X-ORIGINAL-URL:https://kalender.seniorinnen.wien
X-WR-CALDESC:Veranstaltungen für Wien für Senior:innen
REFRESH-INTERVAL;VALUE=DURATION:PT1H
X-Robots-Tag:noindex
X-PUBLISHED-TTL:PT1H
BEGIN:VTIMEZONE
TZID:Europe/Berlin
BEGIN:DAYLIGHT
TZOFFSETFROM:+0100
TZOFFSETTO:+0200
TZNAME:CEST
DTSTART:20250330T010000
END:DAYLIGHT
BEGIN:STANDARD
TZOFFSETFROM:+0200
TZOFFSETTO:+0100
TZNAME:CET
DTSTART:20251026T010000
END:STANDARD
BEGIN:DAYLIGHT
TZOFFSETFROM:+0100
TZOFFSETTO:+0200
TZNAME:CEST
DTSTART:20260329T010000
END:DAYLIGHT
BEGIN:STANDARD
TZOFFSETFROM:+0200
TZOFFSETTO:+0100
TZNAME:CET
DTSTART:20261025T010000
END:STANDARD
BEGIN:DAYLIGHT
TZOFFSETFROM:+0100
TZOFFSETTO:+0200
TZNAME:CEST
DTSTART:20270328T010000
END:DAYLIGHT
BEGIN:STANDARD
TZOFFSETFROM:+0200
TZOFFSETTO:+0100
TZNAME:CET
DTSTART:20271031T010000
END:STANDARD
END:VTIMEZONE
BEGIN:VEVENT
DTSTART;TZID=Europe/Berlin:20260511T131500
DTEND;TZID=Europe/Berlin:20260511T151500
DTSTAMP:20260421T113356
CREATED:20260407T092325Z
LAST-MODIFIED:20260407T092325Z
UID:12522-1778505300-1778512500@kalender.seniorinnen.wien
SUMMARY:Euro Day Cruise: Oldies Special
DESCRIPTION:Montag\, 11. Mai 2026\, 13:15 bis 15:15 Uhr\nReichsbrücke\, Handelskai 265\, Anlegestelle Nr. 6\n \nFür alle Fans der Musik von Udo Jürgens\, Johnny Logan\, Nicole\, Vicky Leandros bis ABBA und vielen mehr \nhttps://ddsg-blue-danube.at/euro-day-cruise/\nSHOP – EURO DAY CRUISE – OLDIES SPECIAL \nEURO DAY CRUISE – OLDIES SPECIAL \n\nSchifffahrt mit 100% Songs vom Grand Prix de la Chanson/Eurovision Song Contest auf der Donau mit einem internationalen DJ an Bord\nMS Vienna\nAbfahrtsort: Reichsbrücke\, Handelskai 265\, Anlegestelle Nr. 6\nDauer: 2 Stunden\nPreis: 42 Euro inkl. Schifffahrt und DJ\nAn Bord verfügbar: Getränke und Snacks à-la-carte\nPerfekt für alle\, die tagsüber Party-Feeling zu Eurovisions-Hits aus den 60er\, 70er\, 80er\, 90er Jahren\nBuchbar: https://ddsg-blue-danube.at/euro-day-cruise/\nE-Mail\, Telefon oder Ticketschalter\n\nAchtung: Da wir etwas mehr Platz zum Tanzen haben werden\, Sitzplätze nur in begrenzter Anzahl verfügbar \nFoto: DDSG
URL:https://kalender.seniorinnen.wien/event/euro-day-cruise-oldies-special/
LOCATION:MS Vienna\, Handelskai 265\, Wien\, Wien\, 1020\, Austria
CATEGORIES:Begegnung,Unterhaltung
ATTACH;FMTTYPE=image/jpeg:https://kalender.seniorinnen.wien/wp-content/uploads/2026/04/09baadda-3c20-446a-95e6-e2f7f9616f0f.jpg
END:VEVENT
END:VCALENDAR