BEGIN:VCALENDAR
VERSION:2.0
PRODID:-//Wien für Senior:innen - ECPv6.15.17.1//NONSGML v1.0//EN
CALSCALE:GREGORIAN
METHOD:PUBLISH
X-WR-CALNAME:Wien für Senior:innen
X-ORIGINAL-URL:https://kalender.seniorinnen.wien
X-WR-CALDESC:Veranstaltungen für Wien für Senior:innen
REFRESH-INTERVAL;VALUE=DURATION:PT1H
X-Robots-Tag:noindex
X-PUBLISHED-TTL:PT1H
BEGIN:VTIMEZONE
TZID:Europe/Berlin
BEGIN:DAYLIGHT
TZOFFSETFROM:+0100
TZOFFSETTO:+0200
TZNAME:CEST
DTSTART:20240331T010000
END:DAYLIGHT
BEGIN:STANDARD
TZOFFSETFROM:+0200
TZOFFSETTO:+0100
TZNAME:CET
DTSTART:20241027T010000
END:STANDARD
BEGIN:DAYLIGHT
TZOFFSETFROM:+0100
TZOFFSETTO:+0200
TZNAME:CEST
DTSTART:20250330T010000
END:DAYLIGHT
BEGIN:STANDARD
TZOFFSETFROM:+0200
TZOFFSETTO:+0100
TZNAME:CET
DTSTART:20251026T010000
END:STANDARD
BEGIN:DAYLIGHT
TZOFFSETFROM:+0100
TZOFFSETTO:+0200
TZNAME:CEST
DTSTART:20260329T010000
END:DAYLIGHT
BEGIN:STANDARD
TZOFFSETFROM:+0200
TZOFFSETTO:+0100
TZNAME:CET
DTSTART:20261025T010000
END:STANDARD
END:VTIMEZONE
BEGIN:VEVENT
DTSTART;TZID=Europe/Berlin:20251013T140000
DTEND;TZID=Europe/Berlin:20251013T150000
DTSTAMP:20260421T011402
CREATED:20250831T231017Z
LAST-MODIFIED:20250826T095832Z
UID:8994-1760364000-1760367600@kalender.seniorinnen.wien
SUMMARY:Neue archäologische Ergebnisse aus Wien
DESCRIPTION:Die archäologischen Forschungsergebnisse der letzten Jahre werfen ein ganz neues Licht auf verschiedenste historische Fragestellungen von den Römern bis ins Mittelalter. Im Rahmen einer Führung werden die neusten Grabungs- und Forschungsergebnisse präsentiert und die dahinterstehende Forschungsarbeit und methodischen Grundlagen beleuchtet. \nAnmeldung:\nE-Mail: ingeborg.gaisbauer@stadtarchaeologie.at \nTreffpunkt:\nMichaelerplatz\, vor dem Eingang der Michaelerkirche \nFoto: Bild von andreas N auf Pixabay
URL:https://kalender.seniorinnen.wien/event/neue-archaeologische-ergebnisse-aus-wien/
LOCATION:Michaelerplatz\, Michaelerplatz 1\, Wien\, 1010
CATEGORIES:Kunst und Kultur,Monat der Senior:innen
ATTACH;FMTTYPE=image/jpeg:https://kalender.seniorinnen.wien/wp-content/uploads/2025/08/vienna-1533722_1920.jpg
ORGANIZER;CN="Stadtarch%C3%A4ologie":MAILTO:office@stadtarchaeologie.at
END:VEVENT
END:VCALENDAR